Workbook

Sheet ARCO
B6: A R C O - N I V E L I ( B A N C A 1 )
B7: SUB 09 FEMININO | E7: PONTUAÇÃO ESCOLA: | F7: SIM | O7: CLASSIFICAÇÃO FINAL
B8: NOMES | C8: ESCOLA | D8: FILIAL / TURMA | E8: NOTA | O8: CLASSIFICAÇÃO | P8: NOMES | Q8: ESCOLA | R8: NOTA | S8: PONTUAÇÃO ALUNO | T8: PONTUAÇÃO ESCOLA
C9: =IF(B9="","",VLOOKUP(B9,LISTAS!$F$5:$I$204,2,0)) | D9: =IF(B9="","",VLOOKUP(B9,LISTAS!$F$5:$I$204,4,0)) | G9: =IF(E9="","",E9+(ROW(E9)/10000)) | H9: =IF($K9="","",IF(B9="","",B9)) | I9: =IF($K9="","",IF(C9="","",C9)) | J9: =IF($K9="","",E9) | K9: =G9 | L9: =IF(K9="","",LARGE(G9:G28,M9)) | M9: 1 | O9: =IF(R9<>"",_xlfn.RANK.EQ(R9,R9:R28,0),"") | P9: =IF(K9="","",VLOOKUP(L9,G9:J28,2,0)) | Q9: =IF(K9="","",VLOOKUP(P9,LISTAS!$F$5:$G$407,2,0)) | R9: =IF(K9="","",VLOOKUP(L9,G9:J28,4,0)) | S9: =IF($O9="","",IF($O9=1,400,IF($O9=2,340,IF($O9=3,300,IF($O9=4,280,IF($O9=5,270,IF($O9=6,260,IF($O9=7,250,IF($O9=8,240,IF($O9=9,200,IF($O9=10,200,IF($O9=11,200,IF($O9=12,200,IF($O9=13,200,IF($O9=14,200,IF($O9=15,200,IF($O9=16,200,IF($O9>16,"","")))))))))))))))))) | T9: =IF(O9="","",IF($F$7="NÃO","",IF(O9=1,400,IF(O9=2,340,IF(O9=3,300,IF(O9=4,280,IF(O9=5,270,IF(O9=6,260,IF(O9=7,250,IF(O9=8,240,IF(O9=9,200,IF(O9=10,200,IF(O9=11,200,IF(O9=12,200,IF(O9=13,200,IF(O9=14,200,IF(O9=15,200,IF(O9=16,200,IF(O9>16,"","")))))))))))))))))))
C10: =IF(B10="","",VLOOKUP(B10,LISTAS!$F$5:$I$204,2,0)) | D10: =IF(B10="","",VLOOKUP(B10,LISTAS!$F$5:$I$204,4,0)) | G10: =IF(E10="","",E10+(ROW(E10)/10000)) | H10: =IF($K10="","",IF(B10="","",B10)) | I10: =IF($K10="","",IF(C10="","",C10)) | J10: =IF($K10="","",E10) | K10: =G10 | L10: =IF(K10="","",LARGE(G9:G28,M10)) | M10: 2 | O10: =IF(R10<>"",_xlfn.RANK.EQ(R10,R9:R28,0),"") | P10: =IF(K10="","",VLOOKUP(L10,G9:J28,2,0)) | Q10: =IF(K10="","",VLOOKUP(P10,LISTAS!$F$5:$G$407,2,0)) | R10: =IF(K10="","",VLOOKUP(L10,G9:J28,4,0)) | S10: =IF($O10="","",IF($O10=1,400,IF($O10=2,340,IF($O10=3,300,IF($O10=4,280,IF($O10=5,270,IF($O10=6,260,IF($O10=7,250,IF($O10=8,240,IF($O10=9,200,IF($O10=10,200,IF($O10=11,200,IF($O10=12,200,IF($O10=13,200,IF($O10=14,200,IF($O10=15,200,IF($O10=16,200,IF($O10>16,"","")))))))))))))))))) | T10: =IF(O10="","",IF($F$7="NÃO","",IF(O10=1,400,IF(O10=2,340,IF(O10=3,300,IF(O10=4,280,IF(O10=5,270,IF(O10=6,260,IF(O10=7,250,IF(O10=8,240,IF(O10=9,200,IF(O10=10,200,IF(O10=11,200,IF(O10=12,200,IF(O10=13,200,IF(O10=14,200,IF(O10=15,200,IF(O10=16,200,IF(O10>16,"","")))))))))))))))))))
C11: =IF(B11="","",VLOOKUP(B11,LISTAS!$F$5:$I$204,2,0)) | D11: =IF(B11="","",VLOOKUP(B11,LISTAS!$F$5:$I$204,4,0)) | G11: =IF(E11="","",E11+(ROW(E11)/10000)) | H11: =IF($K11="","",IF(B11="","",B11)) | I11: =IF($K11="","",IF(C11="","",C11)) | J11: =IF($K11="","",E11) | K11: =G11 | L11: =IF(K11="","",LARGE(G9:G28,M11)) | M11: 3 | O11: =IF(R11<>"",_xlfn.RANK.EQ(R11,R9:R28,0),"") | P11: =IF(K11="","",VLOOKUP(L11,G9:J28,2,0)) | Q11: =IF(K11="","",VLOOKUP(P11,LISTAS!$F$5:$G$407,2,0)) | R11: =IF(K11="","",VLOOKUP(L11,G9:J28,4,0)) | S11: =IF($O11="","",IF($O11=1,400,IF($O11=2,340,IF($O11=3,300,IF($O11=4,280,IF($O11=5,270,IF($O11=6,260,IF($O11=7,250,IF($O11=8,240,IF($O11=9,200,IF($O11=10,200,IF($O11=11,200,IF($O11=12,200,IF($O11=13,200,IF($O11=14,200,IF($O11=15,200,IF($O11=16,200,IF($O11>16,"","")))))))))))))))))) | T11: =IF(O11="","",IF($F$7="NÃO","",IF(O11=1,400,IF(O11=2,340,IF(O11=3,300,IF(O11=4,280,IF(O11=5,270,IF(O11=6,260,IF(O11=7,250,IF(O11=8,240,IF(O11=9,200,IF(O11=10,200,IF(O11=11,200,IF(O11=12,200,IF(O11=13,200,IF(O11=14,200,IF(O11=15,200,IF(O11=16,200,IF(O11>16,"","")))))))))))))))))))
C12: =IF(B12="","",VLOOKUP(B12,LISTAS!$F$5:$I$204,2,0)) | D12: =IF(B12="","",VLOOKUP(B12,LISTAS!$F$5:$I$204,4,0)) | G12: =IF(E12="","",E12+(ROW(E12)/10000)) | H12: =IF($K12="","",IF(B12="","",B12)) | I12: =IF($K12="","",IF(C12="","",C12)) | J12: =IF($K12="","",E12) | K12: =G12 | L12: =IF(K12="","",LARGE(G9:G28,M12)) | M12: 4 | O12: =IF(R12<>"",_xlfn.RANK.EQ(R12,R9:R28,0),"") | P12: =IF(K12="","",VLOOKUP(L12,G9:J28,2,0)) | Q12: =IF(K12="","",VLOOKUP(P12,LISTAS!$F$5:$G$407,2,0)) | R12: =IF(K12="","",VLOOKUP(L12,G9:J28,4,0)) | S12: =IF($O12="","",IF($O12=1,400,IF($O12=2,340,IF($O12=3,300,IF($O12=4,280,IF($O12=5,270,IF($O12=6,260,IF($O12=7,250,IF($O12=8,240,IF($O12=9,200,IF($O12=10,200,IF($O12=11,200,IF($O12=12,200,IF($O12=13,200,IF($O12=14,200,IF($O12=15,200,IF($O12=16,200,IF($O12>16,"","")))))))))))))))))) | T12: =IF(O12="","",IF($F$7="NÃO","",IF(O12=1,400,IF(O12=2,340,IF(O12=3,300,IF(O12=4,280,IF(O12=5,270,IF(O12=6,260,IF(O12=7,250,IF(O12=8,240,IF(O12=9,200,IF(O12=10,200,IF(O12=11,200,IF(O12=12,200,IF(O12=13,200,IF(O12=14,200,IF(O12=15,200,IF(O12=16,200,IF(O12>16,"","")))))))))))))))))))
C13: =IF(B13="","",VLOOKUP(B13,LISTAS!$F$5:$I$204,2,0)) | D13: =IF(B13="","",VLOOKUP(B13,LISTAS!$F$5:$I$204,4,0)) | G13: =IF(E13="","",E13+(ROW(E13)/10000)) | H13: =IF($K13="","",IF(B13="","",B13)) | I13: =IF($K13="","",IF(C13="","",C13)) | J13: =IF($K13="","",E13) | K13: =G13 | L13: =IF(K13="","",LARGE(G9:G28,M13)) | M13: 5 | O13: =IF(R13<>"",_xlfn.RANK.EQ(R13,R9:R28,0),"") | P13: =IF(K13="","",VLOOKUP(L13,G9:J28,2,0)) | Q13: =IF(K13="","",VLOOKUP(P13,LISTAS!$F$5:$G$407,2,0)) | R13: =IF(K13="","",VLOOKUP(L13,G9:J28,4,0)) | S13: =IF($O13="","",IF($O13=1,400,IF($O13=2,340,IF($O13=3,300,IF($O13=4,280,IF($O13=5,270,IF($O13=6,260,IF($O13=7,250,IF($O13=8,240,IF($O13=9,200,IF($O13=10,200,IF($O13=11,200,IF($O13=12,200,IF($O13=13,200,IF($O13=14,200,IF($O13=15,200,IF($O13=16,200,IF($O13>16,"","")))))))))))))))))) | T13: =IF(O13="","",IF($F$7="NÃO","",IF(O13=1,400,IF(O13=2,340,IF(O13=3,300,IF(O13=4,280,IF(O13=5,270,IF(O13=6,260,IF(O13=7,250,IF(O13=8,240,IF(O13=9,200,IF(O13=10,200,IF(O13=11,200,IF(O13=12,200,IF(O13=13,200,IF(O13=14,200,IF(O13=15,200,IF(O13=16,200,IF(O13>16,"","")))))))))))))))))))
C14: =IF(B14="","",VLOOKUP(B14,LISTAS!$F$5:$I$204,2,0)) | D14: =IF(B14="","",VLOOKUP(B14,LISTAS!$F$5:$I$204,4,0)) | G14: =IF(E14="","",E14+(ROW(E14)/10000)) | H14: =IF($K14="","",IF(B14="","",B14)) | I14: =IF($K14="","",IF(C14="","",C14)) | J14: =IF($K14="","",E14) | K14: =G14 | L14: =IF(K14="","",LARGE(G9:G28,M14)) | M14: 6 | O14: =IF(R14<>"",_xlfn.RANK.EQ(R14,R9:R28,0),"") | P14: =IF(K14="","",VLOOKUP(L14,G9:J28,2,0)) | Q14: =IF(K14="","",VLOOKUP(P14,LISTAS!$F$5:$G$407,2,0)) | R14: =IF(K14="","",VLOOKUP(L14,G9:J28,4,0)) | S14: =IF($O14="","",IF($O14=1,400,IF($O14=2,340,IF($O14=3,300,IF($O14=4,280,IF($O14=5,270,IF($O14=6,260,IF($O14=7,250,IF($O14=8,240,IF($O14=9,200,IF($O14=10,200,IF($O14=11,200,IF($O14=12,200,IF($O14=13,200,IF($O14=14,200,IF($O14=15,200,IF($O14=16,200,IF($O14>16,"","")))))))))))))))))) | T14: =IF(O14="","",IF($F$7="NÃO","",IF(O14=1,400,IF(O14=2,340,IF(O14=3,300,IF(O14=4,280,IF(O14=5,270,IF(O14=6,260,IF(O14=7,250,IF(O14=8,240,IF(O14=9,200,IF(O14=10,200,IF(O14=11,200,IF(O14=12,200,IF(O14=13,200,IF(O14=14,200,IF(O14=15,200,IF(O14=16,200,IF(O14>16,"","")))))))))))))))))))
C15: =IF(B15="","",VLOOKUP(B15,LISTAS!$F$5:$I$204,2,0)) | D15: =IF(B15="","",VLOOKUP(B15,LISTAS!$F$5:$I$204,4,0)) | G15: =IF(E15="","",E15+(ROW(E15)/10000)) | H15: =IF($K15="","",IF(B15="","",B15)) | I15: =IF($K15="","",IF(C15="","",C15)) | J15: =IF($K15="","",E15) | K15: =G15 | L15: =IF(K15="","",LARGE(G9:G28,M15)) | M15: 7 | O15: =IF(R15<>"",_xlfn.RANK.EQ(R15,R9:R28,0),"") | P15: =IF(K15="","",VLOOKUP(L15,G9:J28,2,0)) | Q15: =IF(K15="","",VLOOKUP(P15,LISTAS!$F$5:$G$407,2,0)) | R15: =IF(K15="","",VLOOKUP(L15,G9:J28,4,0)) | S15: =IF($O15="","",IF($O15=1,400,IF($O15=2,340,IF($O15=3,300,IF($O15=4,280,IF($O15=5,270,IF($O15=6,260,IF($O15=7,250,IF($O15=8,240,IF($O15=9,200,IF($O15=10,200,IF($O15=11,200,IF($O15=12,200,IF($O15=13,200,IF($O15=14,200,IF($O15=15,200,IF($O15=16,200,IF($O15>16,"","")))))))))))))))))) | T15: =IF(O15="","",IF($F$7="NÃO","",IF(O15=1,400,IF(O15=2,340,IF(O15=3,300,IF(O15=4,280,IF(O15=5,270,IF(O15=6,260,IF(O15=7,250,IF(O15=8,240,IF(O15=9,200,IF(O15=10,200,IF(O15=11,200,IF(O15=12,200,IF(O15=13,200,IF(O15=14,200,IF(O15=15,200,IF(O15=16,200,IF(O15>16,"","")))))))))))))))))))
C16: =IF(B16="","",VLOOKUP(B16,LISTAS!$F$5:$I$204,2,0)) | D16: =IF(B16="","",VLOOKUP(B16,LISTAS!$F$5:$I$204,4,0)) | L16: =IF(K16="","",LARGE(G9:G28,M16)) | M16: 8 | O16: =IF(R16<>"",_xlfn.RANK.EQ(R16,R9:R28,0),"") | P16: =IF(K16="","",VLOOKUP(L16,G9:J28,2,0)) | Q16: =IF(K16="","",VLOOKUP(P16,LISTAS!$F$5:$G$407,2,0)) | R16: =IF(K16="","",VLOOKUP(L16,G9:J28,4,0)) | S16: =IF($O16="","",IF($O16=1,400,IF($O16=2,340,IF($O16=3,300,IF($O16=4,280,IF($O16=5,270,IF($O16=6,260,IF($O16=7,250,IF($O16=8,240,IF($O16=9,200,IF($O16=10,200,IF($O16=11,200,IF($O16=12,200,IF($O16=13,200,IF($O16=14,200,IF($O16=15,200,IF($O16=16,200,IF($O16>16,"","")))))))))))))))))) | T16: =IF(O16="","",IF($F$7="NÃO","",IF(O16=1,400,IF(O16=2,340,IF(O16=3,300,IF(O16=4,280,IF(O16=5,270,IF(O16=6,260,IF(O16=7,250,IF(O16=8,240,IF(O16=9,200,IF(O16=10,200,IF(O16=11,200,IF(O16=12,200,IF(O16=13,200,IF(O16=14,200,IF(O16=15,200,IF(O16=16,200,IF(O16>16,"","")))))))))))))))))))
C17: =IF(B17="","",VLOOKUP(B17,LISTAS!$F$5:$I$204,2,0)) | D17: =IF(B17="","",VLOOKUP(B17,LISTAS!$F$5:$I$204,4,0)) | L17: =IF(K17="","",LARGE(G9:G28,M17)) | M17: 9 | O17: =IF(R17<>"",_xlfn.RANK.EQ(R17,R9:R28,0),"") | P17: =IF(K17="","",VLOOKUP(L17,G9:J28,2,0)) | Q17: =IF(K17="","",VLOOKUP(P17,LISTAS!$F$5:$G$407,2,0)) | R17: =IF(K17="","",VLOOKUP(L17,G9:J28,4,0)) | S17: =IF($O17="","",IF($O17=1,400,IF($O17=2,340,IF($O17=3,300,IF($O17=4,280,IF($O17=5,270,IF($O17=6,260,IF($O17=7,250,IF($O17=8,240,IF($O17=9,200,IF($O17=10,200,IF($O17=11,200,IF($O17=12,200,IF($O17=13,200,IF($O17=14,200,IF($O17=15,200,IF($O17=16,200,IF($O17>16,"","")))))))))))))))))) | T17: =IF(O17="","",IF($F$7="NÃO","",IF(O17=1,400,IF(O17=2,340,IF(O17=3,300,IF(O17=4,280,IF(O17=5,270,IF(O17=6,260,IF(O17=7,250,IF(O17=8,240,IF(O17=9,200,IF(O17=10,200,IF(O17=11,200,IF(O17=12,200,IF(O17=13,200,IF(O17=14,200,IF(O17=15,200,IF(O17=16,200,IF(O17>16,"","")))))))))))))))))))
C18: =IF(B18="","",VLOOKUP(B18,LISTAS!$F$5:$I$204,2,0)) | D18: =IF(B18="","",VLOOKUP(B18,LISTAS!$F$5:$I$204,4,0)) | L18: =IF(K18="","",LARGE(G9:G28,M18)) | M18: 10 | O18: =IF(R18<>"",_xlfn.RANK.EQ(R18,R9:R28,0),"") | P18: =IF(K18="","",VLOOKUP(L18,G9:J28,2,0)) | Q18: =IF(K18="","",VLOOKUP(P18,LISTAS!$F$5:$G$407,2,0)) | R18: =IF(K18="","",VLOOKUP(L18,G9:J28,4,0)) | S18: =IF($O18="","",IF($O18=1,400,IF($O18=2,340,IF($O18=3,300,IF($O18=4,280,IF($O18=5,270,IF($O18=6,260,IF($O18=7,250,IF($O18=8,240,IF($O18=9,200,IF($O18=10,200,IF($O18=11,200,IF($O18=12,200,IF($O18=13,200,IF($O18=14,200,IF($O18=15,200,IF($O18=16,200,IF($O18>16,"","")))))))))))))))))) | T18: =IF(O18="","",IF($F$7="NÃO","",IF(O18=1,400,IF(O18=2,340,IF(O18=3,300,IF(O18=4,280,IF(O18=5,270,IF(O18=6,260,IF(O18=7,250,IF(O18=8,240,IF(O18=9,200,IF(O18=10,200,IF(O18=11,200,IF(O18=12,200,IF(O18=13,200,IF(O18=14,200,IF(O18=15,200,IF(O18=16,200,IF(O18>16,"","")))))))))))))))))))
C19: =IF(B19="","",VLOOKUP(B19,LISTAS!$F$5:$I$204,2,0)) | D19: =IF(B19="","",VLOOKUP(B19,LISTAS!$F$5:$I$204,4,0)) | L19: =IF(K19="","",LARGE(G9:G28,M19)) | M19: 11 | O19: =IF(R19<>"",_xlfn.RANK.EQ(R19,R9:R28,0),"") | P19: =IF(K19="","",VLOOKUP(L19,G9:J28,2,0)) | Q19: =IF(K19="","",VLOOKUP(P19,LISTAS!$F$5:$G$407,2,0)) | R19: =IF(K19="","",VLOOKUP(L19,G9:J28,4,0)) | S19: =IF($O19="","",IF($O19=1,400,IF($O19=2,340,IF($O19=3,300,IF($O19=4,280,IF($O19=5,270,IF($O19=6,260,IF($O19=7,250,IF($O19=8,240,IF($O19=9,200,IF($O19=10,200,IF($O19=11,200,IF($O19=12,200,IF($O19=13,200,IF($O19=14,200,IF($O19=15,200,IF($O19=16,200,IF($O19>16,"","")))))))))))))))))) | T19: =IF(O19="","",IF($F$7="NÃO","",IF(O19=1,400,IF(O19=2,340,IF(O19=3,300,IF(O19=4,280,IF(O19=5,270,IF(O19=6,260,IF(O19=7,250,IF(O19=8,240,IF(O19=9,200,IF(O19=10,200,IF(O19=11,200,IF(O19=12,200,IF(O19=13,200,IF(O19=14,200,IF(O19=15,200,IF(O19=16,200,IF(O19>16,"","")))))))))))))))))))
C20: =IF(B20="","",VLOOKUP(B20,LISTAS!$F$5:$I$204,2,0)) | D20: =IF(B20="","",VLOOKUP(B20,LISTAS!$F$5:$I$204,4,0)) | L20: =IF(K20="","",LARGE(G9:G28,M20)) | M20: 12 | O20: =IF(R20<>"",_xlfn.RANK.EQ(R20,R9:R28,0),"") | P20: =IF(K20="","",VLOOKUP(L20,G9:J28,2,0)) | Q20: =IF(K20="","",VLOOKUP(P20,LISTAS!$F$5:$G$407,2,0)) | R20: =IF(K20="","",VLOOKUP(L20,G9:J28,4,0)) | S20: =IF($O20="","",IF($O20=1,400,IF($O20=2,340,IF($O20=3,300,IF($O20=4,280,IF($O20=5,270,IF($O20=6,260,IF($O20=7,250,IF($O20=8,240,IF($O20=9,200,IF($O20=10,200,IF($O20=11,200,IF($O20=12,200,IF($O20=13,200,IF($O20=14,200,IF($O20=15,200,IF($O20=16,200,IF($O20>16,"","")))))))))))))))))) | T20: =IF(O20="","",IF($F$7="NÃO","",IF(O20=1,400,IF(O20=2,340,IF(O20=3,300,IF(O20=4,280,IF(O20=5,270,IF(O20=6,260,IF(O20=7,250,IF(O20=8,240,IF(O20=9,200,IF(O20=10,200,IF(O20=11,200,IF(O20=12,200,IF(O20=13,200,IF(O20=14,200,IF(O20=15,200,IF(O20=16,200,IF(O20>16,"","")))))))))))))))))))
C21: =IF(B21="","",VLOOKUP(B21,LISTAS!$F$5:$I$204,2,0)) | D21: =IF(B21="","",VLOOKUP(B21,LISTAS!$F$5:$I$204,4,0)) | L21: =IF(K21="","",LARGE(G9:G28,M21)) | M21: 13 | O21: =IF(R21<>"",_xlfn.RANK.EQ(R21,R9:R28,0),"") | P21: =IF(K21="","",VLOOKUP(L21,G9:J28,2,0)) | Q21: =IF(K21="","",VLOOKUP(P21,LISTAS!$F$5:$G$407,2,0)) | R21: =IF(K21="","",VLOOKUP(L21,G9:J28,4,0)) | S21: =IF($O21="","",IF($O21=1,400,IF($O21=2,340,IF($O21=3,300,IF($O21=4,280,IF($O21=5,270,IF($O21=6,260,IF($O21=7,250,IF($O21=8,240,IF($O21=9,200,IF($O21=10,200,IF($O21=11,200,IF($O21=12,200,IF($O21=13,200,IF($O21=14,200,IF($O21=15,200,IF($O21=16,200,IF($O21>16,"","")))))))))))))))))) | T21: =IF(O21="","",IF($F$7="NÃO","",IF(O21=1,400,IF(O21=2,340,IF(O21=3,300,IF(O21=4,280,IF(O21=5,270,IF(O21=6,260,IF(O21=7,250,IF(O21=8,240,IF(O21=9,200,IF(O21=10,200,IF(O21=11,200,IF(O21=12,200,IF(O21=13,200,IF(O21=14,200,IF(O21=15,200,IF(O21=16,200,IF(O21>16,"","")))))))))))))))))))
C22: =IF(B22="","",VLOOKUP(B22,LISTAS!$F$5:$I$204,2,0)) | D22: =IF(B22="","",VLOOKUP(B22,LISTAS!$F$5:$I$204,4,0)) | L22: =IF(K22="","",LARGE(G9:G28,M22)) | M22: 14 | O22: =IF(R22<>"",_xlfn.RANK.EQ(R22,R9:R28,0),"") | P22: =IF(K22="","",VLOOKUP(L22,G9:J28,2,0)) | Q22: =IF(K22="","",VLOOKUP(P22,LISTAS!$F$5:$G$407,2,0)) | R22: =IF(K22="","",VLOOKUP(L22,G9:J28,4,0)) | S22: =IF($O22="","",IF($O22=1,400,IF($O22=2,340,IF($O22=3,300,IF($O22=4,280,IF($O22=5,270,IF($O22=6,260,IF($O22=7,250,IF($O22=8,240,IF($O22=9,200,IF($O22=10,200,IF($O22=11,200,IF($O22=12,200,IF($O22=13,200,IF($O22=14,200,IF($O22=15,200,IF($O22=16,200,IF($O22>16,"","")))))))))))))))))) | T22: =IF(O22="","",IF($F$7="NÃO","",IF(O22=1,400,IF(O22=2,340,IF(O22=3,300,IF(O22=4,280,IF(O22=5,270,IF(O22=6,260,IF(O22=7,250,IF(O22=8,240,IF(O22=9,200,IF(O22=10,200,IF(O22=11,200,IF(O22=12,200,IF(O22=13,200,IF(O22=14,200,IF(O22=15,200,IF(O22=16,200,IF(O22>16,"","")))))))))))))))))))
C23: =IF(B23="","",VLOOKUP(B23,LISTAS!$F$5:$I$204,2,0)) | D23: =IF(B23="","",VLOOKUP(B23,LISTAS!$F$5:$I$204,4,0)) | L23: =IF(K23="","",LARGE(G9:G28,M23)) | M23: 15 | O23: =IF(R23<>"",_xlfn.RANK.EQ(R23,R9:R28,0),"") | P23: =IF(K23="","",VLOOKUP(L23,G9:J28,2,0)) | Q23: =IF(K23="","",VLOOKUP(P23,LISTAS!$F$5:$G$407,2,0)) | R23: =IF(K23="","",VLOOKUP(L23,G9:J28,4,0)) | S23: =IF($O23="","",IF($O23=1,400,IF($O23=2,340,IF($O23=3,300,IF($O23=4,280,IF($O23=5,270,IF($O23=6,260,IF($O23=7,250,IF($O23=8,240,IF($O23=9,200,IF($O23=10,200,IF($O23=11,200,IF($O23=12,200,IF($O23=13,200,IF($O23=14,200,IF($O23=15,200,IF($O23=16,200,IF($O23>16,"","")))))))))))))))))) | T23: =IF(O23="","",IF($F$7="NÃO","",IF(O23=1,400,IF(O23=2,340,IF(O23=3,300,IF(O23=4,280,IF(O23=5,270,IF(O23=6,260,IF(O23=7,250,IF(O23=8,240,IF(O23=9,200,IF(O23=10,200,IF(O23=11,200,IF(O23=12,200,IF(O23=13,200,IF(O23=14,200,IF(O23=15,200,IF(O23=16,200,IF(O23>16,"","")))))))))))))))))))
C24: =IF(B24="","",VLOOKUP(B24,LISTAS!$F$5:$I$204,2,0)) | D24: =IF(B24="","",VLOOKUP(B24,LISTAS!$F$5:$I$204,4,0)) | L24: =IF(K24="","",LARGE(G9:G28,M24)) | M24: 16 | O24: =IF(R24<>"",_xlfn.RANK.EQ(R24,R9:R28,0),"") | P24: =IF(K24="","",VLOOKUP(L24,G9:J28,2,0)) | Q24: =IF(K24="","",VLOOKUP(P24,LISTAS!$F$5:$G$407,2,0)) | R24: =IF(K24="","",VLOOKUP(L24,G9:J28,4,0)) | S24: =IF($O24="","",IF($O24=1,400,IF($O24=2,340,IF($O24=3,300,IF($O24=4,280,IF($O24=5,270,IF($O24=6,260,IF($O24=7,250,IF($O24=8,240,IF($O24=9,200,IF($O24=10,200,IF($O24=11,200,IF($O24=12,200,IF($O24=13,200,IF($O24=14,200,IF($O24=15,200,IF($O24=16,200,IF($O24>16,"","")))))))))))))))))) | T24: =IF(O24="","",IF($F$7="NÃO","",IF(O24=1,400,IF(O24=2,340,IF(O24=3,300,IF(O24=4,280,IF(O24=5,270,IF(O24=6,260,IF(O24=7,250,IF(O24=8,240,IF(O24=9,200,IF(O24=10,200,IF(O24=11,200,IF(O24=12,200,IF(O24=13,200,IF(O24=14,200,IF(O24=15,200,IF(O24=16,200,IF(O24>16,"","")))))))))))))))))))
C25: =IF(B25="","",VLOOKUP(B25,LISTAS!$F$5:$I$204,2,0)) | D25: =IF(B25="","",VLOOKUP(B25,LISTAS!$F$5:$I$204,4,0)) | G25: =IF(E25="","",E25+(ROW(E25)/10000)) | H25: =IF($K25="","",IF(B25="","",B25)) | I25: =IF($K25="","",IF(C25="","",C25)) | J25: =IF($K25="","",E25) | K25: =G25 | L25: =IF(K25="","",LARGE(G9:G28,M25)) | M25: 17 | O25: =IF(R25<>"",_xlfn.RANK.EQ(R25,R9:R28,0),"") | P25: =IF(K25="","",VLOOKUP(L25,G9:J28,2,0)) | Q25: =IF(K25="","",VLOOKUP(P25,LISTAS!$F$5:$G$407,2,0)) | R25: =IF(K25="","",VLOOKUP(L25,G9:J28,4,0)) | S25: =IF($O25="","",IF($O25=1,400,IF($O25=2,340,IF($O25=3,300,IF($O25=4,280,IF($O25=5,270,IF($O25=6,260,IF($O25=7,250,IF($O25=8,240,IF($O25=9,200,IF($O25=10,200,IF($O25=11,200,IF($O25=12,200,IF($O25=13,200,IF($O25=14,200,IF($O25=15,200,IF($O25=16,200,IF($O25>16,"","")))))))))))))))))) | T25: =IF(O25="","",IF($F$7="NÃO","",IF(O25=1,400,IF(O25=2,340,IF(O25=3,300,IF(O25=4,280,IF(O25=5,270,IF(O25=6,260,IF(O25=7,250,IF(O25=8,240,IF(O25=9,200,IF(O25=10,200,IF(O25=11,200,IF(O25=12,200,IF(O25=13,200,IF(O25=14,200,IF(O25=15,200,IF(O25=16,200,IF(O25>16,"","")))))))))))))))))))
C26: =IF(B26="","",VLOOKUP(B26,LISTAS!$F$5:$I$204,2,0)) | D26: =IF(B26="","",VLOOKUP(B26,LISTAS!$F$5:$I$204,4,0)) | G26: =IF(E26="","",E26+(ROW(E26)/10000)) | H26: =IF($K26="","",IF(B26="","",B26)) | I26: =IF($K26="","",IF(C26="","",C26)) | J26: =IF($K26="","",E26) | K26: =G26 | L26: =IF(K26="","",LARGE(G9:G28,M26)) | M26: 18 | O26: =IF(R26<>"",_xlfn.RANK.EQ(R26,R9:R28,0),"") | P26: =IF(K26="","",VLOOKUP(L26,G9:J28,2,0)) | Q26: =IF(K26="","",VLOOKUP(P26,LISTAS!$F$5:$G$407,2,0)) | R26: =IF(K26="","",VLOOKUP(L26,G9:J28,4,0)) | S26: =IF($O26="","",IF($O26=1,400,IF($O26=2,340,IF($O26=3,300,IF($O26=4,280,IF($O26=5,270,IF($O26=6,260,IF($O26=7,250,IF($O26=8,240,IF($O26=9,200,IF($O26=10,200,IF($O26=11,200,IF($O26=12,200,IF($O26=13,200,IF($O26=14,200,IF($O26=15,200,IF($O26=16,200,IF($O26>16,"","")))))))))))))))))) | T26: =IF(O26="","",IF($F$7="NÃO","",IF(O26=1,400,IF(O26=2,340,IF(O26=3,300,IF(O26=4,280,IF(O26=5,270,IF(O26=6,260,IF(O26=7,250,IF(O26=8,240,IF(O26=9,200,IF(O26=10,200,IF(O26=11,200,IF(O26=12,200,IF(O26=13,200,IF(O26=14,200,IF(O26=15,200,IF(O26=16,200,IF(O26>16,"","")))))))))))))))))))
C27: =IF(B27="","",VLOOKUP(B27,LISTAS!$F$5:$I$204,2,0)) | D27: =IF(B27="","",VLOOKUP(B27,LISTAS!$F$5:$I$204,4,0)) | L27: =IF(K27="","",LARGE(G9:G28,M27)) | M27: 19 | O27: =IF(R27<>"",_xlfn.RANK.EQ(R27,R9:R28,0),"") | P27: =IF(K27="","",VLOOKUP(L27,G9:J28,2,0)) | Q27: =IF(K27="","",VLOOKUP(P27,LISTAS!$F$5:$G$407,2,0)) | R27: =IF(K27="","",VLOOKUP(L27,G9:J28,4,0)) | S27: =IF($O27="","",IF($O27=1,400,IF($O27=2,340,IF($O27=3,300,IF($O27=4,280,IF($O27=5,270,IF($O27=6,260,IF($O27=7,250,IF($O27=8,240,IF($O27=9,200,IF($O27=10,200,IF($O27=11,200,IF($O27=12,200,IF($O27=13,200,IF($O27=14,200,IF($O27=15,200,IF($O27=16,200,IF($O27>16,"","")))))))))))))))))) | T27: =IF(O27="","",IF($F$7="NÃO","",IF(O27=1,400,IF(O27=2,340,IF(O27=3,300,IF(O27=4,280,IF(O27=5,270,IF(O27=6,260,IF(O27=7,250,IF(O27=8,240,IF(O27=9,200,IF(O27=10,200,IF(O27=11,200,IF(O27=12,200,IF(O27=13,200,IF(O27=14,200,IF(O27=15,200,IF(O27=16,200,IF(O27>16,"","")))))))))))))))))))
C28: =IF(B28="","",VLOOKUP(B28,LISTAS!$F$5:$I$204,2,0)) | D28: =IF(B28="","",VLOOKUP(B28,LISTAS!$F$5:$I$204,4,0)) | G28: =IF(E28="","",E28+(ROW(E28)/10000)) | H28: =IF($K28="","",IF(B28="","",B28)) | I28: =IF($K28="","",IF(C28="","",C28)) | J28: =IF($K28="","",E28) | K28: =G28 | L28: =IF(K28="","",LARGE(G9:G28,M28)) | M28: 20 | O28: =IF(R28<>"",_xlfn.RANK.EQ(R28,R9:R28,0),"") | P28: =IF(K28="","",VLOOKUP(L28,G9:J28,2,0)) | Q28: =IF(K28="","",VLOOKUP(P28,LISTAS!$F$5:$G$407,2,0)) | R28: =IF(K28="","",VLOOKUP(L28,G9:J28,4,0)) | S28: =IF($O28="","",IF($O28=1,400,IF($O28=2,340,IF($O28=3,300,IF($O28=4,280,IF($O28=5,270,IF($O28=6,260,IF($O28=7,250,IF($O28=8,240,IF($O28=9,200,IF($O28=10,200,IF($O28=11,200,IF($O28=12,200,IF($O28=13,200,IF($O28=14,200,IF($O28=15,200,IF($O28=16,200,IF($O28>16,"","")))))))))))))))))) | T28: =IF(O28="","",IF($F$7="NÃO","",IF(O28=1,400,IF(O28=2,340,IF(O28=3,300,IF(O28=4,280,IF(O28=5,270,IF(O28=6,260,IF(O28=7,250,IF(O28=8,240,IF(O28=9,200,IF(O28=10,200,IF(O28=11,200,IF(O28=12,200,IF(O28=13,200,IF(O28=14,200,IF(O28=15,200,IF(O28=16,200,IF(O28>16,"","")))))))))))))))))))
C29: =IF(B29="","",VLOOKUP(B29,LISTAS!$F$5:$I$204,2,0)) | D29: =IF(B29="","",VLOOKUP(B29,LISTAS!$F$5:$I$204,4,0)) | O29: =IF(R29<>"",_xlfn.RANK.EQ(R29,R10:R29,0),"") | P29: =IF(K29="","",VLOOKUP(L29,G10:J29,2,0)) | Q29: =IF(K29="","",VLOOKUP(P29,LISTAS!$F$5:$G$407,2,0)) | R29: =IF(K29="","",VLOOKUP(L29,G10:J29,4,0)) | S29: =IF($O29="","",IF($O29=1,400,IF($O29=2,340,IF($O29=3,300,IF($O29=4,280,IF($O29=5,270,IF($O29=6,260,IF($O29=7,250,IF($O29=8,240,IF($O29=9,200,IF($O29=10,200,IF($O29=11,200,IF($O29=12,200,IF($O29=13,200,IF($O29=14,200,IF($O29=15,200,IF($O29=16,200,IF($O29>16,"","")))))))))))))))))) | T29: =IF(O29="","",IF($F$7="NÃO","",IF(O29=1,400,IF(O29=2,340,IF(O29=3,300,IF(O29=4,280,IF(O29=5,270,IF(O29=6,260,IF(O29=7,250,IF(O29=8,240,IF(O29=9,200,IF(O29=10,200,IF(O29=11,200,IF(O29=12,200,IF(O29=13,200,IF(O29=14,200,IF(O29=15,200,IF(O29=16,200,IF(O29>16,"","")))))))))))))))))))
C30: =IF(B30="","",VLOOKUP(B30,LISTAS!$F$5:$I$204,2,0)) | D30: =IF(B30="","",VLOOKUP(B30,LISTAS!$F$5:$I$204,4,0)) | O30: =IF(R30<>"",_xlfn.RANK.EQ(R30,R11:R30,0),"") | P30: =IF(K30="","",VLOOKUP(L30,G11:J30,2,0)) | Q30: =IF(K30="","",VLOOKUP(P30,LISTAS!$F$5:$G$407,2,0)) | R30: =IF(K30="","",VLOOKUP(L30,G11:J30,4,0)) | S30: =IF($O30="","",IF($O30=1,400,IF($O30=2,340,IF($O30=3,300,IF($O30=4,280,IF($O30=5,270,IF($O30=6,260,IF($O30=7,250,IF($O30=8,240,IF($O30=9,200,IF($O30=10,200,IF($O30=11,200,IF($O30=12,200,IF($O30=13,200,IF($O30=14,200,IF($O30=15,200,IF($O30=16,200,IF($O30>16,"","")))))))))))))))))) | T30: =IF(O30="","",IF($F$7="NÃO","",IF(O30=1,400,IF(O30=2,340,IF(O30=3,300,IF(O30=4,280,IF(O30=5,270,IF(O30=6,260,IF(O30=7,250,IF(O30=8,240,IF(O30=9,200,IF(O30=10,200,IF(O30=11,200,IF(O30=12,200,IF(O30=13,200,IF(O30=14,200,IF(O30=15,200,IF(O30=16,200,IF(O30>16,"","")))))))))))))))))))
C31: =IF(B31="","",VLOOKUP(B31,LISTAS!$F$5:$I$204,2,0)) | D31: =IF(B31="","",VLOOKUP(B31,LISTAS!$F$5:$I$204,4,0)) | O31: =IF(R31<>"",_xlfn.RANK.EQ(R31,R12:R31,0),"") | P31: =IF(K31="","",VLOOKUP(L31,G12:J31,2,0)) | Q31: =IF(K31="","",VLOOKUP(P31,LISTAS!$F$5:$G$407,2,0)) | R31: =IF(K31="","",VLOOKUP(L31,G12:J31,4,0)) | S31: =IF($O31="","",IF($O31=1,400,IF($O31=2,340,IF($O31=3,300,IF($O31=4,280,IF($O31=5,270,IF($O31=6,260,IF($O31=7,250,IF($O31=8,240,IF($O31=9,200,IF($O31=10,200,IF($O31=11,200,IF($O31=12,200,IF($O31=13,200,IF($O31=14,200,IF($O31=15,200,IF($O31=16,200,IF($O31>16,"","")))))))))))))))))) | T31: =IF(O31="","",IF($F$7="NÃO","",IF(O31=1,400,IF(O31=2,340,IF(O31=3,300,IF(O31=4,280,IF(O31=5,270,IF(O31=6,260,IF(O31=7,250,IF(O31=8,240,IF(O31=9,200,IF(O31=10,200,IF(O31=11,200,IF(O31=12,200,IF(O31=13,200,IF(O31=14,200,IF(O31=15,200,IF(O31=16,200,IF(O31>16,"","")))))))))))))))))))
C32: =IF(B32="","",VLOOKUP(B32,LISTAS!$F$5:$I$204,2,0)) | D32: =IF(B32="","",VLOOKUP(B32,LISTAS!$F$5:$I$204,4,0)) | O32: =IF(R32<>"",_xlfn.RANK.EQ(R32,R13:R32,0),"") | P32: =IF(K32="","",VLOOKUP(L32,G13:J32,2,0)) | Q32: =IF(K32="","",VLOOKUP(P32,LISTAS!$F$5:$G$407,2,0)) | R32: =IF(K32="","",VLOOKUP(L32,G13:J32,4,0)) | S32: =IF($O32="","",IF($O32=1,400,IF($O32=2,340,IF($O32=3,300,IF($O32=4,280,IF($O32=5,270,IF($O32=6,260,IF($O32=7,250,IF($O32=8,240,IF($O32=9,200,IF($O32=10,200,IF($O32=11,200,IF($O32=12,200,IF($O32=13,200,IF($O32=14,200,IF($O32=15,200,IF($O32=16,200,IF($O32>16,"","")))))))))))))))))) | T32: =IF(O32="","",IF($F$7="NÃO","",IF(O32=1,400,IF(O32=2,340,IF(O32=3,300,IF(O32=4,280,IF(O32=5,270,IF(O32=6,260,IF(O32=7,250,IF(O32=8,240,IF(O32=9,200,IF(O32=10,200,IF(O32=11,200,IF(O32=12,200,IF(O32=13,200,IF(O32=14,200,IF(O32=15,200,IF(O32=16,200,IF(O32>16,"","")))))))))))))))))))
C33: =IF(B33="","",VLOOKUP(B33,LISTAS!$F$5:$I$204,2,0)) | D33: =IF(B33="","",VLOOKUP(B33,LISTAS!$F$5:$I$204,4,0)) | O33: =IF(R33<>"",_xlfn.RANK.EQ(R33,R14:R33,0),"") | P33: =IF(K33="","",VLOOKUP(L33,G14:J33,2,0)) | Q33: =IF(K33="","",VLOOKUP(P33,LISTAS!$F$5:$G$407,2,0)) | R33: =IF(K33="","",VLOOKUP(L33,G14:J33,4,0)) | S33: =IF($O33="","",IF($O33=1,400,IF($O33=2,340,IF($O33=3,300,IF($O33=4,280,IF($O33=5,270,IF($O33=6,260,IF($O33=7,250,IF($O33=8,240,IF($O33=9,200,IF($O33=10,200,IF($O33=11,200,IF($O33=12,200,IF($O33=13,200,IF($O33=14,200,IF($O33=15,200,IF($O33=16,200,IF($O33>16,"","")))))))))))))))))) | T33: =IF(O33="","",IF($F$7="NÃO","",IF(O33=1,400,IF(O33=2,340,IF(O33=3,300,IF(O33=4,280,IF(O33=5,270,IF(O33=6,260,IF(O33=7,250,IF(O33=8,240,IF(O33=9,200,IF(O33=10,200,IF(O33=11,200,IF(O33=12,200,IF(O33=13,200,IF(O33=14,200,IF(O33=15,200,IF(O33=16,200,IF(O33>16,"","")))))))))))))))))))
C34: =IF(B34="","",VLOOKUP(B34,LISTAS!$F$5:$I$204,2,0)) | D34: =IF(B34="","",VLOOKUP(B34,LISTAS!$F$5:$I$204,4,0)) | O34: =IF(R34<>"",_xlfn.RANK.EQ(R34,R15:R34,0),"") | P34: =IF(K34="","",VLOOKUP(L34,G15:J34,2,0)) | Q34: =IF(K34="","",VLOOKUP(P34,LISTAS!$F$5:$G$407,2,0)) | R34: =IF(K34="","",VLOOKUP(L34,G15:J34,4,0)) | S34: =IF($O34="","",IF($O34=1,400,IF($O34=2,340,IF($O34=3,300,IF($O34=4,280,IF($O34=5,270,IF($O34=6,260,IF($O34=7,250,IF($O34=8,240,IF($O34=9,200,IF($O34=10,200,IF($O34=11,200,IF($O34=12,200,IF($O34=13,200,IF($O34=14,200,IF($O34=15,200,IF($O34=16,200,IF($O34>16,"","")))))))))))))))))) | T34: =IF(O34="","",IF($F$7="NÃO","",IF(O34=1,400,IF(O34=2,340,IF(O34=3,300,IF(O34=4,280,IF(O34=5,270,IF(O34=6,260,IF(O34=7,250,IF(O34=8,240,IF(O34=9,200,IF(O34=10,200,IF(O34=11,200,IF(O34=12,200,IF(O34=13,200,IF(O34=14,200,IF(O34=15,200,IF(O34=16,200,IF(O34>16,"","")))))))))))))))))))
C35: =IF(B35="","",VLOOKUP(B35,LISTAS!$F$5:$I$204,2,0)) | D35: =IF(B35="","",VLOOKUP(B35,LISTAS!$F$5:$I$204,4,0)) | O35: =IF(R35<>"",_xlfn.RANK.EQ(R35,R16:R35,0),"") | P35: =IF(K35="","",VLOOKUP(L35,G16:J35,2,0)) | Q35: =IF(K35="","",VLOOKUP(P35,LISTAS!$F$5:$G$407,2,0)) | R35: =IF(K35="","",VLOOKUP(L35,G16:J35,4,0)) | S35: =IF($O35="","",IF($O35=1,400,IF($O35=2,340,IF($O35=3,300,IF($O35=4,280,IF($O35=5,270,IF($O35=6,260,IF($O35=7,250,IF($O35=8,240,IF($O35=9,200,IF($O35=10,200,IF($O35=11,200,IF($O35=12,200,IF($O35=13,200,IF($O35=14,200,IF($O35=15,200,IF($O35=16,200,IF($O35>16,"","")))))))))))))))))) | T35: =IF(O35="","",IF($F$7="NÃO","",IF(O35=1,400,IF(O35=2,340,IF(O35=3,300,IF(O35=4,280,IF(O35=5,270,IF(O35=6,260,IF(O35=7,250,IF(O35=8,240,IF(O35=9,200,IF(O35=10,200,IF(O35=11,200,IF(O35=12,200,IF(O35=13,200,IF(O35=14,200,IF(O35=15,200,IF(O35=16,200,IF(O35>16,"","")))))))))))))))))))
C36: =IF(B36="","",VLOOKUP(B36,LISTAS!$F$5:$I$204,2,0)) | D36: =IF(B36="","",VLOOKUP(B36,LISTAS!$F$5:$I$204,4,0)) | O36: =IF(R36<>"",_xlfn.RANK.EQ(R36,R17:R36,0),"") | P36: =IF(K36="","",VLOOKUP(L36,G17:J36,2,0)) | Q36: =IF(K36="","",VLOOKUP(P36,LISTAS!$F$5:$G$407,2,0)) | R36: =IF(K36="","",VLOOKUP(L36,G17:J36,4,0)) | S36: =IF($O36="","",IF($O36=1,400,IF($O36=2,340,IF($O36=3,300,IF($O36=4,280,IF($O36=5,270,IF($O36=6,260,IF($O36=7,250,IF($O36=8,240,IF($O36=9,200,IF($O36=10,200,IF($O36=11,200,IF($O36=12,200,IF($O36=13,200,IF($O36=14,200,IF($O36=15,200,IF($O36=16,200,IF($O36>16,"","")))))))))))))))))) | T36: =IF(O36="","",IF($F$7="NÃO","",IF(O36=1,400,IF(O36=2,340,IF(O36=3,300,IF(O36=4,280,IF(O36=5,270,IF(O36=6,260,IF(O36=7,250,IF(O36=8,240,IF(O36=9,200,IF(O36=10,200,IF(O36=11,200,IF(O36=12,200,IF(O36=13,200,IF(O36=14,200,IF(O36=15,200,IF(O36=16,200,IF(O36>16,"","")))))))))))))))))))
C37: =IF(B37="","",VLOOKUP(B37,LISTAS!$F$5:$I$204,2,0)) | D37: =IF(B37="","",VLOOKUP(B37,LISTAS!$F$5:$I$204,4,0)) | O37: =IF(R37<>"",_xlfn.RANK.EQ(R37,R18:R37,0),"") | P37: =IF(K37="","",VLOOKUP(L37,G18:J37,2,0)) | Q37: =IF(K37="","",VLOOKUP(P37,LISTAS!$F$5:$G$407,2,0)) | R37: =IF(K37="","",VLOOKUP(L37,G18:J37,4,0)) | S37: =IF($O37="","",IF($O37=1,400,IF($O37=2,340,IF($O37=3,300,IF($O37=4,280,IF($O37=5,270,IF($O37=6,260,IF($O37=7,250,IF($O37=8,240,IF($O37=9,200,IF($O37=10,200,IF($O37=11,200,IF($O37=12,200,IF($O37=13,200,IF($O37=14,200,IF($O37=15,200,IF($O37=16,200,IF($O37>16,"","")))))))))))))))))) | T37: =IF(O37="","",IF($F$7="NÃO","",IF(O37=1,400,IF(O37=2,340,IF(O37=3,300,IF(O37=4,280,IF(O37=5,270,IF(O37=6,260,IF(O37=7,250,IF(O37=8,240,IF(O37=9,200,IF(O37=10,200,IF(O37=11,200,IF(O37=12,200,IF(O37=13,200,IF(O37=14,200,IF(O37=15,200,IF(O37=16,200,IF(O37>16,"","")))))))))))))))))))
C38: =IF(B38="","",VLOOKUP(B38,LISTAS!$F$5:$I$204,2,0)) | D38: =IF(B38="","",VLOOKUP(B38,LISTAS!$F$5:$I$204,4,0)) | O38: =IF(R38<>"",_xlfn.RANK.EQ(R38,R19:R38,0),"") | P38: =IF(K38="","",VLOOKUP(L38,G19:J38,2,0)) | Q38: =IF(K38="","",VLOOKUP(P38,LISTAS!$F$5:$G$407,2,0)) | R38: =IF(K38="","",VLOOKUP(L38,G19:J38,4,0)) | S38: =IF($O38="","",IF($O38=1,400,IF($O38=2,340,IF($O38=3,300,IF($O38=4,280,IF($O38=5,270,IF($O38=6,260,IF($O38=7,250,IF($O38=8,240,IF($O38=9,200,IF($O38=10,200,IF($O38=11,200,IF($O38=12,200,IF($O38=13,200,IF($O38=14,200,IF($O38=15,200,IF($O38=16,200,IF($O38>16,"","")))))))))))))))))) | T38: =IF(O38="","",IF($F$7="NÃO","",IF(O38=1,400,IF(O38=2,340,IF(O38=3,300,IF(O38=4,280,IF(O38=5,270,IF(O38=6,260,IF(O38=7,250,IF(O38=8,240,IF(O38=9,200,IF(O38=10,200,IF(O38=11,200,IF(O38=12,200,IF(O38=13,200,IF(O38=14,200,IF(O38=15,200,IF(O38=16,200,IF(O38>16,"","")))))))))))))))))))
B40: SUB 11 FEMININO | O40: CLASSIFICAÇÃO FINAL
B42: NOMES | C42: ESCOLA | D42: FILIAL / TURMA | E42: NOTA | O42: CLASSIFICAÇÃO | P42: NOMES | Q42: ESCOLA | R42: TEMPO | S42: PONTUAÇÃO ALUNO | T42: PONTUAÇÃO ESCOLA
B43: HELENA DURSO SILVA | C43: =IF(B43="","",VLOOKUP(B43,LISTAS!$F$5:$I$1000,2,0)) -> COLÉGIO GRAN LEONE | D43: =IF(B43="","",VLOOKUP(B43,LISTAS!$F$5:$I$204,4,0)) -> SUB 11 | E43: 8 | G43: =IF(E43="","",E43+(ROW(E43)/10000)) -> 8.0043 | H43: =IF($K43="","",IF(B43="","",B43)) -> HELENA DURSO SILVA | I43: =IF($K43="","",IF(C43="","",C43)) -> COLÉGIO GRAN LEONE | J43: =IF($K43="","",E43) -> 8 | K43: =G43 -> 8.0043 | L43: =IF(K43="","",LARGE(G43:G62,M43)) -> 8.4044 | M43: 1 | O43: =IF(R43<>"",_xlfn.RANK.EQ(R43,R43:R62,0),"") -> 1 | P43: =IF(K43="","",VLOOKUP(L43,G43:J62,2,0)) -> KAREN TERUMI NISHIKAWA | Q43: =IF(K43="","",VLOOKUP(P43,LISTAS!$F$5:$G$407,2,0)) -> COLÉGIO GRAN LEONE | R43: =IF(K43="","",VLOOKUP(L43,G43:J62,4,0)) -> 8.4 | S43: =IF($O43="","",IF($O43=1,400,IF($O43=2,340,IF($O43=3,300,IF($O43=4,280,IF($O43=5,270,IF($O43=6,260,IF($O43=7,250,IF($O43=8,240,IF($O43=9,200,IF($O43=10,200,IF($O43=11,200,IF($O43=12,200,IF($O43=13,200,IF($O43=14,200,IF($O43=15,200,IF($O43=16,200,IF($O43>16,"","")))))))))))))))))) -> 400 | T43: =IF(O43="","",IF($F$7="NÃO","",IF(O43=1,400,IF(O43=2,340,IF(O43=3,300,IF(O43=4,280,IF(O43=5,270,IF(O43=6,260,IF(O43=7,250,IF(O43=8,240,IF(O43=9,200,IF(O43=10,200,IF(O43=11,200,IF(O43=12,200,IF(O43=13,200,IF(O43=14,200,IF(O43=15,200,IF(O43=16,200,IF(O43>16,"",""))))))))))))))))))) -> 400
B44: KAREN TERUMI NISHIKAWA | C44: =IF(B44="","",VLOOKUP(B44,LISTAS!$F$5:$I$1000,2,0)) -> COLÉGIO GRAN LEONE | D44: =IF(B44="","",VLOOKUP(B44,LISTAS!$F$5:$I$204,4,0)) -> SUB 11 | E44: 8.4 | G44: =IF(E44="","",E44+(ROW(E44)/10000)) -> 8.4044 | H44: =IF($K44="","",IF(B44="","",B44)) -> KAREN TERUMI NISHIKAWA | I44: =IF($K44="","",IF(C44="","",C44)) -> COLÉGIO GRAN LEONE | J44: =IF($K44="","",E44) -> 8.4 | K44: =G44 -> 8.4044 | L44: =IF(K44="","",LARGE(G43:G62,M44)) -> 8.0043 | M44: 2 | O44: =IF(R44<>"",_xlfn.RANK.EQ(R44,R43:R62,0),"") -> 2 | P44: =IF(K44="","",VLOOKUP(L44,G43:J62,2,0)) -> HELENA DURSO SILVA | Q44: =IF(K44="","",VLOOKUP(P44,LISTAS!$F$5:$G$407,2,0)) -> COLÉGIO GRAN LEONE | R44: =IF(K44="","",VLOOKUP(L44,G43:J62,4,0)) -> 8 | S44: =IF($O44="","",IF($O44=1,400,IF($O44=2,340,IF($O44=3,300,IF($O44=4,280,IF($O44=5,270,IF($O44=6,260,IF($O44=7,250,IF($O44=8,240,IF($O44=9,200,IF($O44=10,200,IF($O44=11,200,IF($O44=12,200,IF($O44=13,200,IF($O44=14,200,IF($O44=15,200,IF($O44=16,200,IF($O44>16,"","")))))))))))))))))) -> 340 | T44: =IF(O44="","",IF($F$7="NÃO","",IF(O44=1,400,IF(O44=2,340,IF(O44=3,300,IF(O44=4,280,IF(O44=5,270,IF(O44=6,260,IF(O44=7,250,IF(O44=8,240,IF(O44=9,200,IF(O44=10,200,IF(O44=11,200,IF(O44=12,200,IF(O44=13,200,IF(O44=14,200,IF(O44=15,200,IF(O44=16,200,IF(O44>16,"",""))))))))))))))))))) -> 340
B45: LUIZA ARRAZI HONORIO MACIEL | C45: =IF(B45="","",VLOOKUP(B45,LISTAS!$F$5:$I$1000,2,0)) -> GRUPO FÊNIX DE EDUCAÇÃO | D45: =IF(B45="","",VLOOKUP(B45,LISTAS!$F$5:$I$204,4,0)) -> #N/A | E45: 6.8 | G45: =IF(E45="","",E45+(ROW(E45)/10000)) -> 6.8045 | H45: =IF($K45="","",IF(B45="","",B45)) -> LUIZA ARRAZI HONORIO MACIEL | I45: =IF($K45="","",IF(C45="","",C45)) -> GRUPO FÊNIX DE EDUCAÇÃO | J45: =IF($K45="","",E45) -> 6.8 | K45: =G45 -> 6.8045 | L45: =IF(K45="","",LARGE(G43:G62,M45)) -> 7.8051 | M45: 3 | O45: =IF(R45<>"",_xlfn.RANK.EQ(R45,R43:R62,0),"") -> 3 | P45: =IF(K45="","",VLOOKUP(L45,G43:J62,2,0)) -> ISABELA KANASHIRO | Q45: =IF(K45="","",VLOOKUP(P45,LISTAS!$F$5:$G$407,2,0)) -> LICEU JARDIM | R45: =IF(K45="","",VLOOKUP(L45,G43:J62,4,0)) -> 7.8 | S45: =IF($O45="","",IF($O45=1,400,IF($O45=2,340,IF($O45=3,300,IF($O45=4,280,IF($O45=5,270,IF($O45=6,260,IF($O45=7,250,IF($O45=8,240,IF($O45=9,200,IF($O45=10,200,IF($O45=11,200,IF($O45=12,200,IF($O45=13,200,IF($O45=14,200,IF($O45=15,200,IF($O45=16,200,IF($O45>16,"","")))))))))))))))))) -> 300 | T45: =IF(O45="","",IF($F$7="NÃO","",IF(O45=1,400,IF(O45=2,340,IF(O45=3,300,IF(O45=4,280,IF(O45=5,270,IF(O45=6,260,IF(O45=7,250,IF(O45=8,240,IF(O45=9,200,IF(O45=10,200,IF(O45=11,200,IF(O45=12,200,IF(O45=13,200,IF(O45=14,200,IF(O45=15,200,IF(O45=16,200,IF(O45>16,"",""))))))))))))))))))) -> 300
B46: GABRIELLA VASCONCELOS PIZZUTO | C46: =IF(B46="","",VLOOKUP(B46,LISTAS!$F$5:$I$1000,2,0)) -> LICEU JARDIM | D46: SUB 11 | E46: 7.1 | G46: =IF(E46="","",E46+(ROW(E46)/10000)) -> 7.1046 | H46: =IF($K46="","",IF(B46="","",B46)) -> GABRIELLA VASCONCELOS PIZZUTO | I46: =IF($K46="","",IF(C46="","",C46)) -> LICEU JARDIM | J46: =IF($K46="","",E46) -> 7.1 | K46: =G46 -> 7.1046 | L46: =IF(K46="","",LARGE(G43:G62,M46)) -> 7.4049 | M46: 4 | O46: =IF(R46<>"",_xlfn.RANK.EQ(R46,R43:R62,0),"") -> 4 | P46: =IF(K46="","",VLOOKUP(L46,G43:J62,2,0)) -> LÍVIA DE PASCHOAL CARAMEL | Q46: =IF(K46="","",VLOOKUP(P46,LISTAS!$F$5:$G$407,2,0)) -> LICEU JARDIM | R46: =IF(K46="","",VLOOKUP(L46,G43:J62,4,0)) -> 7.4 | S46: =IF($O46="","",IF($O46=1,400,IF($O46=2,340,IF($O46=3,300,IF($O46=4,280,IF($O46=5,270,IF($O46=6,260,IF($O46=7,250,IF($O46=8,240,IF($O46=9,200,IF($O46=10,200,IF($O46=11,200,IF($O46=12,200,IF($O46=13,200,IF($O46=14,200,IF($O46=15,200,IF($O46=16,200,IF($O46>16,"","")))))))))))))))))) -> 280 | T46: =IF(O46="","",IF($F$7="NÃO","",IF(O46=1,400,IF(O46=2,340,IF(O46=3,300,IF(O46=4,280,IF(O46=5,270,IF(O46=6,260,IF(O46=7,250,IF(O46=8,240,IF(O46=9,200,IF(O46=10,200,IF(O46=11,200,IF(O46=12,200,IF(O46=13,200,IF(O46=14,200,IF(O46=15,200,IF(O46=16,200,IF(O46>16,"",""))))))))))))))))))) -> 280
B47: ISABELA PANFIETT XAVIER | C47: =IF(B47="","",VLOOKUP(B47,LISTAS!$F$5:$I$1000,2,0)) -> LICEU JARDIM | D47: SUB 11 | E47: 6.7 | G47: =IF(E47="","",E47+(ROW(E47)/10000)) -> 6.7047 | H47: =IF($K47="","",IF(B47="","",B47)) -> ISABELA PANFIETT XAVIER | I47: =IF($K47="","",IF(C47="","",C47)) -> LICEU JARDIM | J47: =IF($K47="","",E47) -> 6.7 | K47: =G47 -> 6.7047 | L47: =IF(K47="","",LARGE(G43:G62,M47)) -> 7.205 | M47: 5 | O47: =IF(R47<>"",_xlfn.RANK.EQ(R47,R43:R62,0),"") -> 5 | P47: =IF(K47="","",VLOOKUP(L47,G43:J62,2,0)) -> MANUELA DO AMARAL COSTA DE SOUZA | Q47: =IF(K47="","",VLOOKUP(P47,LISTAS!$F$5:$G$407,2,0)) -> LICEU JARDIM | R47: =IF(K47="","",VLOOKUP(L47,G43:J62,4,0)) -> 7.2 | S47: =IF($O47="","",IF($O47=1,400,IF($O47=2,340,IF($O47=3,300,IF($O47=4,280,IF($O47=5,270,IF($O47=6,260,IF($O47=7,250,IF($O47=8,240,IF($O47=9,200,IF($O47=10,200,IF($O47=11,200,IF($O47=12,200,IF($O47=13,200,IF($O47=14,200,IF($O47=15,200,IF($O47=16,200,IF($O47>16,"","")))))))))))))))))) -> 270 | T47: =IF(O47="","",IF($F$7="NÃO","",IF(O47=1,400,IF(O47=2,340,IF(O47=3,300,IF(O47=4,280,IF(O47=5,270,IF(O47=6,260,IF(O47=7,250,IF(O47=8,240,IF(O47=9,200,IF(O47=10,200,IF(O47=11,200,IF(O47=12,200,IF(O47=13,200,IF(O47=14,200,IF(O47=15,200,IF(O47=16,200,IF(O47>16,"",""))))))))))))))))))) -> 270
B48: ISABELLA PUJOL BOTEJARA | C48: =IF(B48="","",VLOOKUP(B48,LISTAS!$F$5:$I$1000,2,0)) -> LICEU JARDIM | D48: SUB 11 | E48: 6.5 | G48: =IF(E48="","",E48+(ROW(E48)/10000)) -> 6.5048 | H48: =IF($K48="","",IF(B48="","",B48)) -> ISABELLA PUJOL BOTEJARA | I48: =IF($K48="","",IF(C48="","",C48)) -> LICEU JARDIM | J48: =IF($K48="","",E48) -> 6.5 | K48: =G48 -> 6.5048 | L48: =IF(K48="","",LARGE(G43:G62,M48)) -> 7.1046 | M48: 6 | O48: =IF(R48<>"",_xlfn.RANK.EQ(R48,R43:R62,0),"") -> 6 | P48: =IF(K48="","",VLOOKUP(L48,G43:J62,2,0)) -> GABRIELLA VASCONCELOS PIZZUTO | Q48: =IF(K48="","",VLOOKUP(P48,LISTAS!$F$5:$G$407,2,0)) -> LICEU JARDIM | R48: =IF(K48="","",VLOOKUP(L48,G43:J62,4,0)) -> 7.1 | S48: =IF($O48="","",IF($O48=1,400,IF($O48=2,340,IF($O48=3,300,IF($O48=4,280,IF($O48=5,270,IF($O48=6,260,IF($O48=7,250,IF($O48=8,240,IF($O48=9,200,IF($O48=10,200,IF($O48=11,200,IF($O48=12,200,IF($O48=13,200,IF($O48=14,200,IF($O48=15,200,IF($O48=16,200,IF($O48>16,"","")))))))))))))))))) -> 260 | T48: =IF(O48="","",IF($F$7="NÃO","",IF(O48=1,400,IF(O48=2,340,IF(O48=3,300,IF(O48=4,280,IF(O48=5,270,IF(O48=6,260,IF(O48=7,250,IF(O48=8,240,IF(O48=9,200,IF(O48=10,200,IF(O48=11,200,IF(O48=12,200,IF(O48=13,200,IF(O48=14,200,IF(O48=15,200,IF(O48=16,200,IF(O48>16,"",""))))))))))))))))))) -> 260
B49: LÍVIA DE PASCHOAL CARAMEL | C49: =IF(B49="","",VLOOKUP(B49,LISTAS!$F$5:$I$1000,2,0)) -> LICEU JARDIM | D49: SUB 11 | E49: 7.4 | G49: =IF(E49="","",E49+(ROW(E49)/10000)) -> 7.4049 | H49: =IF($K49="","",IF(B49="","",B49)) -> LÍVIA DE PASCHOAL CARAMEL | I49: =IF($K49="","",IF(C49="","",C49)) -> LICEU JARDIM | J49: =IF($K49="","",E49) -> 7.4 | K49: =G49 -> 7.4049 | L49: =IF(K49="","",LARGE(G43:G62,M49)) -> 6.8045 | M49: 7 | O49: =IF(R49<>"",_xlfn.RANK.EQ(R49,R43:R62,0),"") -> 7 | P49: =IF(K49="","",VLOOKUP(L49,G43:J62,2,0)) -> LUIZA ARRAZI HONORIO MACIEL | Q49: =IF(K49="","",VLOOKUP(P49,LISTAS!$F$5:$G$407,2,0)) -> GRUPO FÊNIX DE EDUCAÇÃO | R49: =IF(K49="","",VLOOKUP(L49,G43:J62,4,0)) -> 6.8 | S49: =IF($O49="","",IF($O49=1,400,IF($O49=2,340,IF($O49=3,300,IF($O49=4,280,IF($O49=5,270,IF($O49=6,260,IF($O49=7,250,IF($O49=8,240,IF($O49=9,200,IF($O49=10,200,IF($O49=11,200,IF($O49=12,200,IF($O49=13,200,IF($O49=14,200,IF($O49=15,200,IF($O49=16,200,IF($O49>16,"","")))))))))))))))))) -> 250 | T49: =IF(O49="","",IF($F$7="NÃO","",IF(O49=1,400,IF(O49=2,340,IF(O49=3,300,IF(O49=4,280,IF(O49=5,270,IF(O49=6,260,IF(O49=7,250,IF(O49=8,240,IF(O49=9,200,IF(O49=10,200,IF(O49=11,200,IF(O49=12,200,IF(O49=13,200,IF(O49=14,200,IF(O49=15,200,IF(O49=16,200,IF(O49>16,"",""))))))))))))))))))) -> 250
B50: MANUELA DO AMARAL COSTA DE SOUZA | C50: =IF(B50="","",VLOOKUP(B50,LISTAS!$F$5:$I$1000,2,0)) -> LICEU JARDIM | D50: SUB 11 | E50: 7.2 | G50: =IF(E50="","",E50+(ROW(E50)/10000)) -> 7.205 | H50: =IF($K50="","",IF(B50="","",B50)) -> MANUELA DO AMARAL COSTA DE SOUZA | I50: =IF($K50="","",IF(C50="","",C50)) -> LICEU JARDIM | J50: =IF($K50="","",E50) -> 7.2 | K50: =G50 -> 7.205 | L50: =IF(K50="","",LARGE(G43:G62,M50)) -> 6.7047 | M50: 8 | O50: =IF(R50<>"",_xlfn.RANK.EQ(R50,R43:R62,0),"") -> 8 | P50: =IF(K50="","",VLOOKUP(L50,G43:J62,2,0)) -> ISABELA PANFIETT XAVIER | Q50: =IF(K50="","",VLOOKUP(P50,LISTAS!$F$5:$G$407,2,0)) -> LICEU JARDIM | R50: =IF(K50="","",VLOOKUP(L50,G43:J62,4,0)) -> 6.7 | S50: =IF($O50="","",IF($O50=1,400,IF($O50=2,340,IF($O50=3,300,IF($O50=4,280,IF($O50=5,270,IF($O50=6,260,IF($O50=7,250,IF($O50=8,240,IF($O50=9,200,IF($O50=10,200,IF($O50=11,200,IF($O50=12,200,IF($O50=13,200,IF($O50=14,200,IF($O50=15,200,IF($O50=16,200,IF($O50>16,"","")))))))))))))))))) -> 240 | T50: =IF(O50="","",IF($F$7="NÃO","",IF(O50=1,400,IF(O50=2,340,IF(O50=3,300,IF(O50=4,280,IF(O50=5,270,IF(O50=6,260,IF(O50=7,250,IF(O50=8,240,IF(O50=9,200,IF(O50=10,200,IF(O50=11,200,IF(O50=12,200,IF(O50=13,200,IF(O50=14,200,IF(O50=15,200,IF(O50=16,200,IF(O50>16,"",""))))))))))))))))))) -> 240
B51: ISABELA KANASHIRO | C51: =IF(B51="","",VLOOKUP(B51,LISTAS!$F$5:$I$1000,2,0)) -> LICEU JARDIM | E51: 7.8 | G51: =IF(E51="","",E51+(ROW(E51)/10000)) -> 7.8051 | H51: =IF($K51="","",IF(B51="","",B51)) -> ISABELA KANASHIRO | I51: =IF($K51="","",IF(C51="","",C51)) -> LICEU JARDIM | J51: =IF($K51="","",E51) -> 7.8 | K51: =G51 -> 7.8051 | L51: =IF(K51="","",LARGE(G43:G62,M51)) -> 6.5048 | M51: 9 | O51: =IF(R51<>"",_xlfn.RANK.EQ(R51,R43:R62,0),"") -> 9 | P51: =IF(K51="","",VLOOKUP(L51,G43:J62,2,0)) -> ISABELLA PUJOL BOTEJARA | Q51: =IF(K51="","",VLOOKUP(P51,LISTAS!$F$5:$G$407,2,0)) -> LICEU JARDIM | R51: =IF(K51="","",VLOOKUP(L51,G43:J62,4,0)) -> 6.5 | S51: =IF($O51="","",IF($O51=1,400,IF($O51=2,340,IF($O51=3,300,IF($O51=4,280,IF($O51=5,270,IF($O51=6,260,IF($O51=7,250,IF($O51=8,240,IF($O51=9,200,IF($O51=10,200,IF($O51=11,200,IF($O51=12,200,IF($O51=13,200,IF($O51=14,200,IF($O51=15,200,IF($O51=16,200,IF($O51>16,"","")))))))))))))))))) -> 200 | T51: =IF(O51="","",IF($F$7="NÃO","",IF(O51=1,400,IF(O51=2,340,IF(O51=3,300,IF(O51=4,280,IF(O51=5,270,IF(O51=6,260,IF(O51=7,250,IF(O51=8,240,IF(O51=9,200,IF(O51=10,200,IF(O51=11,200,IF(O51=12,200,IF(O51=13,200,IF(O51=14,200,IF(O51=15,200,IF(O51=16,200,IF(O51>16,"",""))))))))))))))))))) -> 200
C52: =IF(B52="","",VLOOKUP(B52,LISTAS!$F$5:$I$1000,2,0)) | G52: =IF(E52="","",E52+(ROW(E52)/10000)) | H52: =IF($K52="","",IF(B52="","",B52)) | I52: =IF($K52="","",IF(C52="","",C52)) | J52: =IF($K52="","",E52) | K52: =G52 | L52: =IF(K52="","",LARGE(G43:G62,M52)) | M52: 10 | O52: =IF(R52<>"",_xlfn.RANK.EQ(R52,R43:R62,0),"") | P52: =IF(K52="","",VLOOKUP(L52,G43:J62,2,0)) | Q52: =IF(K52="","",VLOOKUP(P52,LISTAS!$F$5:$G$407,2,0)) | R52: =IF(K52="","",VLOOKUP(L52,G43:J62,4,0)) | S52: =IF($O52="","",IF($O52=1,400,IF($O52=2,340,IF($O52=3,300,IF($O52=4,280,IF($O52=5,270,IF($O52=6,260,IF($O52=7,250,IF($O52=8,240,IF($O52=9,200,IF($O52=10,200,IF($O52=11,200,IF($O52=12,200,IF($O52=13,200,IF($O52=14,200,IF($O52=15,200,IF($O52=16,200,IF($O52>16,"","")))))))))))))))))) | T52: =IF(O52="","",IF($F$7="NÃO","",IF(O52=1,400,IF(O52=2,340,IF(O52=3,300,IF(O52=4,280,IF(O52=5,270,IF(O52=6,260,IF(O52=7,250,IF(O52=8,240,IF(O52=9,200,IF(O52=10,200,IF(O52=11,200,IF(O52=12,200,IF(O52=13,200,IF(O52=14,200,IF(O52=15,200,IF(O52=16,200,IF(O52>16,"","")))))))))))))))))))
C53: =IF(B53="","",VLOOKUP(B53,LISTAS!$F$5:$I$1000,2,0)) | L53: =IF(K53="","",LARGE(G43:G62,M53)) | M53: 11 | O53: =IF(R53<>"",_xlfn.RANK.EQ(R53,R43:R62,0),"") | P53: =IF(K53="","",VLOOKUP(L53,G43:J62,2,0)) | Q53: =IF(K53="","",VLOOKUP(P53,LISTAS!$F$5:$G$407,2,0)) | R53: =IF(K53="","",VLOOKUP(L53,G43:J62,4,0)) | S53: =IF($O53="","",IF($O53=1,400,IF($O53=2,340,IF($O53=3,300,IF($O53=4,280,IF($O53=5,270,IF($O53=6,260,IF($O53=7,250,IF($O53=8,240,IF($O53=9,200,IF($O53=10,200,IF($O53=11,200,IF($O53=12,200,IF($O53=13,200,IF($O53=14,200,IF($O53=15,200,IF($O53=16,200,IF($O53>16,"","")))))))))))))))))) | T53: =IF(O53="","",IF($F$7="NÃO","",IF(O53=1,400,IF(O53=2,340,IF(O53=3,300,IF(O53=4,280,IF(O53=5,270,IF(O53=6,260,IF(O53=7,250,IF(O53=8,240,IF(O53=9,200,IF(O53=10,200,IF(O53=11,200,IF(O53=12,200,IF(O53=13,200,IF(O53=14,200,IF(O53=15,200,IF(O53=16,200,IF(O53>16,"","")))))))))))))))))))
C54: =IF(B54="","",VLOOKUP(B54,LISTAS!$F$5:$I$1000,2,0)) | L54: =IF(K54="","",LARGE(G43:G62,M54)) | M54: 12 | O54: =IF(R54<>"",_xlfn.RANK.EQ(R54,R43:R62,0),"") | P54: =IF(K54="","",VLOOKUP(L54,G43:J62,2,0)) | Q54: =IF(K54="","",VLOOKUP(P54,LISTAS!$F$5:$G$407,2,0)) | R54: =IF(K54="","",VLOOKUP(L54,G43:J62,4,0)) | S54: =IF($O54="","",IF($O54=1,400,IF($O54=2,340,IF($O54=3,300,IF($O54=4,280,IF($O54=5,270,IF($O54=6,260,IF($O54=7,250,IF($O54=8,240,IF($O54=9,200,IF($O54=10,200,IF($O54=11,200,IF($O54=12,200,IF($O54=13,200,IF($O54=14,200,IF($O54=15,200,IF($O54=16,200,IF($O54>16,"","")))))))))))))))))) | T54: =IF(O54="","",IF($F$7="NÃO","",IF(O54=1,400,IF(O54=2,340,IF(O54=3,300,IF(O54=4,280,IF(O54=5,270,IF(O54=6,260,IF(O54=7,250,IF(O54=8,240,IF(O54=9,200,IF(O54=10,200,IF(O54=11,200,IF(O54=12,200,IF(O54=13,200,IF(O54=14,200,IF(O54=15,200,IF(O54=16,200,IF(O54>16,"","")))))))))))))))))))
C55: =IF(B55="","",VLOOKUP(B55,LISTAS!$F$5:$I$204,2,0)) | L55: =IF(K55="","",LARGE(G43:G62,M55)) | M55: 13 | O55: =IF(R55<>"",_xlfn.RANK.EQ(R55,R43:R62,0),"") | P55: =IF(K55="","",VLOOKUP(L55,G43:J62,2,0)) | Q55: =IF(K55="","",VLOOKUP(P55,LISTAS!$F$5:$G$407,2,0)) | R55: =IF(K55="","",VLOOKUP(L55,G43:J62,4,0)) | S55: =IF($O55="","",IF($O55=1,400,IF($O55=2,340,IF($O55=3,300,IF($O55=4,280,IF($O55=5,270,IF($O55=6,260,IF($O55=7,250,IF($O55=8,240,IF($O55=9,200,IF($O55=10,200,IF($O55=11,200,IF($O55=12,200,IF($O55=13,200,IF($O55=14,200,IF($O55=15,200,IF($O55=16,200,IF($O55>16,"","")))))))))))))))))) | T55: =IF(O55="","",IF($F$7="NÃO","",IF(O55=1,400,IF(O55=2,340,IF(O55=3,300,IF(O55=4,280,IF(O55=5,270,IF(O55=6,260,IF(O55=7,250,IF(O55=8,240,IF(O55=9,200,IF(O55=10,200,IF(O55=11,200,IF(O55=12,200,IF(O55=13,200,IF(O55=14,200,IF(O55=15,200,IF(O55=16,200,IF(O55>16,"","")))))))))))))))))))
C56: =IF(B56="","",VLOOKUP(B56,LISTAS!$F$5:$I$204,2,0)) | D56: =IF(B56="","",VLOOKUP(B56,LISTAS!$F$5:$I$204,4,0)) | L56: =IF(K56="","",LARGE(G43:G62,M56)) | M56: 14 | O56: =IF(R56<>"",_xlfn.RANK.EQ(R56,R43:R62,0),"") | P56: =IF(K56="","",VLOOKUP(L56,G43:J62,2,0)) | Q56: =IF(K56="","",VLOOKUP(P56,LISTAS!$F$5:$G$407,2,0)) | R56: =IF(K56="","",VLOOKUP(L56,G43:J62,4,0)) | S56: =IF($O56="","",IF($O56=1,400,IF($O56=2,340,IF($O56=3,300,IF($O56=4,280,IF($O56=5,270,IF($O56=6,260,IF($O56=7,250,IF($O56=8,240,IF($O56=9,200,IF($O56=10,200,IF($O56=11,200,IF($O56=12,200,IF($O56=13,200,IF($O56=14,200,IF($O56=15,200,IF($O56=16,200,IF($O56>16,"","")))))))))))))))))) | T56: =IF(O56="","",IF($F$7="NÃO","",IF(O56=1,400,IF(O56=2,340,IF(O56=3,300,IF(O56=4,280,IF(O56=5,270,IF(O56=6,260,IF(O56=7,250,IF(O56=8,240,IF(O56=9,200,IF(O56=10,200,IF(O56=11,200,IF(O56=12,200,IF(O56=13,200,IF(O56=14,200,IF(O56=15,200,IF(O56=16,200,IF(O56>16,"","")))))))))))))))))))
C57: =IF(B57="","",VLOOKUP(B57,LISTAS!$F$5:$I$204,2,0)) | D57: =IF(B57="","",VLOOKUP(B57,LISTAS!$F$5:$I$204,4,0)) | L57: =IF(K57="","",LARGE(G43:G62,M57)) | M57: 15 | O57: =IF(R57<>"",_xlfn.RANK.EQ(R57,R43:R62,0),"") | P57: =IF(K57="","",VLOOKUP(L57,G43:J62,2,0)) | Q57: =IF(K57="","",VLOOKUP(P57,LISTAS!$F$5:$G$407,2,0)) | R57: =IF(K57="","",VLOOKUP(L57,G43:J62,4,0)) | S57: =IF($O57="","",IF($O57=1,400,IF($O57=2,340,IF($O57=3,300,IF($O57=4,280,IF($O57=5,270,IF($O57=6,260,IF($O57=7,250,IF($O57=8,240,IF($O57=9,200,IF($O57=10,200,IF($O57=11,200,IF($O57=12,200,IF($O57=13,200,IF($O57=14,200,IF($O57=15,200,IF($O57=16,200,IF($O57>16,"","")))))))))))))))))) | T57: =IF(O57="","",IF($F$7="NÃO","",IF(O57=1,400,IF(O57=2,340,IF(O57=3,300,IF(O57=4,280,IF(O57=5,270,IF(O57=6,260,IF(O57=7,250,IF(O57=8,240,IF(O57=9,200,IF(O57=10,200,IF(O57=11,200,IF(O57=12,200,IF(O57=13,200,IF(O57=14,200,IF(O57=15,200,IF(O57=16,200,IF(O57>16,"","")))))))))))))))))))
C58: =IF(B58="","",VLOOKUP(B58,LISTAS!$F$5:$I$204,2,0)) | D58: =IF(B58="","",VLOOKUP(B58,LISTAS!$F$5:$I$204,4,0)) | L58: =IF(K58="","",LARGE(G43:G62,M58)) | M58: 16 | O58: =IF(R58<>"",_xlfn.RANK.EQ(R58,R43:R62,0),"") | P58: =IF(K58="","",VLOOKUP(L58,G43:J62,2,0)) | Q58: =IF(K58="","",VLOOKUP(P58,LISTAS!$F$5:$G$407,2,0)) | R58: =IF(K58="","",VLOOKUP(L58,G43:J62,4,0)) | S58: =IF($O58="","",IF($O58=1,400,IF($O58=2,340,IF($O58=3,300,IF($O58=4,280,IF($O58=5,270,IF($O58=6,260,IF($O58=7,250,IF($O58=8,240,IF($O58=9,200,IF($O58=10,200,IF($O58=11,200,IF($O58=12,200,IF($O58=13,200,IF($O58=14,200,IF($O58=15,200,IF($O58=16,200,IF($O58>16,"","")))))))))))))))))) | T58: =IF(O58="","",IF($F$7="NÃO","",IF(O58=1,400,IF(O58=2,340,IF(O58=3,300,IF(O58=4,280,IF(O58=5,270,IF(O58=6,260,IF(O58=7,250,IF(O58=8,240,IF(O58=9,200,IF(O58=10,200,IF(O58=11,200,IF(O58=12,200,IF(O58=13,200,IF(O58=14,200,IF(O58=15,200,IF(O58=16,200,IF(O58>16,"","")))))))))))))))))))
C59: =IF(B59="","",VLOOKUP(B59,LISTAS!$F$5:$I$204,2,0)) | D59: =IF(B59="","",VLOOKUP(B59,LISTAS!$F$5:$I$204,4,0)) | G59: =IF(E59="","",E59+(ROW(E59)/10000)) | H59: =IF($K59="","",IF(B59="","",B59)) | I59: =IF($K59="","",IF(C59="","",C59)) | J59: =IF($K59="","",E59) | K59: =G59 | L59: =IF(K59="","",LARGE(G43:G62,M59)) | M59: 17 | O59: =IF(R59<>"",_xlfn.RANK.EQ(R59,R43:R62,0),"") | P59: =IF(K59="","",VLOOKUP(L59,G43:J62,2,0)) | Q59: =IF(K59="","",VLOOKUP(P59,LISTAS!$F$5:$G$407,2,0)) | R59: =IF(K59="","",VLOOKUP(L59,G43:J62,4,0)) | S59: =IF($O59="","",IF($O59=1,400,IF($O59=2,340,IF($O59=3,300,IF($O59=4,280,IF($O59=5,270,IF($O59=6,260,IF($O59=7,250,IF($O59=8,240,IF($O59=9,200,IF($O59=10,200,IF($O59=11,200,IF($O59=12,200,IF($O59=13,200,IF($O59=14,200,IF($O59=15,200,IF($O59=16,200,IF($O59>16,"","")))))))))))))))))) | T59: =IF(O59="","",IF($F$7="NÃO","",IF(O59=1,400,IF(O59=2,340,IF(O59=3,300,IF(O59=4,280,IF(O59=5,270,IF(O59=6,260,IF(O59=7,250,IF(O59=8,240,IF(O59=9,200,IF(O59=10,200,IF(O59=11,200,IF(O59=12,200,IF(O59=13,200,IF(O59=14,200,IF(O59=15,200,IF(O59=16,200,IF(O59>16,"","")))))))))))))))))))
C60: =IF(B60="","",VLOOKUP(B60,LISTAS!$F$5:$I$204,2,0)) | D60: =IF(B60="","",VLOOKUP(B60,LISTAS!$F$5:$I$204,4,0)) | G60: =IF(E60="","",E60+(ROW(E60)/10000)) | H60: =IF($K60="","",IF(B60="","",B60)) | I60: =IF($K60="","",IF(C60="","",C60)) | J60: =IF($K60="","",E60) | K60: =G60 | L60: =IF(K60="","",LARGE(G43:G62,M60)) | M60: 18 | O60: =IF(R60<>"",_xlfn.RANK.EQ(R60,R43:R62,0),"") | P60: =IF(K60="","",VLOOKUP(L60,G43:J62,2,0)) | Q60: =IF(K60="","",VLOOKUP(P60,LISTAS!$F$5:$G$407,2,0)) | R60: =IF(K60="","",VLOOKUP(L60,G43:J62,4,0)) | S60: =IF($O60="","",IF($O60=1,400,IF($O60=2,340,IF($O60=3,300,IF($O60=4,280,IF($O60=5,270,IF($O60=6,260,IF($O60=7,250,IF($O60=8,240,IF($O60=9,200,IF($O60=10,200,IF($O60=11,200,IF($O60=12,200,IF($O60=13,200,IF($O60=14,200,IF($O60=15,200,IF($O60=16,200,IF($O60>16,"","")))))))))))))))))) | T60: =IF(O60="","",IF($F$7="NÃO","",IF(O60=1,400,IF(O60=2,340,IF(O60=3,300,IF(O60=4,280,IF(O60=5,270,IF(O60=6,260,IF(O60=7,250,IF(O60=8,240,IF(O60=9,200,IF(O60=10,200,IF(O60=11,200,IF(O60=12,200,IF(O60=13,200,IF(O60=14,200,IF(O60=15,200,IF(O60=16,200,IF(O60>16,"","")))))))))))))))))))
C61: =IF(B61="","",VLOOKUP(B61,LISTAS!$F$5:$I$204,2,0)) | D61: =IF(B61="","",VLOOKUP(B61,LISTAS!$F$5:$I$204,4,0)) | L61: =IF(K61="","",LARGE(G43:G62,M61)) | M61: 19 | O61: =IF(R61<>"",_xlfn.RANK.EQ(R61,R43:R62,0),"") | P61: =IF(K61="","",VLOOKUP(L61,G43:J62,2,0)) | Q61: =IF(K61="","",VLOOKUP(P61,LISTAS!$F$5:$G$407,2,0)) | R61: =IF(K61="","",VLOOKUP(L61,G43:J62,4,0)) | S61: =IF($O61="","",IF($O61=1,400,IF($O61=2,340,IF($O61=3,300,IF($O61=4,280,IF($O61=5,270,IF($O61=6,260,IF($O61=7,250,IF($O61=8,240,IF($O61=9,200,IF($O61=10,200,IF($O61=11,200,IF($O61=12,200,IF($O61=13,200,IF($O61=14,200,IF($O61=15,200,IF($O61=16,200,IF($O61>16,"","")))))))))))))))))) | T61: =IF(O61="","",IF($F$7="NÃO","",IF(O61=1,400,IF(O61=2,340,IF(O61=3,300,IF(O61=4,280,IF(O61=5,270,IF(O61=6,260,IF(O61=7,250,IF(O61=8,240,IF(O61=9,200,IF(O61=10,200,IF(O61=11,200,IF(O61=12,200,IF(O61=13,200,IF(O61=14,200,IF(O61=15,200,IF(O61=16,200,IF(O61>16,"","")))))))))))))))))))
C62: =IF(B62="","",VLOOKUP(B62,LISTAS!$F$5:$I$204,2,0)) | D62: =IF(B62="","",VLOOKUP(B62,LISTAS!$F$5:$I$204,4,0)) | G62: =IF(E62="","",E62+(ROW(E62)/10000)) | H62: =IF($K62="","",IF(B62="","",B62)) | I62: =IF($K62="","",IF(C62="","",C62)) | J62: =IF($K62="","",E62) | K62: =G62 | L62: =IF(K62="","",LARGE(G43:G62,M62)) | M62: 20 | O62: =IF(R62<>"",_xlfn.RANK.EQ(R62,R43:R62,0),"") | P62: =IF(K62="","",VLOOKUP(L62,G43:J62,2,0)) | Q62: =IF(K62="","",VLOOKUP(P62,LISTAS!$F$5:$G$407,2,0)) | R62: =IF(K62="","",VLOOKUP(L62,G43:J62,4,0)) | S62: =IF($O62="","",IF($O62=1,400,IF($O62=2,340,IF($O62=3,300,IF($O62=4,280,IF($O62=5,270,IF($O62=6,260,IF($O62=7,250,IF($O62=8,240,IF($O62=9,200,IF($O62=10,200,IF($O62=11,200,IF($O62=12,200,IF($O62=13,200,IF($O62=14,200,IF($O62=15,200,IF($O62=16,200,IF($O62>16,"","")))))))))))))))))) | T62: =IF(O62="","",IF($F$7="NÃO","",IF(O62=1,400,IF(O62=2,340,IF(O62=3,300,IF(O62=4,280,IF(O62=5,270,IF(O62=6,260,IF(O62=7,250,IF(O62=8,240,IF(O62=9,200,IF(O62=10,200,IF(O62=11,200,IF(O62=12,200,IF(O62=13,200,IF(O62=14,200,IF(O62=15,200,IF(O62=16,200,IF(O62>16,"","")))))))))))))))))))
B64: SUB 13 FEMININO | O64: CLASSIFICAÇÃO FINAL
B66: NOMES | C66: ESCOLA | D66: FILIAL / TURMA | E66: NOTA | O66: CLASSIFICAÇÃO | P66: NOMES | Q66: ESCOLA | R66: TEMPO | S66: PONTUAÇÃO ALUNO | T66: PONTUAÇÃO ESCOLA
B67: ALICE NASCIMENTO | C67: =IF(B67="","",VLOOKUP(B67,LISTAS!$F$5:$I$1000,2,0)) -> COLÉGIO MONSENHOR ALEXANDRE | D67: SUB 13 | E67: 7.7 | G67: =IF(E67="","",E67+(ROW(E67)/10000)) -> 7.7067 | H67: =IF($K67="","",IF(B67="","",B67)) -> ALICE NASCIMENTO | I67: =IF($K67="","",IF(C67="","",C67)) -> COLÉGIO MONSENHOR ALEXANDRE | J67: =IF($K67="","",E67) -> 7.7 | K67: =G67 -> 7.7067 | L67: =IF(K67="","",LARGE(G67:G86,M67)) -> 8.0076 | M67: 1 | O67: =IF(R67<>"",_xlfn.RANK.EQ(R67,R67:R86,0),"") -> 1 | P67: =IF(K67="","",VLOOKUP(L67,G67:J86,2,0)) -> LAURA MORAIS CARNEIRO | Q67: =IF(K67="","",VLOOKUP(P67,LISTAS!$F$5:$G$407,2,0)) -> LICEU JARDIM | R67: =IF(K67="","",VLOOKUP(L67,G67:J86,4,0)) -> 8 | S67: =IF($O67="","",IF($O67=1,400,IF($O67=2,340,IF($O67=3,300,IF($O67=4,280,IF($O67=5,270,IF($O67=6,260,IF($O67=7,250,IF($O67=8,240,IF($O67=9,200,IF($O67=10,200,IF($O67=11,200,IF($O67=12,200,IF($O67=13,200,IF($O67=14,200,IF($O67=15,200,IF($O67=16,200,IF($O67>16,"","")))))))))))))))))) -> 400 | T67: =IF(O67="","",IF($F$7="NÃO","",IF(O67=1,400,IF(O67=2,340,IF(O67=3,300,IF(O67=4,280,IF(O67=5,270,IF(O67=6,260,IF(O67=7,250,IF(O67=8,240,IF(O67=9,200,IF(O67=10,200,IF(O67=11,200,IF(O67=12,200,IF(O67=13,200,IF(O67=14,200,IF(O67=15,200,IF(O67=16,200,IF(O67>16,"",""))))))))))))))))))) -> 400
B68: ISABELI VENTURINI MERLIN | C68: =IF(B68="","",VLOOKUP(B68,LISTAS!$F$5:$I$1000,2,0)) -> COLÉGIO MONSENHOR ALEXANDRE | D68: SUB 13 | E68: 7.5 | G68: =IF(E68="","",E68+(ROW(E68)/10000)) -> 7.5068 | H68: =IF($K68="","",IF(B68="","",B68)) -> ISABELI VENTURINI MERLIN | I68: =IF($K68="","",IF(C68="","",C68)) -> COLÉGIO MONSENHOR ALEXANDRE | J68: =IF($K68="","",E68) -> 7.5 | K68: =G68 -> 7.5068 | L68: =IF(K68="","",LARGE(G67:G86,M68)) -> 8.0072 | M68: 2 | O68: =IF(R68<>"",_xlfn.RANK.EQ(R68,R67:R86,0),"") -> 1 | P68: =IF(K68="","",VLOOKUP(L68,G67:J86,2,0)) -> MELISSA DOS REIS | Q68: =IF(K68="","",VLOOKUP(P68,LISTAS!$F$5:$G$407,2,0)) -> COLÉGIO MONSENHOR ALEXANDRE | R68: =IF(K68="","",VLOOKUP(L68,G67:J86,4,0)) -> 8 | S68: =IF($O68="","",IF($O68=1,400,IF($O68=2,340,IF($O68=3,300,IF($O68=4,280,IF($O68=5,270,IF($O68=6,260,IF($O68=7,250,IF($O68=8,240,IF($O68=9,200,IF($O68=10,200,IF($O68=11,200,IF($O68=12,200,IF($O68=13,200,IF($O68=14,200,IF($O68=15,200,IF($O68=16,200,IF($O68>16,"","")))))))))))))))))) -> 400 | T68: =IF(O68="","",IF($F$7="NÃO","",IF(O68=1,400,IF(O68=2,340,IF(O68=3,300,IF(O68=4,280,IF(O68=5,270,IF(O68=6,260,IF(O68=7,250,IF(O68=8,240,IF(O68=9,200,IF(O68=10,200,IF(O68=11,200,IF(O68=12,200,IF(O68=13,200,IF(O68=14,200,IF(O68=15,200,IF(O68=16,200,IF(O68>16,"",""))))))))))))))))))) -> 400
B69: LORENA VICENTE DA SILVA | C69: =IF(B69="","",VLOOKUP(B69,LISTAS!$F$5:$I$1000,2,0)) -> COLÉGIO MONSENHOR ALEXANDRE | D69: SUB 13 | E69: 7.2 | G69: =IF(E69="","",E69+(ROW(E69)/10000)) -> 7.2069 | H69: =IF($K69="","",IF(B69="","",B69)) -> LORENA VICENTE DA SILVA | I69: =IF($K69="","",IF(C69="","",C69)) -> COLÉGIO MONSENHOR ALEXANDRE | J69: =IF($K69="","",E69) -> 7.2 | K69: =G69 -> 7.2069 | L69: =IF(K69="","",LARGE(G67:G86,M69)) -> 7.9078 | M69: 3 | O69: =IF(R69<>"",_xlfn.RANK.EQ(R69,R67:R86,0),"") -> 3 | P69: =IF(K69="","",VLOOKUP(L69,G67:J86,2,0)) -> MANUELA MARTINAZZI MASCHIO | Q69: =IF(K69="","",VLOOKUP(P69,LISTAS!$F$5:$G$407,2,0)) -> LICEU JARDIM | R69: =IF(K69="","",VLOOKUP(L69,G67:J86,4,0)) -> 7.9 | S69: =IF($O69="","",IF($O69=1,400,IF($O69=2,340,IF($O69=3,300,IF($O69=4,280,IF($O69=5,270,IF($O69=6,260,IF($O69=7,250,IF($O69=8,240,IF($O69=9,200,IF($O69=10,200,IF($O69=11,200,IF($O69=12,200,IF($O69=13,200,IF($O69=14,200,IF($O69=15,200,IF($O69=16,200,IF($O69>16,"","")))))))))))))))))) -> 300 | T69: =IF(O69="","",IF($F$7="NÃO","",IF(O69=1,400,IF(O69=2,340,IF(O69=3,300,IF(O69=4,280,IF(O69=5,270,IF(O69=6,260,IF(O69=7,250,IF(O69=8,240,IF(O69=9,200,IF(O69=10,200,IF(O69=11,200,IF(O69=12,200,IF(O69=13,200,IF(O69=14,200,IF(O69=15,200,IF(O69=16,200,IF(O69>16,"",""))))))))))))))))))) -> 300
B70: MARIANA DE LIMA COSTA SANTOS | C70: =IF(B70="","",VLOOKUP(B70,LISTAS!$F$5:$I$1000,2,0)) -> COLÉGIO MONSENHOR ALEXANDRE | D70: SUB 13 | E70: 7.3 | G70: =IF(E70="","",E70+(ROW(E70)/10000)) -> 7.307 | H70: =IF($K70="","",IF(B70="","",B70)) -> MARIANA DE LIMA COSTA SANTOS | I70: =IF($K70="","",IF(C70="","",C70)) -> COLÉGIO MONSENHOR ALEXANDRE | J70: =IF($K70="","",E70) -> 7.3 | K70: =G70 -> 7.307 | L70: =IF(K70="","",LARGE(G67:G86,M70)) -> 7.7067 | M70: 4 | O70: =IF(R70<>"",_xlfn.RANK.EQ(R70,R67:R86,0),"") -> 4 | P70: =IF(K70="","",VLOOKUP(L70,G67:J86,2,0)) -> ALICE NASCIMENTO | Q70: =IF(K70="","",VLOOKUP(P70,LISTAS!$F$5:$G$407,2,0)) -> COLÉGIO MONSENHOR ALEXANDRE | R70: =IF(K70="","",VLOOKUP(L70,G67:J86,4,0)) -> 7.7 | S70: =IF($O70="","",IF($O70=1,400,IF($O70=2,340,IF($O70=3,300,IF($O70=4,280,IF($O70=5,270,IF($O70=6,260,IF($O70=7,250,IF($O70=8,240,IF($O70=9,200,IF($O70=10,200,IF($O70=11,200,IF($O70=12,200,IF($O70=13,200,IF($O70=14,200,IF($O70=15,200,IF($O70=16,200,IF($O70>16,"","")))))))))))))))))) -> 280 | T70: =IF(O70="","",IF($F$7="NÃO","",IF(O70=1,400,IF(O70=2,340,IF(O70=3,300,IF(O70=4,280,IF(O70=5,270,IF(O70=6,260,IF(O70=7,250,IF(O70=8,240,IF(O70=9,200,IF(O70=10,200,IF(O70=11,200,IF(O70=12,200,IF(O70=13,200,IF(O70=14,200,IF(O70=15,200,IF(O70=16,200,IF(O70>16,"",""))))))))))))))))))) -> 280
B71: MELISSA CIPRIANO SILVA | C71: =IF(B71="","",VLOOKUP(B71,LISTAS!$F$5:$I$1000,2,0)) -> COLÉGIO MONSENHOR ALEXANDRE | D71: SUB 13 | E71: 0 | G71: =IF(E71="","",E71+(ROW(E71)/10000)) -> 0.0071 | H71: =IF($K71="","",IF(B71="","",B71)) -> MELISSA CIPRIANO SILVA | I71: =IF($K71="","",IF(C71="","",C71)) -> COLÉGIO MONSENHOR ALEXANDRE | J71: =IF($K71="","",E71) -> 0 | K71: =G71 -> 0.0071 | L71: =IF(K71="","",LARGE(G67:G86,M71)) -> 7.6075 | M71: 5 | O71: =IF(R71<>"",_xlfn.RANK.EQ(R71,R67:R86,0),"") -> 5 | P71: =IF(K71="","",VLOOKUP(L71,G67:J86,2,0)) -> JÚLIA LOBATO DE BARROS | Q71: =IF(K71="","",VLOOKUP(P71,LISTAS!$F$5:$G$407,2,0)) -> LICEU JARDIM | R71: =IF(K71="","",VLOOKUP(L71,G67:J86,4,0)) -> 7.6 | S71: =IF($O71="","",IF($O71=1,400,IF($O71=2,340,IF($O71=3,300,IF($O71=4,280,IF($O71=5,270,IF($O71=6,260,IF($O71=7,250,IF($O71=8,240,IF($O71=9,200,IF($O71=10,200,IF($O71=11,200,IF($O71=12,200,IF($O71=13,200,IF($O71=14,200,IF($O71=15,200,IF($O71=16,200,IF($O71>16,"","")))))))))))))))))) -> 270 | T71: =IF(O71="","",IF($F$7="NÃO","",IF(O71=1,400,IF(O71=2,340,IF(O71=3,300,IF(O71=4,280,IF(O71=5,270,IF(O71=6,260,IF(O71=7,250,IF(O71=8,240,IF(O71=9,200,IF(O71=10,200,IF(O71=11,200,IF(O71=12,200,IF(O71=13,200,IF(O71=14,200,IF(O71=15,200,IF(O71=16,200,IF(O71>16,"",""))))))))))))))))))) -> 270
B72: MELISSA DOS REIS | C72: =IF(B72="","",VLOOKUP(B72,LISTAS!$F$5:$I$1000,2,0)) -> COLÉGIO MONSENHOR ALEXANDRE | D72: SUB 13 | E72: 8 | G72: =IF(E72="","",E72+(ROW(E72)/10000)) -> 8.0072 | H72: =IF($K72="","",IF(B72="","",B72)) -> MELISSA DOS REIS | I72: =IF($K72="","",IF(C72="","",C72)) -> COLÉGIO MONSENHOR ALEXANDRE | J72: =IF($K72="","",E72) -> 8 | K72: =G72 -> 8.0072 | L72: =IF(K72="","",LARGE(G67:G86,M72)) -> 7.5573 | M72: 6 | O72: =IF(R72<>"",_xlfn.RANK.EQ(R72,R67:R86,0),"") -> 6 | P72: =IF(K72="","",VLOOKUP(L72,G67:J86,2,0)) -> SOPHIA MARQUES PIVA | Q72: =IF(K72="","",VLOOKUP(P72,LISTAS!$F$5:$G$407,2,0)) -> COLÉGIO MONSENHOR ALEXANDRE | R72: =IF(K72="","",VLOOKUP(L72,G67:J86,4,0)) -> 7.55 | S72: =IF($O72="","",IF($O72=1,400,IF($O72=2,340,IF($O72=3,300,IF($O72=4,280,IF($O72=5,270,IF($O72=6,260,IF($O72=7,250,IF($O72=8,240,IF($O72=9,200,IF($O72=10,200,IF($O72=11,200,IF($O72=12,200,IF($O72=13,200,IF($O72=14,200,IF($O72=15,200,IF($O72=16,200,IF($O72>16,"","")))))))))))))))))) -> 260 | T72: =IF(O72="","",IF($F$7="NÃO","",IF(O72=1,400,IF(O72=2,340,IF(O72=3,300,IF(O72=4,280,IF(O72=5,270,IF(O72=6,260,IF(O72=7,250,IF(O72=8,240,IF(O72=9,200,IF(O72=10,200,IF(O72=11,200,IF(O72=12,200,IF(O72=13,200,IF(O72=14,200,IF(O72=15,200,IF(O72=16,200,IF(O72>16,"",""))))))))))))))))))) -> 260
B73: SOPHIA MARQUES PIVA | C73: =IF(B73="","",VLOOKUP(B73,LISTAS!$F$5:$I$1000,2,0)) -> COLÉGIO MONSENHOR ALEXANDRE | D73: SUB 13 | E73: 7.55 | G73: =IF(E73="","",E73+(ROW(E73)/10000)) -> 7.5573 | H73: =IF($K73="","",IF(B73="","",B73)) -> SOPHIA MARQUES PIVA | I73: =IF($K73="","",IF(C73="","",C73)) -> COLÉGIO MONSENHOR ALEXANDRE | J73: =IF($K73="","",E73) -> 7.55 | K73: =G73 -> 7.5573 | L73: =IF(K73="","",LARGE(G67:G86,M73)) -> 7.5068 | M73: 7 | O73: =IF(R73<>"",_xlfn.RANK.EQ(R73,R67:R86,0),"") -> 7 | P73: =IF(K73="","",VLOOKUP(L73,G67:J86,2,0)) -> ISABELI VENTURINI MERLIN | Q73: =IF(K73="","",VLOOKUP(P73,LISTAS!$F$5:$G$407,2,0)) -> COLÉGIO MONSENHOR ALEXANDRE | R73: =IF(K73="","",VLOOKUP(L73,G67:J86,4,0)) -> 7.5 | S73: =IF($O73="","",IF($O73=1,400,IF($O73=2,340,IF($O73=3,300,IF($O73=4,280,IF($O73=5,270,IF($O73=6,260,IF($O73=7,250,IF($O73=8,240,IF($O73=9,200,IF($O73=10,200,IF($O73=11,200,IF($O73=12,200,IF($O73=13,200,IF($O73=14,200,IF($O73=15,200,IF($O73=16,200,IF($O73>16,"","")))))))))))))))))) -> 250 | T73: =IF(O73="","",IF($F$7="NÃO","",IF(O73=1,400,IF(O73=2,340,IF(O73=3,300,IF(O73=4,280,IF(O73=5,270,IF(O73=6,260,IF(O73=7,250,IF(O73=8,240,IF(O73=9,200,IF(O73=10,200,IF(O73=11,200,IF(O73=12,200,IF(O73=13,200,IF(O73=14,200,IF(O73=15,200,IF(O73=16,200,IF(O73>16,"",""))))))))))))))))))) -> 250
B74: EMANUELLE MARCONDES DE LISBOA | C74: =IF(B74="","",VLOOKUP(B74,LISTAS!$F$5:$I$1000,2,0)) -> GRUPO FÊNIX DE EDUCAÇÃO | D74: SUB 13 | E74: 7.3 | G74: =IF(E74="","",E74+(ROW(E74)/10000)) -> 7.3074 | H74: =IF($K74="","",IF(B74="","",B74)) -> EMANUELLE MARCONDES DE LISBOA | I74: =IF($K74="","",IF(C74="","",C74)) -> GRUPO FÊNIX DE EDUCAÇÃO | J74: =IF($K74="","",E74) -> 7.3 | K74: =G74 -> 7.3074 | L74: =IF(K74="","",LARGE(G67:G86,M74)) -> 7.3074 | M74: 8 | O74: =IF(R74<>"",_xlfn.RANK.EQ(R74,R67:R86,0),"") -> 8 | P74: =IF(K74="","",VLOOKUP(L74,G67:J86,2,0)) -> EMANUELLE MARCONDES DE LISBOA | Q74: =IF(K74="","",VLOOKUP(P74,LISTAS!$F$5:$G$407,2,0)) -> GRUPO FÊNIX DE EDUCAÇÃO | R74: =IF(K74="","",VLOOKUP(L74,G67:J86,4,0)) -> 7.3 | S74: =IF($O74="","",IF($O74=1,400,IF($O74=2,340,IF($O74=3,300,IF($O74=4,280,IF($O74=5,270,IF($O74=6,260,IF($O74=7,250,IF($O74=8,240,IF($O74=9,200,IF($O74=10,200,IF($O74=11,200,IF($O74=12,200,IF($O74=13,200,IF($O74=14,200,IF($O74=15,200,IF($O74=16,200,IF($O74>16,"","")))))))))))))))))) -> 240 | T74: =IF(O74="","",IF($F$7="NÃO","",IF(O74=1,400,IF(O74=2,340,IF(O74=3,300,IF(O74=4,280,IF(O74=5,270,IF(O74=6,260,IF(O74=7,250,IF(O74=8,240,IF(O74=9,200,IF(O74=10,200,IF(O74=11,200,IF(O74=12,200,IF(O74=13,200,IF(O74=14,200,IF(O74=15,200,IF(O74=16,200,IF(O74>16,"",""))))))))))))))))))) -> 240
B75: JÚLIA LOBATO DE BARROS | C75: =IF(B75="","",VLOOKUP(B75,LISTAS!$F$5:$I$1000,2,0)) -> LICEU JARDIM | D75: SUB 13 | E75: 7.6 | G75: =IF(E75="","",E75+(ROW(E75)/10000)) -> 7.6075 | H75: =IF($K75="","",IF(B75="","",B75)) -> JÚLIA LOBATO DE BARROS | I75: =IF($K75="","",IF(C75="","",C75)) -> LICEU JARDIM | J75: =IF($K75="","",E75) -> 7.6 | K75: =G75 -> 7.6075 | L75: =IF(K75="","",LARGE(G67:G86,M75)) -> 7.307 | M75: 9 | O75: =IF(R75<>"",_xlfn.RANK.EQ(R75,R67:R86,0),"") -> 8 | P75: =IF(K75="","",VLOOKUP(L75,G67:J86,2,0)) -> MARIANA DE LIMA COSTA SANTOS | Q75: =IF(K75="","",VLOOKUP(P75,LISTAS!$F$5:$G$407,2,0)) -> COLÉGIO MONSENHOR ALEXANDRE | R75: =IF(K75="","",VLOOKUP(L75,G67:J86,4,0)) -> 7.3 | S75: =IF($O75="","",IF($O75=1,400,IF($O75=2,340,IF($O75=3,300,IF($O75=4,280,IF($O75=5,270,IF($O75=6,260,IF($O75=7,250,IF($O75=8,240,IF($O75=9,200,IF($O75=10,200,IF($O75=11,200,IF($O75=12,200,IF($O75=13,200,IF($O75=14,200,IF($O75=15,200,IF($O75=16,200,IF($O75>16,"","")))))))))))))))))) -> 240 | T75: =IF(O75="","",IF($F$7="NÃO","",IF(O75=1,400,IF(O75=2,340,IF(O75=3,300,IF(O75=4,280,IF(O75=5,270,IF(O75=6,260,IF(O75=7,250,IF(O75=8,240,IF(O75=9,200,IF(O75=10,200,IF(O75=11,200,IF(O75=12,200,IF(O75=13,200,IF(O75=14,200,IF(O75=15,200,IF(O75=16,200,IF(O75>16,"",""))))))))))))))))))) -> 240
B76: LAURA MORAIS CARNEIRO | C76: =IF(B76="","",VLOOKUP(B76,LISTAS!$F$5:$I$1000,2,0)) -> LICEU JARDIM | D76: SUB 13 | E76: 8 | G76: =IF(E76="","",E76+(ROW(E76)/10000)) -> 8.0076 | H76: =IF($K76="","",IF(B76="","",B76)) -> LAURA MORAIS CARNEIRO | I76: =IF($K76="","",IF(C76="","",C76)) -> LICEU JARDIM | J76: =IF($K76="","",E76) -> 8 | K76: =G76 -> 8.0076 | L76: =IF(K76="","",LARGE(G67:G86,M76)) -> 7.2077 | M76: 10 | O76: =IF(R76<>"",_xlfn.RANK.EQ(R76,R67:R86,0),"") -> 10 | P76: =IF(K76="","",VLOOKUP(L76,G67:J86,2,0)) -> LORENA GONZALEZ BROCO | Q76: =IF(K76="","",VLOOKUP(P76,LISTAS!$F$5:$G$407,2,0)) -> LICEU JARDIM | R76: =IF(K76="","",VLOOKUP(L76,G67:J86,4,0)) -> 7.2 | S76: =IF($O76="","",IF($O76=1,400,IF($O76=2,340,IF($O76=3,300,IF($O76=4,280,IF($O76=5,270,IF($O76=6,260,IF($O76=7,250,IF($O76=8,240,IF($O76=9,200,IF($O76=10,200,IF($O76=11,200,IF($O76=12,200,IF($O76=13,200,IF($O76=14,200,IF($O76=15,200,IF($O76=16,200,IF($O76>16,"","")))))))))))))))))) -> 200 | T76: =IF(O76="","",IF($F$7="NÃO","",IF(O76=1,400,IF(O76=2,340,IF(O76=3,300,IF(O76=4,280,IF(O76=5,270,IF(O76=6,260,IF(O76=7,250,IF(O76=8,240,IF(O76=9,200,IF(O76=10,200,IF(O76=11,200,IF(O76=12,200,IF(O76=13,200,IF(O76=14,200,IF(O76=15,200,IF(O76=16,200,IF(O76>16,"",""))))))))))))))))))) -> 200
B77: LORENA GONZALEZ BROCO | C77: =IF(B77="","",VLOOKUP(B77,LISTAS!$F$5:$I$1000,2,0)) -> LICEU JARDIM | D77: SUB 13 | E77: 7.2 | G77: =IF(E77="","",E77+(ROW(E77)/10000)) -> 7.2077 | H77: =IF($K77="","",IF(B77="","",B77)) -> LORENA GONZALEZ BROCO | I77: =IF($K77="","",IF(C77="","",C77)) -> LICEU JARDIM | J77: =IF($K77="","",E77) -> 7.2 | K77: =G77 -> 7.2077 | L77: =IF(K77="","",LARGE(G67:G86,M77)) -> 7.2069 | M77: 11 | O77: =IF(R77<>"",_xlfn.RANK.EQ(R77,R67:R86,0),"") -> 10 | P77: =IF(K77="","",VLOOKUP(L77,G67:J86,2,0)) -> LORENA VICENTE DA SILVA | Q77: =IF(K77="","",VLOOKUP(P77,LISTAS!$F$5:$G$407,2,0)) -> COLÉGIO MONSENHOR ALEXANDRE | R77: =IF(K77="","",VLOOKUP(L77,G67:J86,4,0)) -> 7.2 | S77: =IF($O77="","",IF($O77=1,400,IF($O77=2,340,IF($O77=3,300,IF($O77=4,280,IF($O77=5,270,IF($O77=6,260,IF($O77=7,250,IF($O77=8,240,IF($O77=9,200,IF($O77=10,200,IF($O77=11,200,IF($O77=12,200,IF($O77=13,200,IF($O77=14,200,IF($O77=15,200,IF($O77=16,200,IF($O77>16,"","")))))))))))))))))) -> 200 | T77: =IF(O77="","",IF($F$7="NÃO","",IF(O77=1,400,IF(O77=2,340,IF(O77=3,300,IF(O77=4,280,IF(O77=5,270,IF(O77=6,260,IF(O77=7,250,IF(O77=8,240,IF(O77=9,200,IF(O77=10,200,IF(O77=11,200,IF(O77=12,200,IF(O77=13,200,IF(O77=14,200,IF(O77=15,200,IF(O77=16,200,IF(O77>16,"",""))))))))))))))))))) -> 200
B78: MANUELA MARTINAZZI MASCHIO | C78: =IF(B78="","",VLOOKUP(B78,LISTAS!$F$5:$I$1000,2,0)) -> LICEU JARDIM | D78: SUB 13 | E78: 7.9 | G78: =IF(E78="","",E78+(ROW(E78)/10000)) -> 7.9078 | H78: =IF($K78="","",IF(B78="","",B78)) -> MANUELA MARTINAZZI MASCHIO | I78: =IF($K78="","",IF(C78="","",C78)) -> LICEU JARDIM | J78: =IF($K78="","",E78) -> 7.9 | K78: =G78 -> 7.9078 | L78: =IF(K78="","",LARGE(G67:G86,M78)) -> 0.0071 | M78: 12 | O78: =IF(R78<>"",_xlfn.RANK.EQ(R78,R67:R86,0),"") -> 12 | P78: =IF(K78="","",VLOOKUP(L78,G67:J86,2,0)) -> MELISSA CIPRIANO SILVA | Q78: =IF(K78="","",VLOOKUP(P78,LISTAS!$F$5:$G$407,2,0)) -> COLÉGIO MONSENHOR ALEXANDRE | R78: =IF(K78="","",VLOOKUP(L78,G67:J86,4,0)) -> 0
C79: =IF(B79="","",VLOOKUP(B79,LISTAS!$F$5:$I$1000,2,0)) | D79: =IF(B79="","",VLOOKUP(B79,LISTAS!$F$5:$I$204,4,0)) | L79: =IF(K79="","",LARGE(G67:G86,M79)) | M79: 13 | O79: =IF(R79<>"",_xlfn.RANK.EQ(R79,R67:R86,0),"") | P79: =IF(K79="","",VLOOKUP(L79,G67:J86,2,0)) | Q79: =IF(K79="","",VLOOKUP(P79,LISTAS!$F$5:$G$407,2,0)) | R79: =IF(K79="","",VLOOKUP(L79,G67:J86,4,0)) | S79: =IF($O79="","",IF($O79=1,400,IF($O79=2,340,IF($O79=3,300,IF($O79=4,280,IF($O79=5,270,IF($O79=6,260,IF($O79=7,250,IF($O79=8,240,IF($O79=9,200,IF($O79=10,200,IF($O79=11,200,IF($O79=12,200,IF($O79=13,200,IF($O79=14,200,IF($O79=15,200,IF($O79=16,200,IF($O79>16,"","")))))))))))))))))) | T79: =IF(O79="","",IF($F$7="NÃO","",IF(O79=1,400,IF(O79=2,340,IF(O79=3,300,IF(O79=4,280,IF(O79=5,270,IF(O79=6,260,IF(O79=7,250,IF(O79=8,240,IF(O79=9,200,IF(O79=10,200,IF(O79=11,200,IF(O79=12,200,IF(O79=13,200,IF(O79=14,200,IF(O79=15,200,IF(O79=16,200,IF(O79>16,"","")))))))))))))))))))
C80: =IF(B80="","",VLOOKUP(B80,LISTAS!$F$5:$I$1000,2,0)) | D80: =IF(B80="","",VLOOKUP(B80,LISTAS!$F$5:$I$204,4,0)) | L80: =IF(K80="","",LARGE(G67:G86,M80)) | M80: 14 | O80: =IF(R80<>"",_xlfn.RANK.EQ(R80,R67:R86,0),"") | P80: =IF(K80="","",VLOOKUP(L80,G67:J86,2,0)) | Q80: =IF(K80="","",VLOOKUP(P80,LISTAS!$F$5:$G$407,2,0)) | R80: =IF(K80="","",VLOOKUP(L80,G67:J86,4,0)) | S80: =IF($O80="","",IF($O80=1,400,IF($O80=2,340,IF($O80=3,300,IF($O80=4,280,IF($O80=5,270,IF($O80=6,260,IF($O80=7,250,IF($O80=8,240,IF($O80=9,200,IF($O80=10,200,IF($O80=11,200,IF($O80=12,200,IF($O80=13,200,IF($O80=14,200,IF($O80=15,200,IF($O80=16,200,IF($O80>16,"","")))))))))))))))))) | T80: =IF(O80="","",IF($F$7="NÃO","",IF(O80=1,400,IF(O80=2,340,IF(O80=3,300,IF(O80=4,280,IF(O80=5,270,IF(O80=6,260,IF(O80=7,250,IF(O80=8,240,IF(O80=9,200,IF(O80=10,200,IF(O80=11,200,IF(O80=12,200,IF(O80=13,200,IF(O80=14,200,IF(O80=15,200,IF(O80=16,200,IF(O80>16,"","")))))))))))))))))))
C81: =IF(B81="","",VLOOKUP(B81,LISTAS!$F$5:$I$1000,2,0)) | D81: =IF(B81="","",VLOOKUP(B81,LISTAS!$F$5:$I$204,4,0)) | L81: =IF(K81="","",LARGE(G67:G86,M81)) | M81: 15 | O81: =IF(R81<>"",_xlfn.RANK.EQ(R81,R67:R86,0),"") | P81: =IF(K81="","",VLOOKUP(L81,G67:J86,2,0)) | Q81: =IF(K81="","",VLOOKUP(P81,LISTAS!$F$5:$G$407,2,0)) | R81: =IF(K81="","",VLOOKUP(L81,G67:J86,4,0)) | S81: =IF($O81="","",IF($O81=1,400,IF($O81=2,340,IF($O81=3,300,IF($O81=4,280,IF($O81=5,270,IF($O81=6,260,IF($O81=7,250,IF($O81=8,240,IF($O81=9,200,IF($O81=10,200,IF($O81=11,200,IF($O81=12,200,IF($O81=13,200,IF($O81=14,200,IF($O81=15,200,IF($O81=16,200,IF($O81>16,"","")))))))))))))))))) | T81: =IF(O81="","",IF($F$7="NÃO","",IF(O81=1,400,IF(O81=2,340,IF(O81=3,300,IF(O81=4,280,IF(O81=5,270,IF(O81=6,260,IF(O81=7,250,IF(O81=8,240,IF(O81=9,200,IF(O81=10,200,IF(O81=11,200,IF(O81=12,200,IF(O81=13,200,IF(O81=14,200,IF(O81=15,200,IF(O81=16,200,IF(O81>16,"","")))))))))))))))))))
C82: =IF(B82="","",VLOOKUP(B82,LISTAS!$F$5:$I$1000,2,0)) | D82: =IF(B82="","",VLOOKUP(B82,LISTAS!$F$5:$I$204,4,0)) | L82: =IF(K82="","",LARGE(G67:G86,M82)) | M82: 16 | O82: =IF(R82<>"",_xlfn.RANK.EQ(R82,R67:R86,0),"") | P82: =IF(K82="","",VLOOKUP(L82,G67:J86,2,0)) | Q82: =IF(K82="","",VLOOKUP(P82,LISTAS!$F$5:$G$407,2,0)) | R82: =IF(K82="","",VLOOKUP(L82,G67:J86,4,0)) | S82: =IF($O82="","",IF($O82=1,400,IF($O82=2,340,IF($O82=3,300,IF($O82=4,280,IF($O82=5,270,IF($O82=6,260,IF($O82=7,250,IF($O82=8,240,IF($O82=9,200,IF($O82=10,200,IF($O82=11,200,IF($O82=12,200,IF($O82=13,200,IF($O82=14,200,IF($O82=15,200,IF($O82=16,200,IF($O82>16,"","")))))))))))))))))) | T82: =IF(O82="","",IF($F$7="NÃO","",IF(O82=1,400,IF(O82=2,340,IF(O82=3,300,IF(O82=4,280,IF(O82=5,270,IF(O82=6,260,IF(O82=7,250,IF(O82=8,240,IF(O82=9,200,IF(O82=10,200,IF(O82=11,200,IF(O82=12,200,IF(O82=13,200,IF(O82=14,200,IF(O82=15,200,IF(O82=16,200,IF(O82>16,"","")))))))))))))))))))
C83: =IF(B83="","",VLOOKUP(B83,LISTAS!$F$5:$I$1000,2,0)) | D83: =IF(B83="","",VLOOKUP(B83,LISTAS!$F$5:$I$204,4,0)) | G83: =IF(E83="","",E83+(ROW(E83)/10000)) | H83: =IF($K83="","",IF(B83="","",B83)) | I83: =IF($K83="","",IF(C83="","",C83)) | J83: =IF($K83="","",E83) | K83: =G83 | L83: =IF(K83="","",LARGE(G67:G86,M83)) | M83: 17 | O83: =IF(R83<>"",_xlfn.RANK.EQ(R83,R67:R86,0),"") | P83: =IF(K83="","",VLOOKUP(L83,G67:J86,2,0)) | Q83: =IF(K83="","",VLOOKUP(P83,LISTAS!$F$5:$G$407,2,0)) | R83: =IF(K83="","",VLOOKUP(L83,G67:J86,4,0)) | S83: =IF($O83="","",IF($O83=1,400,IF($O83=2,340,IF($O83=3,300,IF($O83=4,280,IF($O83=5,270,IF($O83=6,260,IF($O83=7,250,IF($O83=8,240,IF($O83=9,200,IF($O83=10,200,IF($O83=11,200,IF($O83=12,200,IF($O83=13,200,IF($O83=14,200,IF($O83=15,200,IF($O83=16,200,IF($O83>16,"","")))))))))))))))))) | T83: =IF(O83="","",IF($F$7="NÃO","",IF(O83=1,400,IF(O83=2,340,IF(O83=3,300,IF(O83=4,280,IF(O83=5,270,IF(O83=6,260,IF(O83=7,250,IF(O83=8,240,IF(O83=9,200,IF(O83=10,200,IF(O83=11,200,IF(O83=12,200,IF(O83=13,200,IF(O83=14,200,IF(O83=15,200,IF(O83=16,200,IF(O83>16,"","")))))))))))))))))))
C84: =IF(B84="","",VLOOKUP(B84,LISTAS!$F$5:$I$1000,2,0)) | D84: =IF(B84="","",VLOOKUP(B84,LISTAS!$F$5:$I$204,4,0)) | G84: =IF(E84="","",E84+(ROW(E84)/10000)) | H84: =IF($K84="","",IF(B84="","",B84)) | I84: =IF($K84="","",IF(C84="","",C84)) | J84: =IF($K84="","",E84) | K84: =G84 | L84: =IF(K84="","",LARGE(G67:G86,M84)) | M84: 18 | O84: =IF(R84<>"",_xlfn.RANK.EQ(R84,R67:R86,0),"") | P84: =IF(K84="","",VLOOKUP(L84,G67:J86,2,0)) | Q84: =IF(K84="","",VLOOKUP(P84,LISTAS!$F$5:$G$407,2,0)) | R84: =IF(K84="","",VLOOKUP(L84,G67:J86,4,0)) | S84: =IF($O84="","",IF($O84=1,400,IF($O84=2,340,IF($O84=3,300,IF($O84=4,280,IF($O84=5,270,IF($O84=6,260,IF($O84=7,250,IF($O84=8,240,IF($O84=9,200,IF($O84=10,200,IF($O84=11,200,IF($O84=12,200,IF($O84=13,200,IF($O84=14,200,IF($O84=15,200,IF($O84=16,200,IF($O84>16,"","")))))))))))))))))) | T84: =IF(O84="","",IF($F$7="NÃO","",IF(O84=1,400,IF(O84=2,340,IF(O84=3,300,IF(O84=4,280,IF(O84=5,270,IF(O84=6,260,IF(O84=7,250,IF(O84=8,240,IF(O84=9,200,IF(O84=10,200,IF(O84=11,200,IF(O84=12,200,IF(O84=13,200,IF(O84=14,200,IF(O84=15,200,IF(O84=16,200,IF(O84>16,"","")))))))))))))))))))
C85: =IF(B85="","",VLOOKUP(B85,LISTAS!$F$5:$I$1000,2,0)) | D85: =IF(B85="","",VLOOKUP(B85,LISTAS!$F$5:$I$204,4,0)) | L85: =IF(K85="","",LARGE(G67:G86,M85)) | M85: 19 | O85: =IF(R85<>"",_xlfn.RANK.EQ(R85,R67:R86,0),"") | P85: =IF(K85="","",VLOOKUP(L85,G67:J86,2,0)) | Q85: =IF(K85="","",VLOOKUP(P85,LISTAS!$F$5:$G$407,2,0)) | R85: =IF(K85="","",VLOOKUP(L85,G67:J86,4,0)) | S85: =IF($O85="","",IF($O85=1,400,IF($O85=2,340,IF($O85=3,300,IF($O85=4,280,IF($O85=5,270,IF($O85=6,260,IF($O85=7,250,IF($O85=8,240,IF($O85=9,200,IF($O85=10,200,IF($O85=11,200,IF($O85=12,200,IF($O85=13,200,IF($O85=14,200,IF($O85=15,200,IF($O85=16,200,IF($O85>16,"","")))))))))))))))))) | T85: =IF(O85="","",IF($F$7="NÃO","",IF(O85=1,400,IF(O85=2,340,IF(O85=3,300,IF(O85=4,280,IF(O85=5,270,IF(O85=6,260,IF(O85=7,250,IF(O85=8,240,IF(O85=9,200,IF(O85=10,200,IF(O85=11,200,IF(O85=12,200,IF(O85=13,200,IF(O85=14,200,IF(O85=15,200,IF(O85=16,200,IF(O85>16,"","")))))))))))))))))))
C86: =IF(B86="","",VLOOKUP(B86,LISTAS!$F$5:$I$1000,2,0)) | D86: =IF(B86="","",VLOOKUP(B86,LISTAS!$F$5:$I$204,4,0)) | G86: =IF(E86="","",E86+(ROW(E86)/10000)) | H86: =IF($K86="","",IF(B86="","",B86)) | I86: =IF($K86="","",IF(C86="","",C86)) | J86: =IF($K86="","",E86) | K86: =G86 | L86: =IF(K86="","",LARGE(G67:G86,M86)) | M86: 20 | O86: =IF(R86<>"",_xlfn.RANK.EQ(R86,R67:R86,0),"") | P86: =IF(K86="","",VLOOKUP(L86,G67:J86,2,0)) | Q86: =IF(K86="","",VLOOKUP(P86,LISTAS!$F$5:$G$407,2,0)) | R86: =IF(K86="","",VLOOKUP(L86,G67:J86,4,0)) | S86: =IF($O86="","",IF($O86=1,400,IF($O86=2,340,IF($O86=3,300,IF($O86=4,280,IF($O86=5,270,IF($O86=6,260,IF($O86=7,250,IF($O86=8,240,IF($O86=9,200,IF($O86=10,200,IF($O86=11,200,IF($O86=12,200,IF($O86=13,200,IF($O86=14,200,IF($O86=15,200,IF($O86=16,200,IF($O86>16,"","")))))))))))))))))) | T86: =IF(O86="","",IF($F$7="NÃO","",IF(O86=1,400,IF(O86=2,340,IF(O86=3,300,IF(O86=4,280,IF(O86=5,270,IF(O86=6,260,IF(O86=7,250,IF(O86=8,240,IF(O86=9,200,IF(O86=10,200,IF(O86=11,200,IF(O86=12,200,IF(O86=13,200,IF(O86=14,200,IF(O86=15,200,IF(O86=16,200,IF(O86>16,"","")))))))))))))))))))
B88: SUB 15 FEMININO | O88: CLASSIFICAÇÃO FINAL
B90: NOMES | C90: ESCOLA | D90: FILIAL / TURMA | E90: NOTA | O90: CLASSIFICAÇÃO | P90: NOMES | Q90: ESCOLA | R90: TEMPO | S90: PONTUAÇÃO ALUNO | T90: PONTUAÇÃO ESCOLA
B91: LAURA SERRATI MORELLI | C91: =IF(B91="","",VLOOKUP(B91,LISTAS!$F$5:$I$1000,2,0)) -> LICEU JARDIM | D91: SUB 15 | E91: 7.1 | G91: =IF(E91="","",E91+(ROW(E91)/10000)) -> 7.1091 | H91: =IF($K91="","",IF(B91="","",B91)) -> LAURA SERRATI MORELLI | I91: =IF($K91="","",IF(C91="","",C91)) -> LICEU JARDIM | J91: =IF($K91="","",E91) -> 7.1 | K91: =G91 -> 7.1091 | L91: =IF(K91="","",LARGE(G91:G110,M91)) -> 7.1091 | M91: 1 | O91: =IF(R91<>"",_xlfn.RANK.EQ(R91,R91:R110,0),"") -> 1 | P91: =IF(K91="","",VLOOKUP(L91,G91:J110,2,0)) -> LAURA SERRATI MORELLI | Q91: =IF(K91="","",VLOOKUP(P91,LISTAS!$F$5:$G$407,2,0)) -> LICEU JARDIM | R91: =IF(K91="","",VLOOKUP(L91,G91:J110,4,0)) -> 7.1 | S91: =IF($O91="","",IF($O91=1,400,IF($O91=2,340,IF($O91=3,300,IF($O91=4,280,IF($O91=5,270,IF($O91=6,260,IF($O91=7,250,IF($O91=8,240,IF($O91=9,200,IF($O91=10,200,IF($O91=11,200,IF($O91=12,200,IF($O91=13,200,IF($O91=14,200,IF($O91=15,200,IF($O91=16,200,IF($O91>16,"","")))))))))))))))))) -> 400 | T91: =IF(O91="","",IF($F$7="NÃO","",IF(O91=1,400,IF(O91=2,340,IF(O91=3,300,IF(O91=4,280,IF(O91=5,270,IF(O91=6,260,IF(O91=7,250,IF(O91=8,240,IF(O91=9,200,IF(O91=10,200,IF(O91=11,200,IF(O91=12,200,IF(O91=13,200,IF(O91=14,200,IF(O91=15,200,IF(O91=16,200,IF(O91>16,"",""))))))))))))))))))) -> 400
B92: ISABELLA RODRIGUES DE MOURA | C92: =IF(B92="","",VLOOKUP(B92,LISTAS!$F$5:$I$1000,2,0)) -> COLEGIO AMORIM | D92: =IF(B92="","",VLOOKUP(B92,LISTAS!$F$5:$I$204,4,0)) -> SUB 15 | E92: 7 | G92: =IF(E92="","",E92+(ROW(E92)/10000)) -> 7.0092 | H92: =IF($K92="","",IF(B92="","",B92)) -> ISABELLA RODRIGUES DE MOURA | I92: =IF($K92="","",IF(C92="","",C92)) -> COLEGIO AMORIM | J92: =IF($K92="","",E92) -> 7 | K92: =G92 -> 7.0092 | L92: =IF(K92="","",LARGE(G91:G110,M92)) -> 7.0092 | M92: 2 | O92: =IF(R92<>"",_xlfn.RANK.EQ(R92,R91:R110,0),"") -> 2 | P92: =IF(K92="","",VLOOKUP(L92,G91:J110,2,0)) -> ISABELLA RODRIGUES DE MOURA | Q92: =IF(K92="","",VLOOKUP(P92,LISTAS!$F$5:$G$407,2,0)) -> COLEGIO AMORIM | R92: =IF(K92="","",VLOOKUP(L92,G91:J110,4,0)) -> 7 | S92: =IF($O92="","",IF($O92=1,400,IF($O92=2,340,IF($O92=3,300,IF($O92=4,280,IF($O92=5,270,IF($O92=6,260,IF($O92=7,250,IF($O92=8,240,IF($O92=9,200,IF($O92=10,200,IF($O92=11,200,IF($O92=12,200,IF($O92=13,200,IF($O92=14,200,IF($O92=15,200,IF($O92=16,200,IF($O92>16,"","")))))))))))))))))) -> 340 | T92: =IF(O92="","",IF($F$7="NÃO","",IF(O92=1,400,IF(O92=2,340,IF(O92=3,300,IF(O92=4,280,IF(O92=5,270,IF(O92=6,260,IF(O92=7,250,IF(O92=8,240,IF(O92=9,200,IF(O92=10,200,IF(O92=11,200,IF(O92=12,200,IF(O92=13,200,IF(O92=14,200,IF(O92=15,200,IF(O92=16,200,IF(O92>16,"",""))))))))))))))))))) -> 340
B93: MARIANA TAKANO SOARES | C93: =IF(B93="","",VLOOKUP(B93,LISTAS!$F$5:$I$1000,2,0)) -> COLEGIO AMORIM | D93: SUB 15 | E93: 6.5 | G93: =IF(E93="","",E93+(ROW(E93)/10000)) -> 6.5093 | H93: =IF($K93="","",IF(B93="","",B93)) -> MARIANA TAKANO SOARES | I93: =IF($K93="","",IF(C93="","",C93)) -> COLEGIO AMORIM | J93: =IF($K93="","",E93) -> 6.5 | K93: =G93 -> 6.5093 | L93: =IF(K93="","",LARGE(G91:G110,M93)) -> 6.5093 | M93: 3 | O93: =IF(R93<>"",_xlfn.RANK.EQ(R93,R91:R110,0),"") -> 3 | P93: =IF(K93="","",VLOOKUP(L93,G91:J110,2,0)) -> MARIANA TAKANO SOARES | Q93: =IF(K93="","",VLOOKUP(P93,LISTAS!$F$5:$G$407,2,0)) -> COLEGIO AMORIM | R93: =IF(K93="","",VLOOKUP(L93,G91:J110,4,0)) -> 6.5 | S93: =IF($O93="","",IF($O93=1,400,IF($O93=2,340,IF($O93=3,300,IF($O93=4,280,IF($O93=5,270,IF($O93=6,260,IF($O93=7,250,IF($O93=8,240,IF($O93=9,200,IF($O93=10,200,IF($O93=11,200,IF($O93=12,200,IF($O93=13,200,IF($O93=14,200,IF($O93=15,200,IF($O93=16,200,IF($O93>16,"","")))))))))))))))))) -> 300 | T93: =IF(O93="","",IF($F$7="NÃO","",IF(O93=1,400,IF(O93=2,340,IF(O93=3,300,IF(O93=4,280,IF(O93=5,270,IF(O93=6,260,IF(O93=7,250,IF(O93=8,240,IF(O93=9,200,IF(O93=10,200,IF(O93=11,200,IF(O93=12,200,IF(O93=13,200,IF(O93=14,200,IF(O93=15,200,IF(O93=16,200,IF(O93>16,"",""))))))))))))))))))) -> 300
C94: =IF(B94="","",VLOOKUP(B94,LISTAS!$F$5:$I$1000,2,0)) | D94: =IF(B94="","",VLOOKUP(B94,LISTAS!$F$5:$I$204,4,0)) | G94: =IF(E94="","",E94+(ROW(E94)/10000)) | H94: =IF($K94="","",IF(B94="","",B94)) | I94: =IF($K94="","",IF(C94="","",C94)) | J94: =IF($K94="","",E94) | K94: =G94 | L94: =IF(K94="","",LARGE(G91:G110,M94)) | M94: 4 | O94: =IF(R94<>"",_xlfn.RANK.EQ(R94,R91:R110,0),"") | P94: =IF(K94="","",VLOOKUP(L94,G91:J110,2,0)) | Q94: =IF(K94="","",VLOOKUP(P94,LISTAS!$F$5:$G$407,2,0)) | R94: =IF(K94="","",VLOOKUP(L94,G91:J110,4,0)) | S94: =IF($O94="","",IF($O94=1,400,IF($O94=2,340,IF($O94=3,300,IF($O94=4,280,IF($O94=5,270,IF($O94=6,260,IF($O94=7,250,IF($O94=8,240,IF($O94=9,200,IF($O94=10,200,IF($O94=11,200,IF($O94=12,200,IF($O94=13,200,IF($O94=14,200,IF($O94=15,200,IF($O94=16,200,IF($O94>16,"","")))))))))))))))))) | T94: =IF(O94="","",IF($F$7="NÃO","",IF(O94=1,400,IF(O94=2,340,IF(O94=3,300,IF(O94=4,280,IF(O94=5,270,IF(O94=6,260,IF(O94=7,250,IF(O94=8,240,IF(O94=9,200,IF(O94=10,200,IF(O94=11,200,IF(O94=12,200,IF(O94=13,200,IF(O94=14,200,IF(O94=15,200,IF(O94=16,200,IF(O94>16,"","")))))))))))))))))))
C95: =IF(B95="","",VLOOKUP(B95,LISTAS!$F$5:$I$1000,2,0)) | D95: =IF(B95="","",VLOOKUP(B95,LISTAS!$F$5:$I$204,4,0)) | G95: =IF(E95="","",E95+(ROW(E95)/10000)) | H95: =IF($K95="","",IF(B95="","",B95)) | I95: =IF($K95="","",IF(C95="","",C95)) | J95: =IF($K95="","",E95) | K95: =G95 | L95: =IF(K95="","",LARGE(G91:G110,M95)) | M95: 5 | O95: =IF(R95<>"",_xlfn.RANK.EQ(R95,R91:R110,0),"") | P95: =IF(K95="","",VLOOKUP(L95,G91:J110,2,0)) | Q95: =IF(K95="","",VLOOKUP(P95,LISTAS!$F$5:$G$407,2,0)) | R95: =IF(K95="","",VLOOKUP(L95,G91:J110,4,0)) | S95: =IF($O95="","",IF($O95=1,400,IF($O95=2,340,IF($O95=3,300,IF($O95=4,280,IF($O95=5,270,IF($O95=6,260,IF($O95=7,250,IF($O95=8,240,IF($O95=9,200,IF($O95=10,200,IF($O95=11,200,IF($O95=12,200,IF($O95=13,200,IF($O95=14,200,IF($O95=15,200,IF($O95=16,200,IF($O95>16,"","")))))))))))))))))) | T95: =IF(O95="","",IF($F$7="NÃO","",IF(O95=1,400,IF(O95=2,340,IF(O95=3,300,IF(O95=4,280,IF(O95=5,270,IF(O95=6,260,IF(O95=7,250,IF(O95=8,240,IF(O95=9,200,IF(O95=10,200,IF(O95=11,200,IF(O95=12,200,IF(O95=13,200,IF(O95=14,200,IF(O95=15,200,IF(O95=16,200,IF(O95>16,"","")))))))))))))))))))
C96: =IF(B96="","",VLOOKUP(B96,LISTAS!$F$5:$I$1000,2,0)) | D96: =IF(B96="","",VLOOKUP(B96,LISTAS!$F$5:$I$204,4,0)) | G96: =IF(E96="","",E96+(ROW(E96)/10000)) | H96: =IF($K96="","",IF(B96="","",B96)) | I96: =IF($K96="","",IF(C96="","",C96)) | J96: =IF($K96="","",E96) | K96: =G96 | L96: =IF(K96="","",LARGE(G91:G110,M96)) | M96: 6 | O96: =IF(R96<>"",_xlfn.RANK.EQ(R96,R91:R110,0),"") | P96: =IF(K96="","",VLOOKUP(L96,G91:J110,2,0)) | Q96: =IF(K96="","",VLOOKUP(P96,LISTAS!$F$5:$G$407,2,0)) | R96: =IF(K96="","",VLOOKUP(L96,G91:J110,4,0)) | S96: =IF($O96="","",IF($O96=1,400,IF($O96=2,340,IF($O96=3,300,IF($O96=4,280,IF($O96=5,270,IF($O96=6,260,IF($O96=7,250,IF($O96=8,240,IF($O96=9,200,IF($O96=10,200,IF($O96=11,200,IF($O96=12,200,IF($O96=13,200,IF($O96=14,200,IF($O96=15,200,IF($O96=16,200,IF($O96>16,"","")))))))))))))))))) | T96: =IF(O96="","",IF($F$7="NÃO","",IF(O96=1,400,IF(O96=2,340,IF(O96=3,300,IF(O96=4,280,IF(O96=5,270,IF(O96=6,260,IF(O96=7,250,IF(O96=8,240,IF(O96=9,200,IF(O96=10,200,IF(O96=11,200,IF(O96=12,200,IF(O96=13,200,IF(O96=14,200,IF(O96=15,200,IF(O96=16,200,IF(O96>16,"","")))))))))))))))))))
C97: =IF(B97="","",VLOOKUP(B97,LISTAS!$F$5:$I$1000,2,0)) | D97: =IF(B97="","",VLOOKUP(B97,LISTAS!$F$5:$I$204,4,0)) | G97: =IF(E97="","",E97+(ROW(E97)/10000)) | H97: =IF($K97="","",IF(B97="","",B97)) | I97: =IF($K97="","",IF(C97="","",C97)) | J97: =IF($K97="","",E97) | K97: =G97 | L97: =IF(K97="","",LARGE(G91:G110,M97)) | M97: 7 | O97: =IF(R97<>"",_xlfn.RANK.EQ(R97,R91:R110,0),"") | P97: =IF(K97="","",VLOOKUP(L97,G91:J110,2,0)) | Q97: =IF(K97="","",VLOOKUP(P97,LISTAS!$F$5:$G$407,2,0)) | R97: =IF(K97="","",VLOOKUP(L97,G91:J110,4,0)) | S97: =IF($O97="","",IF($O97=1,400,IF($O97=2,340,IF($O97=3,300,IF($O97=4,280,IF($O97=5,270,IF($O97=6,260,IF($O97=7,250,IF($O97=8,240,IF($O97=9,200,IF($O97=10,200,IF($O97=11,200,IF($O97=12,200,IF($O97=13,200,IF($O97=14,200,IF($O97=15,200,IF($O97=16,200,IF($O97>16,"","")))))))))))))))))) | T97: =IF(O97="","",IF($F$7="NÃO","",IF(O97=1,400,IF(O97=2,340,IF(O97=3,300,IF(O97=4,280,IF(O97=5,270,IF(O97=6,260,IF(O97=7,250,IF(O97=8,240,IF(O97=9,200,IF(O97=10,200,IF(O97=11,200,IF(O97=12,200,IF(O97=13,200,IF(O97=14,200,IF(O97=15,200,IF(O97=16,200,IF(O97>16,"","")))))))))))))))))))
C98: =IF(B98="","",VLOOKUP(B98,LISTAS!$F$5:$I$1000,2,0)) | D98: =IF(B98="","",VLOOKUP(B98,LISTAS!$F$5:$I$204,4,0)) | L98: =IF(K98="","",LARGE(G91:G110,M98)) | M98: 8 | O98: =IF(R98<>"",_xlfn.RANK.EQ(R98,R91:R110,0),"") | P98: =IF(K98="","",VLOOKUP(L98,G91:J110,2,0)) | Q98: =IF(K98="","",VLOOKUP(P98,LISTAS!$F$5:$G$407,2,0)) | R98: =IF(K98="","",VLOOKUP(L98,G91:J110,4,0)) | S98: =IF($O98="","",IF($O98=1,400,IF($O98=2,340,IF($O98=3,300,IF($O98=4,280,IF($O98=5,270,IF($O98=6,260,IF($O98=7,250,IF($O98=8,240,IF($O98=9,200,IF($O98=10,200,IF($O98=11,200,IF($O98=12,200,IF($O98=13,200,IF($O98=14,200,IF($O98=15,200,IF($O98=16,200,IF($O98>16,"","")))))))))))))))))) | T98: =IF(O98="","",IF($F$7="NÃO","",IF(O98=1,400,IF(O98=2,340,IF(O98=3,300,IF(O98=4,280,IF(O98=5,270,IF(O98=6,260,IF(O98=7,250,IF(O98=8,240,IF(O98=9,200,IF(O98=10,200,IF(O98=11,200,IF(O98=12,200,IF(O98=13,200,IF(O98=14,200,IF(O98=15,200,IF(O98=16,200,IF(O98>16,"","")))))))))))))))))))
C99: =IF(B99="","",VLOOKUP(B99,LISTAS!$F$5:$I$1000,2,0)) | D99: =IF(B99="","",VLOOKUP(B99,LISTAS!$F$5:$I$204,4,0)) | L99: =IF(K99="","",LARGE(G91:G110,M99)) | M99: 9 | O99: =IF(R99<>"",_xlfn.RANK.EQ(R99,R91:R110,0),"") | P99: =IF(K99="","",VLOOKUP(L99,G91:J110,2,0)) | Q99: =IF(K99="","",VLOOKUP(P99,LISTAS!$F$5:$G$407,2,0)) | R99: =IF(K99="","",VLOOKUP(L99,G91:J110,4,0)) | S99: =IF($O99="","",IF($O99=1,400,IF($O99=2,340,IF($O99=3,300,IF($O99=4,280,IF($O99=5,270,IF($O99=6,260,IF($O99=7,250,IF($O99=8,240,IF($O99=9,200,IF($O99=10,200,IF($O99=11,200,IF($O99=12,200,IF($O99=13,200,IF($O99=14,200,IF($O99=15,200,IF($O99=16,200,IF($O99>16,"","")))))))))))))))))) | T99: =IF(O99="","",IF($F$7="NÃO","",IF(O99=1,400,IF(O99=2,340,IF(O99=3,300,IF(O99=4,280,IF(O99=5,270,IF(O99=6,260,IF(O99=7,250,IF(O99=8,240,IF(O99=9,200,IF(O99=10,200,IF(O99=11,200,IF(O99=12,200,IF(O99=13,200,IF(O99=14,200,IF(O99=15,200,IF(O99=16,200,IF(O99>16,"","")))))))))))))))))))
C100: =IF(B100="","",VLOOKUP(B100,LISTAS!$F$5:$I$1000,2,0)) | D100: =IF(B100="","",VLOOKUP(B100,LISTAS!$F$5:$I$204,4,0)) | L100: =IF(K100="","",LARGE(G91:G110,M100)) | M100: 10 | O100: =IF(R100<>"",_xlfn.RANK.EQ(R100,R91:R110,0),"") | P100: =IF(K100="","",VLOOKUP(L100,G91:J110,2,0)) | Q100: =IF(K100="","",VLOOKUP(P100,LISTAS!$F$5:$G$407,2,0)) | R100: =IF(K100="","",VLOOKUP(L100,G91:J110,4,0)) | S100: =IF($O100="","",IF($O100=1,400,IF($O100=2,340,IF($O100=3,300,IF($O100=4,280,IF($O100=5,270,IF($O100=6,260,IF($O100=7,250,IF($O100=8,240,IF($O100=9,200,IF($O100=10,200,IF($O100=11,200,IF($O100=12,200,IF($O100=13,200,IF($O100=14,200,IF($O100=15,200,IF($O100=16,200,IF($O100>16,"","")))))))))))))))))) | T100: =IF(O100="","",IF($F$7="NÃO","",IF(O100=1,400,IF(O100=2,340,IF(O100=3,300,IF(O100=4,280,IF(O100=5,270,IF(O100=6,260,IF(O100=7,250,IF(O100=8,240,IF(O100=9,200,IF(O100=10,200,IF(O100=11,200,IF(O100=12,200,IF(O100=13,200,IF(O100=14,200,IF(O100=15,200,IF(O100=16,200,IF(O100>16,"","")))))))))))))))))))
C101: =IF(B101="","",VLOOKUP(B101,LISTAS!$F$5:$I$1000,2,0)) | D101: =IF(B101="","",VLOOKUP(B101,LISTAS!$F$5:$I$204,4,0)) | L101: =IF(K101="","",LARGE(G91:G110,M101)) | M101: 11 | O101: =IF(R101<>"",_xlfn.RANK.EQ(R101,R91:R110,0),"") | P101: =IF(K101="","",VLOOKUP(L101,G91:J110,2,0)) | Q101: =IF(K101="","",VLOOKUP(P101,LISTAS!$F$5:$G$407,2,0)) | R101: =IF(K101="","",VLOOKUP(L101,G91:J110,4,0)) | S101: =IF($O101="","",IF($O101=1,400,IF($O101=2,340,IF($O101=3,300,IF($O101=4,280,IF($O101=5,270,IF($O101=6,260,IF($O101=7,250,IF($O101=8,240,IF($O101=9,200,IF($O101=10,200,IF($O101=11,200,IF($O101=12,200,IF($O101=13,200,IF($O101=14,200,IF($O101=15,200,IF($O101=16,200,IF($O101>16,"","")))))))))))))))))) | T101: =IF(O101="","",IF($F$7="NÃO","",IF(O101=1,400,IF(O101=2,340,IF(O101=3,300,IF(O101=4,280,IF(O101=5,270,IF(O101=6,260,IF(O101=7,250,IF(O101=8,240,IF(O101=9,200,IF(O101=10,200,IF(O101=11,200,IF(O101=12,200,IF(O101=13,200,IF(O101=14,200,IF(O101=15,200,IF(O101=16,200,IF(O101>16,"","")))))))))))))))))))
C102: =IF(B102="","",VLOOKUP(B102,LISTAS!$F$5:$I$1000,2,0)) | D102: =IF(B102="","",VLOOKUP(B102,LISTAS!$F$5:$I$204,4,0)) | L102: =IF(K102="","",LARGE(G91:G110,M102)) | M102: 12 | O102: =IF(R102<>"",_xlfn.RANK.EQ(R102,R91:R110,0),"") | P102: =IF(K102="","",VLOOKUP(L102,G91:J110,2,0)) | Q102: =IF(K102="","",VLOOKUP(P102,LISTAS!$F$5:$G$407,2,0)) | R102: =IF(K102="","",VLOOKUP(L102,G91:J110,4,0)) | S102: =IF($O102="","",IF($O102=1,400,IF($O102=2,340,IF($O102=3,300,IF($O102=4,280,IF($O102=5,270,IF($O102=6,260,IF($O102=7,250,IF($O102=8,240,IF($O102=9,200,IF($O102=10,200,IF($O102=11,200,IF($O102=12,200,IF($O102=13,200,IF($O102=14,200,IF($O102=15,200,IF($O102=16,200,IF($O102>16,"","")))))))))))))))))) | T102: =IF(O102="","",IF($F$7="NÃO","",IF(O102=1,400,IF(O102=2,340,IF(O102=3,300,IF(O102=4,280,IF(O102=5,270,IF(O102=6,260,IF(O102=7,250,IF(O102=8,240,IF(O102=9,200,IF(O102=10,200,IF(O102=11,200,IF(O102=12,200,IF(O102=13,200,IF(O102=14,200,IF(O102=15,200,IF(O102=16,200,IF(O102>16,"","")))))))))))))))))))
C103: =IF(B103="","",VLOOKUP(B103,LISTAS!$F$5:$I$1000,2,0)) | D103: =IF(B103="","",VLOOKUP(B103,LISTAS!$F$5:$I$204,4,0)) | L103: =IF(K103="","",LARGE(G91:G110,M103)) | M103: 13 | O103: =IF(R103<>"",_xlfn.RANK.EQ(R103,R91:R110,0),"") | P103: =IF(K103="","",VLOOKUP(L103,G91:J110,2,0)) | Q103: =IF(K103="","",VLOOKUP(P103,LISTAS!$F$5:$G$407,2,0)) | R103: =IF(K103="","",VLOOKUP(L103,G91:J110,4,0)) | S103: =IF($O103="","",IF($O103=1,400,IF($O103=2,340,IF($O103=3,300,IF($O103=4,280,IF($O103=5,270,IF($O103=6,260,IF($O103=7,250,IF($O103=8,240,IF($O103=9,200,IF($O103=10,200,IF($O103=11,200,IF($O103=12,200,IF($O103=13,200,IF($O103=14,200,IF($O103=15,200,IF($O103=16,200,IF($O103>16,"","")))))))))))))))))) | T103: =IF(O103="","",IF($F$7="NÃO","",IF(O103=1,400,IF(O103=2,340,IF(O103=3,300,IF(O103=4,280,IF(O103=5,270,IF(O103=6,260,IF(O103=7,250,IF(O103=8,240,IF(O103=9,200,IF(O103=10,200,IF(O103=11,200,IF(O103=12,200,IF(O103=13,200,IF(O103=14,200,IF(O103=15,200,IF(O103=16,200,IF(O103>16,"","")))))))))))))))))))
C104: =IF(B104="","",VLOOKUP(B104,LISTAS!$F$5:$I$1000,2,0)) | D104: =IF(B104="","",VLOOKUP(B104,LISTAS!$F$5:$I$204,4,0)) | L104: =IF(K104="","",LARGE(G91:G110,M104)) | M104: 14 | O104: =IF(R104<>"",_xlfn.RANK.EQ(R104,R91:R110,0),"") | P104: =IF(K104="","",VLOOKUP(L104,G91:J110,2,0)) | Q104: =IF(K104="","",VLOOKUP(P104,LISTAS!$F$5:$G$407,2,0)) | R104: =IF(K104="","",VLOOKUP(L104,G91:J110,4,0)) | S104: =IF($O104="","",IF($O104=1,400,IF($O104=2,340,IF($O104=3,300,IF($O104=4,280,IF($O104=5,270,IF($O104=6,260,IF($O104=7,250,IF($O104=8,240,IF($O104=9,200,IF($O104=10,200,IF($O104=11,200,IF($O104=12,200,IF($O104=13,200,IF($O104=14,200,IF($O104=15,200,IF($O104=16,200,IF($O104>16,"","")))))))))))))))))) | T104: =IF(O104="","",IF($F$7="NÃO","",IF(O104=1,400,IF(O104=2,340,IF(O104=3,300,IF(O104=4,280,IF(O104=5,270,IF(O104=6,260,IF(O104=7,250,IF(O104=8,240,IF(O104=9,200,IF(O104=10,200,IF(O104=11,200,IF(O104=12,200,IF(O104=13,200,IF(O104=14,200,IF(O104=15,200,IF(O104=16,200,IF(O104>16,"","")))))))))))))))))))
C105: =IF(B105="","",VLOOKUP(B105,LISTAS!$F$5:$I$1000,2,0)) | D105: =IF(B105="","",VLOOKUP(B105,LISTAS!$F$5:$I$204,4,0)) | L105: =IF(K105="","",LARGE(G91:G110,M105)) | M105: 15 | O105: =IF(R105<>"",_xlfn.RANK.EQ(R105,R91:R110,0),"") | P105: =IF(K105="","",VLOOKUP(L105,G91:J110,2,0)) | Q105: =IF(K105="","",VLOOKUP(P105,LISTAS!$F$5:$G$407,2,0)) | R105: =IF(K105="","",VLOOKUP(L105,G91:J110,4,0)) | S105: =IF($O105="","",IF($O105=1,400,IF($O105=2,340,IF($O105=3,300,IF($O105=4,280,IF($O105=5,270,IF($O105=6,260,IF($O105=7,250,IF($O105=8,240,IF($O105=9,200,IF($O105=10,200,IF($O105=11,200,IF($O105=12,200,IF($O105=13,200,IF($O105=14,200,IF($O105=15,200,IF($O105=16,200,IF($O105>16,"","")))))))))))))))))) | T105: =IF(O105="","",IF($F$7="NÃO","",IF(O105=1,400,IF(O105=2,340,IF(O105=3,300,IF(O105=4,280,IF(O105=5,270,IF(O105=6,260,IF(O105=7,250,IF(O105=8,240,IF(O105=9,200,IF(O105=10,200,IF(O105=11,200,IF(O105=12,200,IF(O105=13,200,IF(O105=14,200,IF(O105=15,200,IF(O105=16,200,IF(O105>16,"","")))))))))))))))))))
C106: =IF(B106="","",VLOOKUP(B106,LISTAS!$F$5:$I$1000,2,0)) | D106: =IF(B106="","",VLOOKUP(B106,LISTAS!$F$5:$I$204,4,0)) | L106: =IF(K106="","",LARGE(G91:G110,M106)) | M106: 16 | O106: =IF(R106<>"",_xlfn.RANK.EQ(R106,R91:R110,0),"") | P106: =IF(K106="","",VLOOKUP(L106,G91:J110,2,0)) | Q106: =IF(K106="","",VLOOKUP(P106,LISTAS!$F$5:$G$407,2,0)) | R106: =IF(K106="","",VLOOKUP(L106,G91:J110,4,0)) | S106: =IF($O106="","",IF($O106=1,400,IF($O106=2,340,IF($O106=3,300,IF($O106=4,280,IF($O106=5,270,IF($O106=6,260,IF($O106=7,250,IF($O106=8,240,IF($O106=9,200,IF($O106=10,200,IF($O106=11,200,IF($O106=12,200,IF($O106=13,200,IF($O106=14,200,IF($O106=15,200,IF($O106=16,200,IF($O106>16,"","")))))))))))))))))) | T106: =IF(O106="","",IF($F$7="NÃO","",IF(O106=1,400,IF(O106=2,340,IF(O106=3,300,IF(O106=4,280,IF(O106=5,270,IF(O106=6,260,IF(O106=7,250,IF(O106=8,240,IF(O106=9,200,IF(O106=10,200,IF(O106=11,200,IF(O106=12,200,IF(O106=13,200,IF(O106=14,200,IF(O106=15,200,IF(O106=16,200,IF(O106>16,"","")))))))))))))))))))
C107: =IF(B107="","",VLOOKUP(B107,LISTAS!$F$5:$I$1000,2,0)) | D107: =IF(B107="","",VLOOKUP(B107,LISTAS!$F$5:$I$204,4,0)) | G107: =IF(E107="","",E107+(ROW(E107)/10000)) | H107: =IF($K107="","",IF(B107="","",B107)) | I107: =IF($K107="","",IF(C107="","",C107)) | J107: =IF($K107="","",E107) | K107: =G107 | L107: =IF(K107="","",LARGE(G91:G110,M107)) | M107: 17 | O107: =IF(R107<>"",_xlfn.RANK.EQ(R107,R91:R110,0),"") | P107: =IF(K107="","",VLOOKUP(L107,G91:J110,2,0)) | Q107: =IF(K107="","",VLOOKUP(P107,LISTAS!$F$5:$G$407,2,0)) | R107: =IF(K107="","",VLOOKUP(L107,G91:J110,4,0)) | S107: =IF($O107="","",IF($O107=1,400,IF($O107=2,340,IF($O107=3,300,IF($O107=4,280,IF($O107=5,270,IF($O107=6,260,IF($O107=7,250,IF($O107=8,240,IF($O107=9,200,IF($O107=10,200,IF($O107=11,200,IF($O107=12,200,IF($O107=13,200,IF($O107=14,200,IF($O107=15,200,IF($O107=16,200,IF($O107>16,"","")))))))))))))))))) | T107: =IF(O107="","",IF($F$7="NÃO","",IF(O107=1,400,IF(O107=2,340,IF(O107=3,300,IF(O107=4,280,IF(O107=5,270,IF(O107=6,260,IF(O107=7,250,IF(O107=8,240,IF(O107=9,200,IF(O107=10,200,IF(O107=11,200,IF(O107=12,200,IF(O107=13,200,IF(O107=14,200,IF(O107=15,200,IF(O107=16,200,IF(O107>16,"","")))))))))))))))))))
C108: =IF(B108="","",VLOOKUP(B108,LISTAS!$F$5:$I$1000,2,0)) | D108: =IF(B108="","",VLOOKUP(B108,LISTAS!$F$5:$I$204,4,0)) | G108: =IF(E108="","",E108+(ROW(E108)/10000)) | H108: =IF($K108="","",IF(B108="","",B108)) | I108: =IF($K108="","",IF(C108="","",C108)) | J108: =IF($K108="","",E108) | K108: =G108 | L108: =IF(K108="","",LARGE(G91:G110,M108)) | M108: 18 | O108: =IF(R108<>"",_xlfn.RANK.EQ(R108,R91:R110,0),"") | P108: =IF(K108="","",VLOOKUP(L108,G91:J110,2,0)) | Q108: =IF(K108="","",VLOOKUP(P108,LISTAS!$F$5:$G$407,2,0)) | R108: =IF(K108="","",VLOOKUP(L108,G91:J110,4,0)) | S108: =IF($O108="","",IF($O108=1,400,IF($O108=2,340,IF($O108=3,300,IF($O108=4,280,IF($O108=5,270,IF($O108=6,260,IF($O108=7,250,IF($O108=8,240,IF($O108=9,200,IF($O108=10,200,IF($O108=11,200,IF($O108=12,200,IF($O108=13,200,IF($O108=14,200,IF($O108=15,200,IF($O108=16,200,IF($O108>16,"","")))))))))))))))))) | T108: =IF(O108="","",IF($F$7="NÃO","",IF(O108=1,400,IF(O108=2,340,IF(O108=3,300,IF(O108=4,280,IF(O108=5,270,IF(O108=6,260,IF(O108=7,250,IF(O108=8,240,IF(O108=9,200,IF(O108=10,200,IF(O108=11,200,IF(O108=12,200,IF(O108=13,200,IF(O108=14,200,IF(O108=15,200,IF(O108=16,200,IF(O108>16,"","")))))))))))))))))))
C109: =IF(B109="","",VLOOKUP(B109,LISTAS!$F$5:$I$1000,2,0)) | D109: =IF(B109="","",VLOOKUP(B109,LISTAS!$F$5:$I$204,4,0)) | L109: =IF(K109="","",LARGE(G91:G110,M109)) | M109: 19 | O109: =IF(R109<>"",_xlfn.RANK.EQ(R109,R91:R110,0),"") | P109: =IF(K109="","",VLOOKUP(L109,G91:J110,2,0)) | Q109: =IF(K109="","",VLOOKUP(P109,LISTAS!$F$5:$G$407,2,0)) | R109: =IF(K109="","",VLOOKUP(L109,G91:J110,4,0)) | S109: =IF($O109="","",IF($O109=1,400,IF($O109=2,340,IF($O109=3,300,IF($O109=4,280,IF($O109=5,270,IF($O109=6,260,IF($O109=7,250,IF($O109=8,240,IF($O109=9,200,IF($O109=10,200,IF($O109=11,200,IF($O109=12,200,IF($O109=13,200,IF($O109=14,200,IF($O109=15,200,IF($O109=16,200,IF($O109>16,"","")))))))))))))))))) | T109: =IF(O109="","",IF($F$7="NÃO","",IF(O109=1,400,IF(O109=2,340,IF(O109=3,300,IF(O109=4,280,IF(O109=5,270,IF(O109=6,260,IF(O109=7,250,IF(O109=8,240,IF(O109=9,200,IF(O109=10,200,IF(O109=11,200,IF(O109=12,200,IF(O109=13,200,IF(O109=14,200,IF(O109=15,200,IF(O109=16,200,IF(O109>16,"","")))))))))))))))))))
C110: =IF(B110="","",VLOOKUP(B110,LISTAS!$F$5:$I$1000,2,0)) | D110: =IF(B110="","",VLOOKUP(B110,LISTAS!$F$5:$I$204,4,0)) | G110: =IF(E110="","",E110+(ROW(E110)/10000)) | H110: =IF($K110="","",IF(B110="","",B110)) | I110: =IF($K110="","",IF(C110="","",C110)) | J110: =IF($K110="","",E110) | K110: =G110 | L110: =IF(K110="","",LARGE(G91:G110,M110)) | M110: 20 | O110: =IF(R110<>"",_xlfn.RANK.EQ(R110,R91:R110,0),"") | P110: =IF(K110="","",VLOOKUP(L110,G91:J110,2,0)) | Q110: =IF(K110="","",VLOOKUP(P110,LISTAS!$F$5:$G$407,2,0)) | R110: =IF(K110="","",VLOOKUP(L110,G91:J110,4,0)) | S110: =IF($O110="","",IF($O110=1,400,IF($O110=2,340,IF($O110=3,300,IF($O110=4,280,IF($O110=5,270,IF($O110=6,260,IF($O110=7,250,IF($O110=8,240,IF($O110=9,200,IF($O110=10,200,IF($O110=11,200,IF($O110=12,200,IF($O110=13,200,IF($O110=14,200,IF($O110=15,200,IF($O110=16,200,IF($O110>16,"","")))))))))))))))))) | T110: =IF(O110="","",IF($F$7="NÃO","",IF(O110=1,400,IF(O110=2,340,IF(O110=3,300,IF(O110=4,280,IF(O110=5,270,IF(O110=6,260,IF(O110=7,250,IF(O110=8,240,IF(O110=9,200,IF(O110=10,200,IF(O110=11,200,IF(O110=12,200,IF(O110=13,200,IF(O110=14,200,IF(O110=15,200,IF(O110=16,200,IF(O110>16,"","")))))))))))))))))))
B112: SUB 17 FEMININO | O112: CLASSIFICAÇÃO FINAL
...

Sheet CORDA
B6: C O R D A - N I V E L I ( B A N C A 1 )
B7: SUB 09 FEMININO | E7: PONTUAÇÃO ESCOLA: | F7: SIM | O7: CLASSIFICAÇÃO FINAL
B8: NOMES | C8: ESCOLA | D8: FILIAL / TURMA | E8: NOTA | O8: CLASSIFICAÇÃO | P8: NOMES | Q8: ESCOLA | R8: NOTA | S8: PONTUAÇÃO ALUNO | T8: PONTUAÇÃO ESCOLA
B9: CATARINA GHIRELLI | C9: =IF(B9="","",VLOOKUP(B9,LISTAS!$F$5:$I$1000,2,0)) -> LICEU JARDIM | D9: =IF(B9="","",VLOOKUP(B9,LISTAS!$F$5:$I$204,4,0)) -> SUB 09 | E9: 6.8 | G9: =IF(E9="","",E9+(ROW(E9)/10000)) -> 6.8009 | H9: =IF($K9="","",IF(B9="","",B9)) -> CATARINA GHIRELLI | I9: =IF($K9="","",IF(C9="","",C9)) -> LICEU JARDIM | J9: =IF($K9="","",E9) -> 6.8 | K9: =G9 -> 6.8009 | L9: =IF(K9="","",LARGE(G9:G28,M9)) -> 7.3011 | M9: 1 | O9: =IF(R9<>"",_xlfn.RANK.EQ(R9,R9:R28,0),"") -> 1 | P9: =IF(K9="","",VLOOKUP(L9,G9:J28,2,0)) -> LAVÍNIA MARCONDES NAVARRO | Q9: =IF(K9="","",VLOOKUP(P9,LISTAS!$F$5:$G$407,2,0)) -> LICEU JARDIM | R9: =IF(K9="","",VLOOKUP(L9,G9:J28,4,0)) -> 7.3 | S9: =IF($O9="","",IF($O9=1,400,IF($O9=2,340,IF($O9=3,300,IF($O9=4,280,IF($O9=5,270,IF($O9=6,260,IF($O9=7,250,IF($O9=8,240,IF($O9=9,200,IF($O9=10,200,IF($O9=11,200,IF($O9=12,200,IF($O9=13,200,IF($O9=14,200,IF($O9=15,200,IF($O9=16,200,IF($O9>16,"","")))))))))))))))))) -> 400 | T9: =IF(O9="","",IF($F$7="NÃO","",IF(O9=1,400,IF(O9=2,340,IF(O9=3,300,IF(O9=4,280,IF(O9=5,270,IF(O9=6,260,IF(O9=7,250,IF(O9=8,240,IF(O9=9,200,IF(O9=10,200,IF(O9=11,200,IF(O9=12,200,IF(O9=13,200,IF(O9=14,200,IF(O9=15,200,IF(O9=16,200,IF(O9>16,"",""))))))))))))))))))) -> 400
B10: LAURA PAIVA BRANCALHÃO | C10: =IF(B10="","",VLOOKUP(B10,LISTAS!$F$5:$I$1000,2,0)) -> LICEU JARDIM | D10: =IF(B10="","",VLOOKUP(B10,LISTAS!$F$5:$I$204,4,0)) -> SUB 09 | E10: 7.1 | G10: =IF(E10="","",E10+(ROW(E10)/10000)) -> 7.101 | H10: =IF($K10="","",IF(B10="","",B10)) -> LAURA PAIVA BRANCALHÃO | I10: =IF($K10="","",IF(C10="","",C10)) -> LICEU JARDIM | J10: =IF($K10="","",E10) -> 7.1 | K10: =G10 -> 7.101 | L10: =IF(K10="","",LARGE(G9:G28,M10)) -> 7.101 | M10: 2 | O10: =IF(R10<>"",_xlfn.RANK.EQ(R10,R9:R28,0),"") -> 2 | P10: =IF(K10="","",VLOOKUP(L10,G9:J28,2,0)) -> LAURA PAIVA BRANCALHÃO | Q10: =IF(K10="","",VLOOKUP(P10,LISTAS!$F$5:$G$407,2,0)) -> LICEU JARDIM | R10: =IF(K10="","",VLOOKUP(L10,G9:J28,4,0)) -> 7.1 | S10: =IF($O10="","",IF($O10=1,400,IF($O10=2,340,IF($O10=3,300,IF($O10=4,280,IF($O10=5,270,IF($O10=6,260,IF($O10=7,250,IF($O10=8,240,IF($O10=9,200,IF($O10=10,200,IF($O10=11,200,IF($O10=12,200,IF($O10=13,200,IF($O10=14,200,IF($O10=15,200,IF($O10=16,200,IF($O10>16,"","")))))))))))))))))) -> 340 | T10: =IF(O10="","",IF($F$7="NÃO","",IF(O10=1,400,IF(O10=2,340,IF(O10=3,300,IF(O10=4,280,IF(O10=5,270,IF(O10=6,260,IF(O10=7,250,IF(O10=8,240,IF(O10=9,200,IF(O10=10,200,IF(O10=11,200,IF(O10=12,200,IF(O10=13,200,IF(O10=14,200,IF(O10=15,200,IF(O10=16,200,IF(O10>16,"",""))))))))))))))))))) -> 340
B11: LAVÍNIA MARCONDES NAVARRO | C11: =IF(B11="","",VLOOKUP(B11,LISTAS!$F$5:$I$1000,2,0)) -> LICEU JARDIM | E11: 7.3 | G11: =IF(E11="","",E11+(ROW(E11)/10000)) -> 7.3011 | H11: =IF($K11="","",IF(B11="","",B11)) -> LAVÍNIA MARCONDES NAVARRO | I11: =IF($K11="","",IF(C11="","",C11)) -> LICEU JARDIM | J11: =IF($K11="","",E11) -> 7.3 | K11: =G11 -> 7.3011 | L11: =IF(K11="","",LARGE(G9:G28,M11)) -> 6.8009 | M11: 3 | O11: =IF(R11<>"",_xlfn.RANK.EQ(R11,R9:R28,0),"") -> 3 | P11: =IF(K11="","",VLOOKUP(L11,G9:J28,2,0)) -> CATARINA GHIRELLI | Q11: =IF(K11="","",VLOOKUP(P11,LISTAS!$F$5:$G$407,2,0)) -> LICEU JARDIM | R11: =IF(K11="","",VLOOKUP(L11,G9:J28,4,0)) -> 6.8 | S11: =IF($O11="","",IF($O11=1,400,IF($O11=2,340,IF($O11=3,300,IF($O11=4,280,IF($O11=5,270,IF($O11=6,260,IF($O11=7,250,IF($O11=8,240,IF($O11=9,200,IF($O11=10,200,IF($O11=11,200,IF($O11=12,200,IF($O11=13,200,IF($O11=14,200,IF($O11=15,200,IF($O11=16,200,IF($O11>16,"","")))))))))))))))))) -> 300 | T11: =IF(O11="","",IF($F$7="NÃO","",IF(O11=1,400,IF(O11=2,340,IF(O11=3,300,IF(O11=4,280,IF(O11=5,270,IF(O11=6,260,IF(O11=7,250,IF(O11=8,240,IF(O11=9,200,IF(O11=10,200,IF(O11=11,200,IF(O11=12,200,IF(O11=13,200,IF(O11=14,200,IF(O11=15,200,IF(O11=16,200,IF(O11>16,"",""))))))))))))))))))) -> 300
C12: =IF(B12="","",VLOOKUP(B12,LISTAS!$F$5:$I$1000,2,0)) | D12: =IF(B12="","",VLOOKUP(B12,LISTAS!$F$5:$I$204,4,0)) | G12: =IF(E12="","",E12+(ROW(E12)/10000)) | H12: =IF($K12="","",IF(B12="","",B12)) | I12: =IF($K12="","",IF(C12="","",C12)) | J12: =IF($K12="","",E12) | K12: =G12 | L12: =IF(K12="","",LARGE(G9:G28,M12)) | M12: 4 | O12: =IF(R12<>"",_xlfn.RANK.EQ(R12,R9:R28,0),"") | P12: =IF(K12="","",VLOOKUP(L12,G9:J28,2,0)) | Q12: =IF(K12="","",VLOOKUP(P12,LISTAS!$F$5:$G$407,2,0)) | R12: =IF(K12="","",VLOOKUP(L12,G9:J28,4,0)) | S12: =IF($O12="","",IF($O12=1,400,IF($O12=2,340,IF($O12=3,300,IF($O12=4,280,IF($O12=5,270,IF($O12=6,260,IF($O12=7,250,IF($O12=8,240,IF($O12=9,200,IF($O12=10,200,IF($O12=11,200,IF($O12=12,200,IF($O12=13,200,IF($O12=14,200,IF($O12=15,200,IF($O12=16,200,IF($O12>16,"","")))))))))))))))))) | T12: =IF(O12="","",IF($F$7="NÃO","",IF(O12=1,400,IF(O12=2,340,IF(O12=3,300,IF(O12=4,280,IF(O12=5,270,IF(O12=6,260,IF(O12=7,250,IF(O12=8,240,IF(O12=9,200,IF(O12=10,200,IF(O12=11,200,IF(O12=12,200,IF(O12=13,200,IF(O12=14,200,IF(O12=15,200,IF(O12=16,200,IF(O12>16,"","")))))))))))))))))))
C13: =IF(B13="","",VLOOKUP(B13,LISTAS!$F$5:$I$1000,2,0)) | D13: =IF(B13="","",VLOOKUP(B13,LISTAS!$F$5:$I$204,4,0)) | G13: =IF(E13="","",E13+(ROW(E13)/10000)) | H13: =IF($K13="","",IF(B13="","",B13)) | I13: =IF($K13="","",IF(C13="","",C13)) | J13: =IF($K13="","",E13) | K13: =G13 | L13: =IF(K13="","",LARGE(G9:G28,M13)) | M13: 5 | O13: =IF(R13<>"",_xlfn.RANK.EQ(R13,R9:R28,0),"") | P13: =IF(K13="","",VLOOKUP(L13,G9:J28,2,0)) | Q13: =IF(K13="","",VLOOKUP(P13,LISTAS!$F$5:$G$407,2,0)) | R13: =IF(K13="","",VLOOKUP(L13,G9:J28,4,0)) | S13: =IF($O13="","",IF($O13=1,400,IF($O13=2,340,IF($O13=3,300,IF($O13=4,280,IF($O13=5,270,IF($O13=6,260,IF($O13=7,250,IF($O13=8,240,IF($O13=9,200,IF($O13=10,200,IF($O13=11,200,IF($O13=12,200,IF($O13=13,200,IF($O13=14,200,IF($O13=15,200,IF($O13=16,200,IF($O13>16,"","")))))))))))))))))) | T13: =IF(O13="","",IF($F$7="NÃO","",IF(O13=1,400,IF(O13=2,340,IF(O13=3,300,IF(O13=4,280,IF(O13=5,270,IF(O13=6,260,IF(O13=7,250,IF(O13=8,240,IF(O13=9,200,IF(O13=10,200,IF(O13=11,200,IF(O13=12,200,IF(O13=13,200,IF(O13=14,200,IF(O13=15,200,IF(O13=16,200,IF(O13>16,"","")))))))))))))))))))
C14: =IF(B14="","",VLOOKUP(B14,LISTAS!$F$5:$I$1000,2,0)) | D14: =IF(B14="","",VLOOKUP(B14,LISTAS!$F$5:$I$204,4,0)) | G14: =IF(E14="","",E14+(ROW(E14)/10000)) | H14: =IF($K14="","",IF(B14="","",B14)) | I14: =IF($K14="","",IF(C14="","",C14)) | J14: =IF($K14="","",E14) | K14: =G14 | L14: =IF(K14="","",LARGE(G9:G28,M14)) | M14: 6 | O14: =IF(R14<>"",_xlfn.RANK.EQ(R14,R9:R28,0),"") | P14: =IF(K14="","",VLOOKUP(L14,G9:J28,2,0)) | Q14: =IF(K14="","",VLOOKUP(P14,LISTAS!$F$5:$G$407,2,0)) | R14: =IF(K14="","",VLOOKUP(L14,G9:J28,4,0)) | S14: =IF($O14="","",IF($O14=1,400,IF($O14=2,340,IF($O14=3,300,IF($O14=4,280,IF($O14=5,270,IF($O14=6,260,IF($O14=7,250,IF($O14=8,240,IF($O14=9,200,IF($O14=10,200,IF($O14=11,200,IF($O14=12,200,IF($O14=13,200,IF($O14=14,200,IF($O14=15,200,IF($O14=16,200,IF($O14>16,"","")))))))))))))))))) | T14: =IF(O14="","",IF($F$7="NÃO","",IF(O14=1,400,IF(O14=2,340,IF(O14=3,300,IF(O14=4,280,IF(O14=5,270,IF(O14=6,260,IF(O14=7,250,IF(O14=8,240,IF(O14=9,200,IF(O14=10,200,IF(O14=11,200,IF(O14=12,200,IF(O14=13,200,IF(O14=14,200,IF(O14=15,200,IF(O14=16,200,IF(O14>16,"","")))))))))))))))))))
C15: =IF(B15="","",VLOOKUP(B15,LISTAS!$F$5:$I$1000,2,0)) | D15: =IF(B15="","",VLOOKUP(B15,LISTAS!$F$5:$I$204,4,0)) | G15: =IF(E15="","",E15+(ROW(E15)/10000)) | H15: =IF($K15="","",IF(B15="","",B15)) | I15: =IF($K15="","",IF(C15="","",C15)) | J15: =IF($K15="","",E15) | K15: =G15 | L15: =IF(K15="","",LARGE(G9:G28,M15)) | M15: 7 | O15: =IF(R15<>"",_xlfn.RANK.EQ(R15,R9:R28,0),"") | P15: =IF(K15="","",VLOOKUP(L15,G9:J28,2,0)) | Q15: =IF(K15="","",VLOOKUP(P15,LISTAS!$F$5:$G$407,2,0)) | R15: =IF(K15="","",VLOOKUP(L15,G9:J28,4,0)) | S15: =IF($O15="","",IF($O15=1,400,IF($O15=2,340,IF($O15=3,300,IF($O15=4,280,IF($O15=5,270,IF($O15=6,260,IF($O15=7,250,IF($O15=8,240,IF($O15=9,200,IF($O15=10,200,IF($O15=11,200,IF($O15=12,200,IF($O15=13,200,IF($O15=14,200,IF($O15=15,200,IF($O15=16,200,IF($O15>16,"","")))))))))))))))))) | T15: =IF(O15="","",IF($F$7="NÃO","",IF(O15=1,400,IF(O15=2,340,IF(O15=3,300,IF(O15=4,280,IF(O15=5,270,IF(O15=6,260,IF(O15=7,250,IF(O15=8,240,IF(O15=9,200,IF(O15=10,200,IF(O15=11,200,IF(O15=12,200,IF(O15=13,200,IF(O15=14,200,IF(O15=15,200,IF(O15=16,200,IF(O15>16,"","")))))))))))))))))))
C16: =IF(B16="","",VLOOKUP(B16,LISTAS!$F$5:$I$1000,2,0)) | D16: =IF(B16="","",VLOOKUP(B16,LISTAS!$F$5:$I$204,4,0)) | L16: =IF(K16="","",LARGE(G9:G28,M16)) | M16: 8 | O16: =IF(R16<>"",_xlfn.RANK.EQ(R16,R9:R28,0),"") | P16: =IF(K16="","",VLOOKUP(L16,G9:J28,2,0)) | Q16: =IF(K16="","",VLOOKUP(P16,LISTAS!$F$5:$G$407,2,0)) | R16: =IF(K16="","",VLOOKUP(L16,G9:J28,4,0)) | S16: =IF($O16="","",IF($O16=1,400,IF($O16=2,340,IF($O16=3,300,IF($O16=4,280,IF($O16=5,270,IF($O16=6,260,IF($O16=7,250,IF($O16=8,240,IF($O16=9,200,IF($O16=10,200,IF($O16=11,200,IF($O16=12,200,IF($O16=13,200,IF($O16=14,200,IF($O16=15,200,IF($O16=16,200,IF($O16>16,"","")))))))))))))))))) | T16: =IF(O16="","",IF($F$7="NÃO","",IF(O16=1,400,IF(O16=2,340,IF(O16=3,300,IF(O16=4,280,IF(O16=5,270,IF(O16=6,260,IF(O16=7,250,IF(O16=8,240,IF(O16=9,200,IF(O16=10,200,IF(O16=11,200,IF(O16=12,200,IF(O16=13,200,IF(O16=14,200,IF(O16=15,200,IF(O16=16,200,IF(O16>16,"","")))))))))))))))))))
C17: =IF(B17="","",VLOOKUP(B17,LISTAS!$F$5:$I$1000,2,0)) | D17: =IF(B17="","",VLOOKUP(B17,LISTAS!$F$5:$I$204,4,0)) | L17: =IF(K17="","",LARGE(G9:G28,M17)) | M17: 9 | O17: =IF(R17<>"",_xlfn.RANK.EQ(R17,R9:R28,0),"") | P17: =IF(K17="","",VLOOKUP(L17,G9:J28,2,0)) | Q17: =IF(K17="","",VLOOKUP(P17,LISTAS!$F$5:$G$407,2,0)) | R17: =IF(K17="","",VLOOKUP(L17,G9:J28,4,0)) | S17: =IF($O17="","",IF($O17=1,400,IF($O17=2,340,IF($O17=3,300,IF($O17=4,280,IF($O17=5,270,IF($O17=6,260,IF($O17=7,250,IF($O17=8,240,IF($O17=9,200,IF($O17=10,200,IF($O17=11,200,IF($O17=12,200,IF($O17=13,200,IF($O17=14,200,IF($O17=15,200,IF($O17=16,200,IF($O17>16,"","")))))))))))))))))) | T17: =IF(O17="","",IF($F$7="NÃO","",IF(O17=1,400,IF(O17=2,340,IF(O17=3,300,IF(O17=4,280,IF(O17=5,270,IF(O17=6,260,IF(O17=7,250,IF(O17=8,240,IF(O17=9,200,IF(O17=10,200,IF(O17=11,200,IF(O17=12,200,IF(O17=13,200,IF(O17=14,200,IF(O17=15,200,IF(O17=16,200,IF(O17>16,"","")))))))))))))))))))
C18: =IF(B18="","",VLOOKUP(B18,LISTAS!$F$5:$I$1000,2,0)) | D18: =IF(B18="","",VLOOKUP(B18,LISTAS!$F$5:$I$204,4,0)) | L18: =IF(K18="","",LARGE(G9:G28,M18)) | M18: 10 | O18: =IF(R18<>"",_xlfn.RANK.EQ(R18,R9:R28,0),"") | P18: =IF(K18="","",VLOOKUP(L18,G9:J28,2,0)) | Q18: =IF(K18="","",VLOOKUP(P18,LISTAS!$F$5:$G$407,2,0)) | R18: =IF(K18="","",VLOOKUP(L18,G9:J28,4,0)) | S18: =IF($O18="","",IF($O18=1,400,IF($O18=2,340,IF($O18=3,300,IF($O18=4,280,IF($O18=5,270,IF($O18=6,260,IF($O18=7,250,IF($O18=8,240,IF($O18=9,200,IF($O18=10,200,IF($O18=11,200,IF($O18=12,200,IF($O18=13,200,IF($O18=14,200,IF($O18=15,200,IF($O18=16,200,IF($O18>16,"","")))))))))))))))))) | T18: =IF(O18="","",IF($F$7="NÃO","",IF(O18=1,400,IF(O18=2,340,IF(O18=3,300,IF(O18=4,280,IF(O18=5,270,IF(O18=6,260,IF(O18=7,250,IF(O18=8,240,IF(O18=9,200,IF(O18=10,200,IF(O18=11,200,IF(O18=12,200,IF(O18=13,200,IF(O18=14,200,IF(O18=15,200,IF(O18=16,200,IF(O18>16,"","")))))))))))))))))))
C19: =IF(B19="","",VLOOKUP(B19,LISTAS!$F$5:$I$1000,2,0)) | D19: =IF(B19="","",VLOOKUP(B19,LISTAS!$F$5:$I$204,4,0)) | L19: =IF(K19="","",LARGE(G9:G28,M19)) | M19: 11 | O19: =IF(R19<>"",_xlfn.RANK.EQ(R19,R9:R28,0),"") | P19: =IF(K19="","",VLOOKUP(L19,G9:J28,2,0)) | Q19: =IF(K19="","",VLOOKUP(P19,LISTAS!$F$5:$G$407,2,0)) | R19: =IF(K19="","",VLOOKUP(L19,G9:J28,4,0)) | S19: =IF($O19="","",IF($O19=1,400,IF($O19=2,340,IF($O19=3,300,IF($O19=4,280,IF($O19=5,270,IF($O19=6,260,IF($O19=7,250,IF($O19=8,240,IF($O19=9,200,IF($O19=10,200,IF($O19=11,200,IF($O19=12,200,IF($O19=13,200,IF($O19=14,200,IF($O19=15,200,IF($O19=16,200,IF($O19>16,"","")))))))))))))))))) | T19: =IF(O19="","",IF($F$7="NÃO","",IF(O19=1,400,IF(O19=2,340,IF(O19=3,300,IF(O19=4,280,IF(O19=5,270,IF(O19=6,260,IF(O19=7,250,IF(O19=8,240,IF(O19=9,200,IF(O19=10,200,IF(O19=11,200,IF(O19=12,200,IF(O19=13,200,IF(O19=14,200,IF(O19=15,200,IF(O19=16,200,IF(O19>16,"","")))))))))))))))))))
C20: =IF(B20="","",VLOOKUP(B20,LISTAS!$F$5:$I$1000,2,0)) | D20: =IF(B20="","",VLOOKUP(B20,LISTAS!$F$5:$I$204,4,0)) | L20: =IF(K20="","",LARGE(G9:G28,M20)) | M20: 12 | O20: =IF(R20<>"",_xlfn.RANK.EQ(R20,R9:R28,0),"") | P20: =IF(K20="","",VLOOKUP(L20,G9:J28,2,0)) | Q20: =IF(K20="","",VLOOKUP(P20,LISTAS!$F$5:$G$407,2,0)) | R20: =IF(K20="","",VLOOKUP(L20,G9:J28,4,0)) | S20: =IF($O20="","",IF($O20=1,400,IF($O20=2,340,IF($O20=3,300,IF($O20=4,280,IF($O20=5,270,IF($O20=6,260,IF($O20=7,250,IF($O20=8,240,IF($O20=9,200,IF($O20=10,200,IF($O20=11,200,IF($O20=12,200,IF($O20=13,200,IF($O20=14,200,IF($O20=15,200,IF($O20=16,200,IF($O20>16,"","")))))))))))))))))) | T20: =IF(O20="","",IF($F$7="NÃO","",IF(O20=1,400,IF(O20=2,340,IF(O20=3,300,IF(O20=4,280,IF(O20=5,270,IF(O20=6,260,IF(O20=7,250,IF(O20=8,240,IF(O20=9,200,IF(O20=10,200,IF(O20=11,200,IF(O20=12,200,IF(O20=13,200,IF(O20=14,200,IF(O20=15,200,IF(O20=16,200,IF(O20>16,"","")))))))))))))))))))
C21: =IF(B21="","",VLOOKUP(B21,LISTAS!$F$5:$I$1000,2,0)) | D21: =IF(B21="","",VLOOKUP(B21,LISTAS!$F$5:$I$204,4,0)) | L21: =IF(K21="","",LARGE(G9:G28,M21)) | M21: 13 | O21: =IF(R21<>"",_xlfn.RANK.EQ(R21,R9:R28,0),"") | P21: =IF(K21="","",VLOOKUP(L21,G9:J28,2,0)) | Q21: =IF(K21="","",VLOOKUP(P21,LISTAS!$F$5:$G$407,2,0)) | R21: =IF(K21="","",VLOOKUP(L21,G9:J28,4,0)) | S21: =IF($O21="","",IF($O21=1,400,IF($O21=2,340,IF($O21=3,300,IF($O21=4,280,IF($O21=5,270,IF($O21=6,260,IF($O21=7,250,IF($O21=8,240,IF($O21=9,200,IF($O21=10,200,IF($O21=11,200,IF($O21=12,200,IF($O21=13,200,IF($O21=14,200,IF($O21=15,200,IF($O21=16,200,IF($O21>16,"","")))))))))))))))))) | T21: =IF(O21="","",IF($F$7="NÃO","",IF(O21=1,400,IF(O21=2,340,IF(O21=3,300,IF(O21=4,280,IF(O21=5,270,IF(O21=6,260,IF(O21=7,250,IF(O21=8,240,IF(O21=9,200,IF(O21=10,200,IF(O21=11,200,IF(O21=12,200,IF(O21=13,200,IF(O21=14,200,IF(O21=15,200,IF(O21=16,200,IF(O21>16,"","")))))))))))))))))))
C22: =IF(B22="","",VLOOKUP(B22,LISTAS!$F$5:$I$1000,2,0)) | D22: =IF(B22="","",VLOOKUP(B22,LISTAS!$F$5:$I$204,4,0)) | L22: =IF(K22="","",LARGE(G9:G28,M22)) | M22: 14 | O22: =IF(R22<>"",_xlfn.RANK.EQ(R22,R9:R28,0),"") | P22: =IF(K22="","",VLOOKUP(L22,G9:J28,2,0)) | Q22: =IF(K22="","",VLOOKUP(P22,LISTAS!$F$5:$G$407,2,0)) | R22: =IF(K22="","",VLOOKUP(L22,G9:J28,4,0)) | S22: =IF($O22="","",IF($O22=1,400,IF($O22=2,340,IF($O22=3,300,IF($O22=4,280,IF($O22=5,270,IF($O22=6,260,IF($O22=7,250,IF($O22=8,240,IF($O22=9,200,IF($O22=10,200,IF($O22=11,200,IF($O22=12,200,IF($O22=13,200,IF($O22=14,200,IF($O22=15,200,IF($O22=16,200,IF($O22>16,"","")))))))))))))))))) | T22: =IF(O22="","",IF($F$7="NÃO","",IF(O22=1,400,IF(O22=2,340,IF(O22=3,300,IF(O22=4,280,IF(O22=5,270,IF(O22=6,260,IF(O22=7,250,IF(O22=8,240,IF(O22=9,200,IF(O22=10,200,IF(O22=11,200,IF(O22=12,200,IF(O22=13,200,IF(O22=14,200,IF(O22=15,200,IF(O22=16,200,IF(O22>16,"","")))))))))))))))))))
C23: =IF(B23="","",VLOOKUP(B23,LISTAS!$F$5:$I$1000,2,0)) | D23: =IF(B23="","",VLOOKUP(B23,LISTAS!$F$5:$I$204,4,0)) | L23: =IF(K23="","",LARGE(G9:G28,M23)) | M23: 15 | O23: =IF(R23<>"",_xlfn.RANK.EQ(R23,R9:R28,0),"") | P23: =IF(K23="","",VLOOKUP(L23,G9:J28,2,0)) | Q23: =IF(K23="","",VLOOKUP(P23,LISTAS!$F$5:$G$407,2,0)) | R23: =IF(K23="","",VLOOKUP(L23,G9:J28,4,0)) | S23: =IF($O23="","",IF($O23=1,400,IF($O23=2,340,IF($O23=3,300,IF($O23=4,280,IF($O23=5,270,IF($O23=6,260,IF($O23=7,250,IF($O23=8,240,IF($O23=9,200,IF($O23=10,200,IF($O23=11,200,IF($O23=12,200,IF($O23=13,200,IF($O23=14,200,IF($O23=15,200,IF($O23=16,200,IF($O23>16,"","")))))))))))))))))) | T23: =IF(O23="","",IF($F$7="NÃO","",IF(O23=1,400,IF(O23=2,340,IF(O23=3,300,IF(O23=4,280,IF(O23=5,270,IF(O23=6,260,IF(O23=7,250,IF(O23=8,240,IF(O23=9,200,IF(O23=10,200,IF(O23=11,200,IF(O23=12,200,IF(O23=13,200,IF(O23=14,200,IF(O23=15,200,IF(O23=16,200,IF(O23>16,"","")))))))))))))))))))
C24: =IF(B24="","",VLOOKUP(B24,LISTAS!$F$5:$I$1000,2,0)) | D24: =IF(B24="","",VLOOKUP(B24,LISTAS!$F$5:$I$204,4,0)) | L24: =IF(K24="","",LARGE(G9:G28,M24)) | M24: 16 | O24: =IF(R24<>"",_xlfn.RANK.EQ(R24,R9:R28,0),"") | P24: =IF(K24="","",VLOOKUP(L24,G9:J28,2,0)) | Q24: =IF(K24="","",VLOOKUP(P24,LISTAS!$F$5:$G$407,2,0)) | R24: =IF(K24="","",VLOOKUP(L24,G9:J28,4,0)) | S24: =IF($O24="","",IF($O24=1,400,IF($O24=2,340,IF($O24=3,300,IF($O24=4,280,IF($O24=5,270,IF($O24=6,260,IF($O24=7,250,IF($O24=8,240,IF($O24=9,200,IF($O24=10,200,IF($O24=11,200,IF($O24=12,200,IF($O24=13,200,IF($O24=14,200,IF($O24=15,200,IF($O24=16,200,IF($O24>16,"","")))))))))))))))))) | T24: =IF(O24="","",IF($F$7="NÃO","",IF(O24=1,400,IF(O24=2,340,IF(O24=3,300,IF(O24=4,280,IF(O24=5,270,IF(O24=6,260,IF(O24=7,250,IF(O24=8,240,IF(O24=9,200,IF(O24=10,200,IF(O24=11,200,IF(O24=12,200,IF(O24=13,200,IF(O24=14,200,IF(O24=15,200,IF(O24=16,200,IF(O24>16,"","")))))))))))))))))))
C25: =IF(B25="","",VLOOKUP(B25,LISTAS!$F$5:$I$1000,2,0)) | D25: =IF(B25="","",VLOOKUP(B25,LISTAS!$F$5:$I$204,4,0)) | G25: =IF(E25="","",E25+(ROW(E25)/10000)) | H25: =IF($K25="","",IF(B25="","",B25)) | I25: =IF($K25="","",IF(C25="","",C25)) | J25: =IF($K25="","",E25) | K25: =G25 | L25: =IF(K25="","",LARGE(G9:G28,M25)) | M25: 17 | O25: =IF(R25<>"",_xlfn.RANK.EQ(R25,R9:R28,0),"") | P25: =IF(K25="","",VLOOKUP(L25,G9:J28,2,0)) | Q25: =IF(K25="","",VLOOKUP(P25,LISTAS!$F$5:$G$407,2,0)) | R25: =IF(K25="","",VLOOKUP(L25,G9:J28,4,0)) | S25: =IF($O25="","",IF($O25=1,400,IF($O25=2,340,IF($O25=3,300,IF($O25=4,280,IF($O25=5,270,IF($O25=6,260,IF($O25=7,250,IF($O25=8,240,IF($O25=9,200,IF($O25=10,200,IF($O25=11,200,IF($O25=12,200,IF($O25=13,200,IF($O25=14,200,IF($O25=15,200,IF($O25=16,200,IF($O25>16,"","")))))))))))))))))) | T25: =IF(O25="","",IF($F$7="NÃO","",IF(O25=1,400,IF(O25=2,340,IF(O25=3,300,IF(O25=4,280,IF(O25=5,270,IF(O25=6,260,IF(O25=7,250,IF(O25=8,240,IF(O25=9,200,IF(O25=10,200,IF(O25=11,200,IF(O25=12,200,IF(O25=13,200,IF(O25=14,200,IF(O25=15,200,IF(O25=16,200,IF(O25>16,"","")))))))))))))))))))
C26: =IF(B26="","",VLOOKUP(B26,LISTAS!$F$5:$I$1000,2,0)) | D26: =IF(B26="","",VLOOKUP(B26,LISTAS!$F$5:$I$204,4,0)) | G26: =IF(E26="","",E26+(ROW(E26)/10000)) | H26: =IF($K26="","",IF(B26="","",B26)) | I26: =IF($K26="","",IF(C26="","",C26)) | J26: =IF($K26="","",E26) | K26: =G26 | L26: =IF(K26="","",LARGE(G9:G28,M26)) | M26: 18 | O26: =IF(R26<>"",_xlfn.RANK.EQ(R26,R9:R28,0),"") | P26: =IF(K26="","",VLOOKUP(L26,G9:J28,2,0)) | Q26: =IF(K26="","",VLOOKUP(P26,LISTAS!$F$5:$G$407,2,0)) | R26: =IF(K26="","",VLOOKUP(L26,G9:J28,4,0)) | S26: =IF($O26="","",IF($O26=1,400,IF($O26=2,340,IF($O26=3,300,IF($O26=4,280,IF($O26=5,270,IF($O26=6,260,IF($O26=7,250,IF($O26=8,240,IF($O26=9,200,IF($O26=10,200,IF($O26=11,200,IF($O26=12,200,IF($O26=13,200,IF($O26=14,200,IF($O26=15,200,IF($O26=16,200,IF($O26>16,"","")))))))))))))))))) | T26: =IF(O26="","",IF($F$7="NÃO","",IF(O26=1,400,IF(O26=2,340,IF(O26=3,300,IF(O26=4,280,IF(O26=5,270,IF(O26=6,260,IF(O26=7,250,IF(O26=8,240,IF(O26=9,200,IF(O26=10,200,IF(O26=11,200,IF(O26=12,200,IF(O26=13,200,IF(O26=14,200,IF(O26=15,200,IF(O26=16,200,IF(O26>16,"","")))))))))))))))))))
C27: =IF(B27="","",VLOOKUP(B27,LISTAS!$F$5:$I$1000,2,0)) | D27: =IF(B27="","",VLOOKUP(B27,LISTAS!$F$5:$I$204,4,0)) | L27: =IF(K27="","",LARGE(G9:G28,M27)) | M27: 19 | O27: =IF(R27<>"",_xlfn.RANK.EQ(R27,R9:R28,0),"") | P27: =IF(K27="","",VLOOKUP(L27,G9:J28,2,0)) | Q27: =IF(K27="","",VLOOKUP(P27,LISTAS!$F$5:$G$407,2,0)) | R27: =IF(K27="","",VLOOKUP(L27,G9:J28,4,0)) | S27: =IF($O27="","",IF($O27=1,400,IF($O27=2,340,IF($O27=3,300,IF($O27=4,280,IF($O27=5,270,IF($O27=6,260,IF($O27=7,250,IF($O27=8,240,IF($O27=9,200,IF($O27=10,200,IF($O27=11,200,IF($O27=12,200,IF($O27=13,200,IF($O27=14,200,IF($O27=15,200,IF($O27=16,200,IF($O27>16,"","")))))))))))))))))) | T27: =IF(O27="","",IF($F$7="NÃO","",IF(O27=1,400,IF(O27=2,340,IF(O27=3,300,IF(O27=4,280,IF(O27=5,270,IF(O27=6,260,IF(O27=7,250,IF(O27=8,240,IF(O27=9,200,IF(O27=10,200,IF(O27=11,200,IF(O27=12,200,IF(O27=13,200,IF(O27=14,200,IF(O27=15,200,IF(O27=16,200,IF(O27>16,"","")))))))))))))))))))
C28: =IF(B28="","",VLOOKUP(B28,LISTAS!$F$5:$I$1000,2,0)) | D28: =IF(B28="","",VLOOKUP(B28,LISTAS!$F$5:$I$204,4,0)) | G28: =IF(E28="","",E28+(ROW(E28)/10000)) | H28: =IF($K28="","",IF(B28="","",B28)) | I28: =IF($K28="","",IF(C28="","",C28)) | J28: =IF($K28="","",E28) | K28: =G28 | L28: =IF(K28="","",LARGE(G9:G28,M28)) | M28: 20 | O28: =IF(R28<>"",_xlfn.RANK.EQ(R28,R9:R28,0),"") | P28: =IF(K28="","",VLOOKUP(L28,G9:J28,2,0)) | Q28: =IF(K28="","",VLOOKUP(P28,LISTAS!$F$5:$G$407,2,0)) | R28: =IF(K28="","",VLOOKUP(L28,G9:J28,4,0)) | S28: =IF($O28="","",IF($O28=1,400,IF($O28=2,340,IF($O28=3,300,IF($O28=4,280,IF($O28=5,270,IF($O28=6,260,IF($O28=7,250,IF($O28=8,240,IF($O28=9,200,IF($O28=10,200,IF($O28=11,200,IF($O28=12,200,IF($O28=13,200,IF($O28=14,200,IF($O28=15,200,IF($O28=16,200,IF($O28>16,"","")))))))))))))))))) | T28: =IF(O28="","",IF($F$7="NÃO","",IF(O28=1,400,IF(O28=2,340,IF(O28=3,300,IF(O28=4,280,IF(O28=5,270,IF(O28=6,260,IF(O28=7,250,IF(O28=8,240,IF(O28=9,200,IF(O28=10,200,IF(O28=11,200,IF(O28=12,200,IF(O28=13,200,IF(O28=14,200,IF(O28=15,200,IF(O28=16,200,IF(O28>16,"","")))))))))))))))))))
B30: SUB 11 FEMININO | O30: CLASSIFICAÇÃO FINAL
B32: NOMES | C32: ESCOLA | D32: FILIAL / TURMA | E32: NOTA | O32: CLASSIFICAÇÃO | P32: NOMES | Q32: ESCOLA | R32: TEMPO | S32: PONTUAÇÃO ALUNO | T32: PONTUAÇÃO ESCOLA
B33: BEATRIZ PASTORE MOYANO | C33: =IF(B33="","",VLOOKUP(B33,LISTAS!$F$5:$I$1000,2,0)) -> COLÉGIO ARBOS SÃO CAETANO DO SUL | D33: =IF(B33="","",VLOOKUP(B33,LISTAS!$F$5:$I$204,4,0)) -> SUB 11 | E33: 7.5 | G33: =IF(E33="","",E33+(ROW(E33)/10000)) -> 7.5033 | H33: =IF($K33="","",IF(B33="","",B33)) -> BEATRIZ PASTORE MOYANO | I33: =IF($K33="","",IF(C33="","",C33)) -> COLÉGIO ARBOS SÃO CAETANO DO SUL | J33: =IF($K33="","",E33) -> 7.5 | K33: =G33 -> 7.5033 | L33: =IF(K33="","",LARGE(G33:G52,M33)) -> 8.1039 | M33: 1 | O33: =IF(R33<>"",_xlfn.RANK.EQ(R33,R33:R52,0),"") -> 1 | P33: =IF(K33="","",VLOOKUP(L33,G33:J52,2,0)) -> JULIANA RIZZUTO TOPAL | Q33: =IF(K33="","",VLOOKUP(P33,LISTAS!$F$5:$G$407,2,0)) -> GRUPO FÊNIX DE EDUCAÇÃO | R33: =IF(K33="","",VLOOKUP(L33,G33:J52,4,0)) -> 8.1 | S33: =IF($O33="","",IF($O33=1,400,IF($O33=2,340,IF($O33=3,300,IF($O33=4,280,IF($O33=5,270,IF($O33=6,260,IF($O33=7,250,IF($O33=8,240,IF($O33=9,200,IF($O33=10,200,IF($O33=11,200,IF($O33=12,200,IF($O33=13,200,IF($O33=14,200,IF($O33=15,200,IF($O33=16,200,IF($O33>16,"","")))))))))))))))))) -> 400 | T33: =IF(O33="","",IF($F$7="NÃO","",IF(O33=1,400,IF(O33=2,340,IF(O33=3,300,IF(O33=4,280,IF(O33=5,270,IF(O33=6,260,IF(O33=7,250,IF(O33=8,240,IF(O33=9,200,IF(O33=10,200,IF(O33=11,200,IF(O33=12,200,IF(O33=13,200,IF(O33=14,200,IF(O33=15,200,IF(O33=16,200,IF(O33>16,"",""))))))))))))))))))) -> 400
B34: HELOISA MARTIN VOLPATO | C34: =IF(B34="","",VLOOKUP(B34,LISTAS!$F$5:$I$1000,2,0)) -> COLÉGIO ARBOS SÃO CAETANO DO SUL | E34: 0 | G34: =IF(E34="","",E34+(ROW(E34)/10000)) -> 0.0034 | H34: =IF($K34="","",IF(B34="","",B34)) -> HELOISA MARTIN VOLPATO | I34: =IF($K34="","",IF(C34="","",C34)) -> COLÉGIO ARBOS SÃO CAETANO DO SUL | J34: =IF($K34="","",E34) -> 0 | K34: =G34 -> 0.0034 | L34: =IF(K34="","",LARGE(G33:G52,M34)) -> 8.1036 | M34: 2 | O34: =IF(R34<>"",_xlfn.RANK.EQ(R34,R33:R52,0),"") -> 1 | P34: =IF(K34="","",VLOOKUP(L34,G33:J52,2,0)) -> MARIANA MATSUDA CARVALHO | Q34: =IF(K34="","",VLOOKUP(P34,LISTAS!$F$5:$G$407,2,0)) -> COLÉGIO ARBOS SÃO CAETANO DO SUL | R34: =IF(K34="","",VLOOKUP(L34,G33:J52,4,0)) -> 8.1 | S34: =IF($O34="","",IF($O34=1,400,IF($O34=2,340,IF($O34=3,300,IF($O34=4,280,IF($O34=5,270,IF($O34=6,260,IF($O34=7,250,IF($O34=8,240,IF($O34=9,200,IF($O34=10,200,IF($O34=11,200,IF($O34=12,200,IF($O34=13,200,IF($O34=14,200,IF($O34=15,200,IF($O34=16,200,IF($O34>16,"","")))))))))))))))))) -> 400 | T34: =IF(O34="","",IF($F$7="NÃO","",IF(O34=1,400,IF(O34=2,340,IF(O34=3,300,IF(O34=4,280,IF(O34=5,270,IF(O34=6,260,IF(O34=7,250,IF(O34=8,240,IF(O34=9,200,IF(O34=10,200,IF(O34=11,200,IF(O34=12,200,IF(O34=13,200,IF(O34=14,200,IF(O34=15,200,IF(O34=16,200,IF(O34>16,"",""))))))))))))))))))) -> 400
B35: MARIA CLARA VIEIRA MERIDA | C35: =IF(B35="","",VLOOKUP(B35,LISTAS!$F$5:$I$1000,2,0)) -> COLÉGIO ARBOS SÃO CAETANO DO SUL | E35: 6.8 | G35: =IF(E35="","",E35+(ROW(E35)/10000)) -> 6.8035 | H35: =IF($K35="","",IF(B35="","",B35)) -> MARIA CLARA VIEIRA MERIDA | I35: =IF($K35="","",IF(C35="","",C35)) -> COLÉGIO ARBOS SÃO CAETANO DO SUL | J35: =IF($K35="","",E35) -> 6.8 | K35: =G35 -> 6.8035 | L35: =IF(K35="","",LARGE(G33:G52,M35)) -> 7.5033 | M35: 3 | O35: =IF(R35<>"",_xlfn.RANK.EQ(R35,R33:R52,0),"") -> 3 | P35: =IF(K35="","",VLOOKUP(L35,G33:J52,2,0)) -> BEATRIZ PASTORE MOYANO | Q35: =IF(K35="","",VLOOKUP(P35,LISTAS!$F$5:$G$407,2,0)) -> COLÉGIO ARBOS SÃO CAETANO DO SUL | R35: =IF(K35="","",VLOOKUP(L35,G33:J52,4,0)) -> 7.5 | S35: =IF($O35="","",IF($O35=1,400,IF($O35=2,340,IF($O35=3,300,IF($O35=4,280,IF($O35=5,270,IF($O35=6,260,IF($O35=7,250,IF($O35=8,240,IF($O35=9,200,IF($O35=10,200,IF($O35=11,200,IF($O35=12,200,IF($O35=13,200,IF($O35=14,200,IF($O35=15,200,IF($O35=16,200,IF($O35>16,"","")))))))))))))))))) -> 300 | T35: =IF(O35="","",IF($F$7="NÃO","",IF(O35=1,400,IF(O35=2,340,IF(O35=3,300,IF(O35=4,280,IF(O35=5,270,IF(O35=6,260,IF(O35=7,250,IF(O35=8,240,IF(O35=9,200,IF(O35=10,200,IF(O35=11,200,IF(O35=12,200,IF(O35=13,200,IF(O35=14,200,IF(O35=15,200,IF(O35=16,200,IF(O35>16,"",""))))))))))))))))))) -> 300
B36: MARIANA MATSUDA CARVALHO | C36: =IF(B36="","",VLOOKUP(B36,LISTAS!$F$5:$I$1000,2,0)) -> COLÉGIO ARBOS SÃO CAETANO DO SUL | E36: 8.1 | G36: =IF(E36="","",E36+(ROW(E36)/10000)) -> 8.1036 | H36: =IF($K36="","",IF(B36="","",B36)) -> MARIANA MATSUDA CARVALHO | I36: =IF($K36="","",IF(C36="","",C36)) -> COLÉGIO ARBOS SÃO CAETANO DO SUL | J36: =IF($K36="","",E36) -> 8.1 | K36: =G36 -> 8.1036 | L36: =IF(K36="","",LARGE(G33:G52,M36)) -> 7.3045 | M36: 4 | O36: =IF(R36<>"",_xlfn.RANK.EQ(R36,R33:R52,0),"") -> 4 | P36: =IF(K36="","",VLOOKUP(L36,G33:J52,2,0)) -> VALENTINA DE LIMA COCCO | Q36: =IF(K36="","",VLOOKUP(P36,LISTAS!$F$5:$G$407,2,0)) -> LICEU JARDIM | R36: =IF(K36="","",VLOOKUP(L36,G33:J52,4,0)) -> 7.3 | S36: =IF($O36="","",IF($O36=1,400,IF($O36=2,340,IF($O36=3,300,IF($O36=4,280,IF($O36=5,270,IF($O36=6,260,IF($O36=7,250,IF($O36=8,240,IF($O36=9,200,IF($O36=10,200,IF($O36=11,200,IF($O36=12,200,IF($O36=13,200,IF($O36=14,200,IF($O36=15,200,IF($O36=16,200,IF($O36>16,"","")))))))))))))))))) -> 280 | T36: =IF(O36="","",IF($F$7="NÃO","",IF(O36=1,400,IF(O36=2,340,IF(O36=3,300,IF(O36=4,280,IF(O36=5,270,IF(O36=6,260,IF(O36=7,250,IF(O36=8,240,IF(O36=9,200,IF(O36=10,200,IF(O36=11,200,IF(O36=12,200,IF(O36=13,200,IF(O36=14,200,IF(O36=15,200,IF(O36=16,200,IF(O36>16,"",""))))))))))))))))))) -> 280
B37: GIOVANNA APARECIDA PRADELLI | C37: =IF(B37="","",VLOOKUP(B37,LISTAS!$F$5:$I$1000,2,0)) -> GRUPO FÊNIX DE EDUCAÇÃO | E37: 6.7 | G37: =IF(E37="","",E37+(ROW(E37)/10000)) -> 6.7037 | H37: =IF($K37="","",IF(B37="","",B37)) -> GIOVANNA APARECIDA PRADELLI | I37: =IF($K37="","",IF(C37="","",C37)) -> GRUPO FÊNIX DE EDUCAÇÃO | J37: =IF($K37="","",E37) -> 6.7 | K37: =G37 -> 6.7037 | L37: =IF(K37="","",LARGE(G33:G52,M37)) -> 7.0038 | M37: 5 | O37: =IF(R37<>"",_xlfn.RANK.EQ(R37,R33:R52,0),"") -> 5 | P37: =IF(K37="","",VLOOKUP(L37,G33:J52,2,0)) -> ISABELLA FERNANDES GONZALES | Q37: =IF(K37="","",VLOOKUP(P37,LISTAS!$F$5:$G$407,2,0)) -> COLÉGIO GRAN LEONE | R37: =IF(K37="","",VLOOKUP(L37,G33:J52,4,0)) -> 7 | S37: =IF($O37="","",IF($O37=1,400,IF($O37=2,340,IF($O37=3,300,IF($O37=4,280,IF($O37=5,270,IF($O37=6,260,IF($O37=7,250,IF($O37=8,240,IF($O37=9,200,IF($O37=10,200,IF($O37=11,200,IF($O37=12,200,IF($O37=13,200,IF($O37=14,200,IF($O37=15,200,IF($O37=16,200,IF($O37>16,"","")))))))))))))))))) -> 270 | T37: =IF(O37="","",IF($F$7="NÃO","",IF(O37=1,400,IF(O37=2,340,IF(O37=3,300,IF(O37=4,280,IF(O37=5,270,IF(O37=6,260,IF(O37=7,250,IF(O37=8,240,IF(O37=9,200,IF(O37=10,200,IF(O37=11,200,IF(O37=12,200,IF(O37=13,200,IF(O37=14,200,IF(O37=15,200,IF(O37=16,200,IF(O37>16,"",""))))))))))))))))))) -> 270
B38: ISABELLA FERNANDES GONZALES | C38: =IF(B38="","",VLOOKUP(B38,LISTAS!$F$5:$I$1000,2,0)) -> COLÉGIO GRAN LEONE | E38: 7 | G38: =IF(E38="","",E38+(ROW(E38)/10000)) -> 7.0038 | H38: =IF($K38="","",IF(B38="","",B38)) -> ISABELLA FERNANDES GONZALES | I38: =IF($K38="","",IF(C38="","",C38)) -> COLÉGIO GRAN LEONE | J38: =IF($K38="","",E38) -> 7 | K38: =G38 -> 7.0038 | L38: =IF(K38="","",LARGE(G33:G52,M38)) -> 6.804 | M38: 6 | O38: =IF(R38<>"",_xlfn.RANK.EQ(R38,R33:R52,0),"") -> 6 | P38: =IF(K38="","",VLOOKUP(L38,G33:J52,2,0)) -> MANUELA MONEDA ZAREMBA | Q38: =IF(K38="","",VLOOKUP(P38,LISTAS!$F$5:$G$407,2,0)) -> COLÉGIO MONSENHOR ALEXANDRE | R38: =IF(K38="","",VLOOKUP(L38,G33:J52,4,0)) -> 6.8 | S38: =IF($O38="","",IF($O38=1,400,IF($O38=2,340,IF($O38=3,300,IF($O38=4,280,IF($O38=5,270,IF($O38=6,260,IF($O38=7,250,IF($O38=8,240,IF($O38=9,200,IF($O38=10,200,IF($O38=11,200,IF($O38=12,200,IF($O38=13,200,IF($O38=14,200,IF($O38=15,200,IF($O38=16,200,IF($O38>16,"","")))))))))))))))))) -> 260 | T38: =IF(O38="","",IF($F$7="NÃO","",IF(O38=1,400,IF(O38=2,340,IF(O38=3,300,IF(O38=4,280,IF(O38=5,270,IF(O38=6,260,IF(O38=7,250,IF(O38=8,240,IF(O38=9,200,IF(O38=10,200,IF(O38=11,200,IF(O38=12,200,IF(O38=13,200,IF(O38=14,200,IF(O38=15,200,IF(O38=16,200,IF(O38>16,"",""))))))))))))))))))) -> 260
B39: JULIANA RIZZUTO TOPAL | C39: =IF(B39="","",VLOOKUP(B39,LISTAS!$F$5:$I$1000,2,0)) -> GRUPO FÊNIX DE EDUCAÇÃO | E39: 8.1 | G39: =IF(E39="","",E39+(ROW(E39)/10000)) -> 8.1039 | H39: =IF($K39="","",IF(B39="","",B39)) -> JULIANA RIZZUTO TOPAL | I39: =IF($K39="","",IF(C39="","",C39)) -> GRUPO FÊNIX DE EDUCAÇÃO | J39: =IF($K39="","",E39) -> 8.1 | K39: =G39 -> 8.1039 | L39: =IF(K39="","",LARGE(G33:G52,M39)) -> 6.8035 | M39: 7 | O39: =IF(R39<>"",_xlfn.RANK.EQ(R39,R33:R52,0),"") -> 6 | P39: =IF(K39="","",VLOOKUP(L39,G33:J52,2,0)) -> MARIA CLARA VIEIRA MERIDA | Q39: =IF(K39="","",VLOOKUP(P39,LISTAS!$F$5:$G$407,2,0)) -> COLÉGIO ARBOS SÃO CAETANO DO SUL | R39: =IF(K39="","",VLOOKUP(L39,G33:J52,4,0)) -> 6.8 | S39: =IF($O39="","",IF($O39=1,400,IF($O39=2,340,IF($O39=3,300,IF($O39=4,280,IF($O39=5,270,IF($O39=6,260,IF($O39=7,250,IF($O39=8,240,IF($O39=9,200,IF($O39=10,200,IF($O39=11,200,IF($O39=12,200,IF($O39=13,200,IF($O39=14,200,IF($O39=15,200,IF($O39=16,200,IF($O39>16,"","")))))))))))))))))) -> 260 | T39: =IF(O39="","",IF($F$7="NÃO","",IF(O39=1,400,IF(O39=2,340,IF(O39=3,300,IF(O39=4,280,IF(O39=5,270,IF(O39=6,260,IF(O39=7,250,IF(O39=8,240,IF(O39=9,200,IF(O39=10,200,IF(O39=11,200,IF(O39=12,200,IF(O39=13,200,IF(O39=14,200,IF(O39=15,200,IF(O39=16,200,IF(O39>16,"",""))))))))))))))))))) -> 260
B40: MANUELA MONEDA ZAREMBA | C40: =IF(B40="","",VLOOKUP(B40,LISTAS!$F$5:$I$1000,2,0)) -> COLÉGIO MONSENHOR ALEXANDRE | E40: 6.8 | G40: =IF(E40="","",E40+(ROW(E40)/10000)) -> 6.804 | H40: =IF($K40="","",IF(B40="","",B40)) -> MANUELA MONEDA ZAREMBA | I40: =IF($K40="","",IF(C40="","",C40)) -> COLÉGIO MONSENHOR ALEXANDRE | J40: =IF($K40="","",E40) -> 6.8 | K40: =G40 -> 6.804 | L40: =IF(K40="","",LARGE(G33:G52,M40)) -> 6.7042 | M40: 8 | O40: =IF(R40<>"",_xlfn.RANK.EQ(R40,R33:R52,0),"") -> 8 | P40: =IF(K40="","",VLOOKUP(L40,G33:J52,2,0)) -> MARIA LUIZA MONTINI CANGANE | Q40: =IF(K40="","",VLOOKUP(P40,LISTAS!$F$5:$G$407,2,0)) -> LICEU JARDIM | R40: =IF(K40="","",VLOOKUP(L40,G33:J52,4,0)) -> 6.7 | S40: =IF($O40="","",IF($O40=1,400,IF($O40=2,340,IF($O40=3,300,IF($O40=4,280,IF($O40=5,270,IF($O40=6,260,IF($O40=7,250,IF($O40=8,240,IF($O40=9,200,IF($O40=10,200,IF($O40=11,200,IF($O40=12,200,IF($O40=13,200,IF($O40=14,200,IF($O40=15,200,IF($O40=16,200,IF($O40>16,"","")))))))))))))))))) -> 240 | T40: =IF(O40="","",IF($F$7="NÃO","",IF(O40=1,400,IF(O40=2,340,IF(O40=3,300,IF(O40=4,280,IF(O40=5,270,IF(O40=6,260,IF(O40=7,250,IF(O40=8,240,IF(O40=9,200,IF(O40=10,200,IF(O40=11,200,IF(O40=12,200,IF(O40=13,200,IF(O40=14,200,IF(O40=15,200,IF(O40=16,200,IF(O40>16,"",""))))))))))))))))))) -> 240
B41: FERNANDA GONÇALVES FERNANDES | C41: =IF(B41="","",VLOOKUP(B41,LISTAS!$F$5:$I$1000,2,0)) -> LICEU JARDIM | E41: 6.4 | G41: =IF(E41="","",E41+(ROW(E41)/10000)) -> 6.4041 | H41: =IF($K41="","",IF(B41="","",B41)) -> FERNANDA GONÇALVES FERNANDES | I41: =IF($K41="","",IF(C41="","",C41)) -> LICEU JARDIM | J41: =IF($K41="","",E41) -> 6.4 | K41: =G41 -> 6.4041 | L41: =IF(K41="","",LARGE(G33:G52,M41)) -> 6.7037 | M41: 9 | O41: =IF(R41<>"",_xlfn.RANK.EQ(R41,R33:R52,0),"") -> 8 | P41: =IF(K41="","",VLOOKUP(L41,G33:J52,2,0)) -> GIOVANNA APARECIDA PRADELLI | Q41: =IF(K41="","",VLOOKUP(P41,LISTAS!$F$5:$G$407,2,0)) -> GRUPO FÊNIX DE EDUCAÇÃO | R41: =IF(K41="","",VLOOKUP(L41,G33:J52,4,0)) -> 6.7 | S41: =IF($O41="","",IF($O41=1,400,IF($O41=2,340,IF($O41=3,300,IF($O41=4,280,IF($O41=5,270,IF($O41=6,260,IF($O41=7,250,IF($O41=8,240,IF($O41=9,200,IF($O41=10,200,IF($O41=11,200,IF($O41=12,200,IF($O41=13,200,IF($O41=14,200,IF($O41=15,200,IF($O41=16,200,IF($O41>16,"","")))))))))))))))))) -> 240 | T41: =IF(O41="","",IF($F$7="NÃO","",IF(O41=1,400,IF(O41=2,340,IF(O41=3,300,IF(O41=4,280,IF(O41=5,270,IF(O41=6,260,IF(O41=7,250,IF(O41=8,240,IF(O41=9,200,IF(O41=10,200,IF(O41=11,200,IF(O41=12,200,IF(O41=13,200,IF(O41=14,200,IF(O41=15,200,IF(O41=16,200,IF(O41>16,"",""))))))))))))))))))) -> 240
B42: MARIA LUIZA MONTINI CANGANE | C42: =IF(B42="","",VLOOKUP(B42,LISTAS!$F$5:$I$1000,2,0)) -> LICEU JARDIM | E42: 6.7 | G42: =IF(E42="","",E42+(ROW(E42)/10000)) -> 6.7042 | H42: =IF($K42="","",IF(B42="","",B42)) -> MARIA LUIZA MONTINI CANGANE | I42: =IF($K42="","",IF(C42="","",C42)) -> LICEU JARDIM | J42: =IF($K42="","",E42) -> 6.7 | K42: =G42 -> 6.7042 | L42: =IF(K42="","",LARGE(G33:G52,M42)) -> 6.6044 | M42: 10 | O42: =IF(R42<>"",_xlfn.RANK.EQ(R42,R33:R52,0),"") -> 10 | P42: =IF(K42="","",VLOOKUP(L42,G33:J52,2,0)) -> SOFIA ROMEIRO BUENO | Q42: =IF(K42="","",VLOOKUP(P42,LISTAS!$F$5:$G$407,2,0)) -> LICEU JARDIM | R42: =IF(K42="","",VLOOKUP(L42,G33:J52,4,0)) -> 6.6 | S42: =IF($O42="","",IF($O42=1,400,IF($O42=2,340,IF($O42=3,300,IF($O42=4,280,IF($O42=5,270,IF($O42=6,260,IF($O42=7,250,IF($O42=8,240,IF($O42=9,200,IF($O42=10,200,IF($O42=11,200,IF($O42=12,200,IF($O42=13,200,IF($O42=14,200,IF($O42=15,200,IF($O42=16,200,IF($O42>16,"","")))))))))))))))))) -> 200 | T42: =IF(O42="","",IF($F$7="NÃO","",IF(O42=1,400,IF(O42=2,340,IF(O42=3,300,IF(O42=4,280,IF(O42=5,270,IF(O42=6,260,IF(O42=7,250,IF(O42=8,240,IF(O42=9,200,IF(O42=10,200,IF(O42=11,200,IF(O42=12,200,IF(O42=13,200,IF(O42=14,200,IF(O42=15,200,IF(O42=16,200,IF(O42>16,"",""))))))))))))))))))) -> 200
B43: RAFAELA SALVIATTO ANDREO | C43: =IF(B43="","",VLOOKUP(B43,LISTAS!$F$5:$I$1000,2,0)) -> LICEU JARDIM | E43: 6.4 | G43: =IF(E43="","",E43+(ROW(E43)/10000)) -> 6.4043 | H43: =IF($K43="","",IF(B43="","",B43)) -> RAFAELA SALVIATTO ANDREO | I43: =IF($K43="","",IF(C43="","",C43)) -> LICEU JARDIM | J43: =IF($K43="","",E43) -> 6.4 | K43: =G43 -> 6.4043 | L43: =IF(K43="","",LARGE(G33:G52,M43)) -> 6.4043 | M43: 11 | O43: =IF(R43<>"",_xlfn.RANK.EQ(R43,R33:R52,0),"") -> 11 | P43: =IF(K43="","",VLOOKUP(L43,G33:J52,2,0)) -> RAFAELA SALVIATTO ANDREO | Q43: =IF(K43="","",VLOOKUP(P43,LISTAS!$F$5:$G$407,2,0)) -> LICEU JARDIM | R43: =IF(K43="","",VLOOKUP(L43,G33:J52,4,0)) -> 6.4 | S43: =IF($O43="","",IF($O43=1,400,IF($O43=2,340,IF($O43=3,300,IF($O43=4,280,IF($O43=5,270,IF($O43=6,260,IF($O43=7,250,IF($O43=8,240,IF($O43=9,200,IF($O43=10,200,IF($O43=11,200,IF($O43=12,200,IF($O43=13,200,IF($O43=14,200,IF($O43=15,200,IF($O43=16,200,IF($O43>16,"","")))))))))))))))))) -> 200 | T43: =IF(O43="","",IF($F$7="NÃO","",IF(O43=1,400,IF(O43=2,340,IF(O43=3,300,IF(O43=4,280,IF(O43=5,270,IF(O43=6,260,IF(O43=7,250,IF(O43=8,240,IF(O43=9,200,IF(O43=10,200,IF(O43=11,200,IF(O43=12,200,IF(O43=13,200,IF(O43=14,200,IF(O43=15,200,IF(O43=16,200,IF(O43>16,"",""))))))))))))))))))) -> 200
B44: SOFIA ROMEIRO BUENO | C44: =IF(B44="","",VLOOKUP(B44,LISTAS!$F$5:$I$1000,2,0)) -> LICEU JARDIM | E44: 6.6 | G44: =IF(E44="","",E44+(ROW(E44)/10000)) -> 6.6044 | H44: =IF($K44="","",IF(B44="","",B44)) -> SOFIA ROMEIRO BUENO | I44: =IF($K44="","",IF(C44="","",C44)) -> LICEU JARDIM | J44: =IF($K44="","",E44) -> 6.6 | K44: =G44 -> 6.6044 | L44: =IF(K44="","",LARGE(G33:G52,M44)) -> 6.4041 | M44: 12 | O44: =IF(R44<>"",_xlfn.RANK.EQ(R44,R33:R52,0),"") -> 11 | P44: =IF(K44="","",VLOOKUP(L44,G33:J52,2,0)) -> FERNANDA GONÇALVES FERNANDES | Q44: =IF(K44="","",VLOOKUP(P44,LISTAS!$F$5:$G$407,2,0)) -> LICEU JARDIM | R44: =IF(K44="","",VLOOKUP(L44,G33:J52,4,0)) -> 6.4 | S44: =IF($O44="","",IF($O44=1,400,IF($O44=2,340,IF($O44=3,300,IF($O44=4,280,IF($O44=5,270,IF($O44=6,260,IF($O44=7,250,IF($O44=8,240,IF($O44=9,200,IF($O44=10,200,IF($O44=11,200,IF($O44=12,200,IF($O44=13,200,IF($O44=14,200,IF($O44=15,200,IF($O44=16,200,IF($O44>16,"","")))))))))))))))))) -> 200 | T44: =IF(O44="","",IF($F$7="NÃO","",IF(O44=1,400,IF(O44=2,340,IF(O44=3,300,IF(O44=4,280,IF(O44=5,270,IF(O44=6,260,IF(O44=7,250,IF(O44=8,240,IF(O44=9,200,IF(O44=10,200,IF(O44=11,200,IF(O44=12,200,IF(O44=13,200,IF(O44=14,200,IF(O44=15,200,IF(O44=16,200,IF(O44>16,"",""))))))))))))))))))) -> 200
B45: VALENTINA DE LIMA COCCO | C45: =IF(B45="","",VLOOKUP(B45,LISTAS!$F$5:$I$1000,2,0)) -> LICEU JARDIM | E45: 7.3 | G45: =IF(E45="","",E45+(ROW(E45)/10000)) -> 7.3045 | H45: =IF($K45="","",IF(B45="","",B45)) -> VALENTINA DE LIMA COCCO | I45: =IF($K45="","",IF(C45="","",C45)) -> LICEU JARDIM | J45: =IF($K45="","",E45) -> 7.3 | K45: =G45 -> 7.3045 | L45: =IF(K45="","",LARGE(G33:G52,M45)) -> 6.1046 | M45: 13 | O45: =IF(R45<>"",_xlfn.RANK.EQ(R45,R33:R52,0),"") -> 13 | P45: =IF(K45="","",VLOOKUP(L45,G33:J52,2,0)) -> CATARINA AZEVEDO | Q45: =IF(K45="","",VLOOKUP(P45,LISTAS!$F$5:$G$407,2,0)) -> LICEU JARDIM | R45: =IF(K45="","",VLOOKUP(L45,G33:J52,4,0)) -> 6.1 | S45: =IF($O45="","",IF($O45=1,400,IF($O45=2,340,IF($O45=3,300,IF($O45=4,280,IF($O45=5,270,IF($O45=6,260,IF($O45=7,250,IF($O45=8,240,IF($O45=9,200,IF($O45=10,200,IF($O45=11,200,IF($O45=12,200,IF($O45=13,200,IF($O45=14,200,IF($O45=15,200,IF($O45=16,200,IF($O45>16,"","")))))))))))))))))) -> 200 | T45: =IF(O45="","",IF($F$7="NÃO","",IF(O45=1,400,IF(O45=2,340,IF(O45=3,300,IF(O45=4,280,IF(O45=5,270,IF(O45=6,260,IF(O45=7,250,IF(O45=8,240,IF(O45=9,200,IF(O45=10,200,IF(O45=11,200,IF(O45=12,200,IF(O45=13,200,IF(O45=14,200,IF(O45=15,200,IF(O45=16,200,IF(O45>16,"",""))))))))))))))))))) -> 200
B46: CATARINA AZEVEDO | C46: =IF(B46="","",VLOOKUP(B46,LISTAS!$F$5:$I$1000,2,0)) -> LICEU JARDIM | D46: =IF(B46="","",VLOOKUP(B46,LISTAS!$F$5:$I$204,4,0)) -> #N/A | E46: 6.1 | G46: =IF(E46="","",E46+(ROW(E46)/10000)) -> 6.1046 | H46: =IF($K46="","",IF(B46="","",B46)) -> CATARINA AZEVEDO | I46: =IF($K46="","",IF(C46="","",C46)) -> LICEU JARDIM | J46: =IF($K46="","",E46) -> 6.1 | K46: =G46 -> 6.1046 | L46: =IF(K46="","",LARGE(G33:G52,M46)) -> 0.0034 | M46: 14 | O46: =IF(R46<>"",_xlfn.RANK.EQ(R46,R33:R52,0),"") -> 14 | P46: =IF(K46="","",VLOOKUP(L46,G33:J52,2,0)) -> HELOISA MARTIN VOLPATO | Q46: =IF(K46="","",VLOOKUP(P46,LISTAS!$F$5:$G$407,2,0)) -> COLÉGIO ARBOS SÃO CAETANO DO SUL | R46: =IF(K46="","",VLOOKUP(L46,G33:J52,4,0)) -> 0
C47: =IF(B47="","",VLOOKUP(B47,LISTAS!$F$5:$I$1000,2,0)) | D47: =IF(B47="","",VLOOKUP(B47,LISTAS!$F$5:$I$204,4,0)) | L47: =IF(K47="","",LARGE(G33:G52,M47)) | M47: 15 | O47: =IF(R47<>"",_xlfn.RANK.EQ(R47,R33:R52,0),"") | P47: =IF(K47="","",VLOOKUP(L47,G33:J52,2,0)) | Q47: =IF(K47="","",VLOOKUP(P47,LISTAS!$F$5:$G$407,2,0)) | R47: =IF(K47="","",VLOOKUP(L47,G33:J52,4,0)) | S47: =IF($O47="","",IF($O47=1,400,IF($O47=2,340,IF($O47=3,300,IF($O47=4,280,IF($O47=5,270,IF($O47=6,260,IF($O47=7,250,IF($O47=8,240,IF($O47=9,200,IF($O47=10,200,IF($O47=11,200,IF($O47=12,200,IF($O47=13,200,IF($O47=14,200,IF($O47=15,200,IF($O47=16,200,IF($O47>16,"","")))))))))))))))))) | T47: =IF(O47="","",IF($F$7="NÃO","",IF(O47=1,400,IF(O47=2,340,IF(O47=3,300,IF(O47=4,280,IF(O47=5,270,IF(O47=6,260,IF(O47=7,250,IF(O47=8,240,IF(O47=9,200,IF(O47=10,200,IF(O47=11,200,IF(O47=12,200,IF(O47=13,200,IF(O47=14,200,IF(O47=15,200,IF(O47=16,200,IF(O47>16,"","")))))))))))))))))))
C48: =IF(B48="","",VLOOKUP(B48,LISTAS!$F$5:$I$1000,2,0)) | D48: =IF(B48="","",VLOOKUP(B48,LISTAS!$F$5:$I$204,4,0)) | L48: =IF(K48="","",LARGE(G33:G52,M48)) | M48: 16 | O48: =IF(R48<>"",_xlfn.RANK.EQ(R48,R33:R52,0),"") | P48: =IF(K48="","",VLOOKUP(L48,G33:J52,2,0)) | Q48: =IF(K48="","",VLOOKUP(P48,LISTAS!$F$5:$G$407,2,0)) | R48: =IF(K48="","",VLOOKUP(L48,G33:J52,4,0)) | S48: =IF($O48="","",IF($O48=1,400,IF($O48=2,340,IF($O48=3,300,IF($O48=4,280,IF($O48=5,270,IF($O48=6,260,IF($O48=7,250,IF($O48=8,240,IF($O48=9,200,IF($O48=10,200,IF($O48=11,200,IF($O48=12,200,IF($O48=13,200,IF($O48=14,200,IF($O48=15,200,IF($O48=16,200,IF($O48>16,"","")))))))))))))))))) | T48: =IF(O48="","",IF($F$7="NÃO","",IF(O48=1,400,IF(O48=2,340,IF(O48=3,300,IF(O48=4,280,IF(O48=5,270,IF(O48=6,260,IF(O48=7,250,IF(O48=8,240,IF(O48=9,200,IF(O48=10,200,IF(O48=11,200,IF(O48=12,200,IF(O48=13,200,IF(O48=14,200,IF(O48=15,200,IF(O48=16,200,IF(O48>16,"","")))))))))))))))))))
C49: =IF(B49="","",VLOOKUP(B49,LISTAS!$F$5:$I$1000,2,0)) | D49: =IF(B49="","",VLOOKUP(B49,LISTAS!$F$5:$I$204,4,0)) | G49: =IF(E49="","",E49+(ROW(E49)/10000)) | H49: =IF($K49="","",IF(B49="","",B49)) | I49: =IF($K49="","",IF(C49="","",C49)) | J49: =IF($K49="","",E49) | K49: =G49 | L49: =IF(K49="","",LARGE(G33:G52,M49)) | M49: 17 | O49: =IF(R49<>"",_xlfn.RANK.EQ(R49,R33:R52,0),"") | P49: =IF(K49="","",VLOOKUP(L49,G33:J52,2,0)) | Q49: =IF(K49="","",VLOOKUP(P49,LISTAS!$F$5:$G$407,2,0)) | R49: =IF(K49="","",VLOOKUP(L49,G33:J52,4,0)) | S49: =IF($O49="","",IF($O49=1,400,IF($O49=2,340,IF($O49=3,300,IF($O49=4,280,IF($O49=5,270,IF($O49=6,260,IF($O49=7,250,IF($O49=8,240,IF($O49=9,200,IF($O49=10,200,IF($O49=11,200,IF($O49=12,200,IF($O49=13,200,IF($O49=14,200,IF($O49=15,200,IF($O49=16,200,IF($O49>16,"","")))))))))))))))))) | T49: =IF(O49="","",IF($F$7="NÃO","",IF(O49=1,400,IF(O49=2,340,IF(O49=3,300,IF(O49=4,280,IF(O49=5,270,IF(O49=6,260,IF(O49=7,250,IF(O49=8,240,IF(O49=9,200,IF(O49=10,200,IF(O49=11,200,IF(O49=12,200,IF(O49=13,200,IF(O49=14,200,IF(O49=15,200,IF(O49=16,200,IF(O49>16,"","")))))))))))))))))))
C50: =IF(B50="","",VLOOKUP(B50,LISTAS!$F$5:$I$1000,2,0)) | D50: =IF(B50="","",VLOOKUP(B50,LISTAS!$F$5:$I$204,4,0)) | G50: =IF(E50="","",E50+(ROW(E50)/10000)) | H50: =IF($K50="","",IF(B50="","",B50)) | I50: =IF($K50="","",IF(C50="","",C50)) | J50: =IF($K50="","",E50) | K50: =G50 | L50: =IF(K50="","",LARGE(G33:G52,M50)) | M50: 18 | O50: =IF(R50<>"",_xlfn.RANK.EQ(R50,R33:R52,0),"") | P50: =IF(K50="","",VLOOKUP(L50,G33:J52,2,0)) | Q50: =IF(K50="","",VLOOKUP(P50,LISTAS!$F$5:$G$407,2,0)) | R50: =IF(K50="","",VLOOKUP(L50,G33:J52,4,0)) | S50: =IF($O50="","",IF($O50=1,400,IF($O50=2,340,IF($O50=3,300,IF($O50=4,280,IF($O50=5,270,IF($O50=6,260,IF($O50=7,250,IF($O50=8,240,IF($O50=9,200,IF($O50=10,200,IF($O50=11,200,IF($O50=12,200,IF($O50=13,200,IF($O50=14,200,IF($O50=15,200,IF($O50=16,200,IF($O50>16,"","")))))))))))))))))) | T50: =IF(O50="","",IF($F$7="NÃO","",IF(O50=1,400,IF(O50=2,340,IF(O50=3,300,IF(O50=4,280,IF(O50=5,270,IF(O50=6,260,IF(O50=7,250,IF(O50=8,240,IF(O50=9,200,IF(O50=10,200,IF(O50=11,200,IF(O50=12,200,IF(O50=13,200,IF(O50=14,200,IF(O50=15,200,IF(O50=16,200,IF(O50>16,"","")))))))))))))))))))
C51: =IF(B51="","",VLOOKUP(B51,LISTAS!$F$5:$I$1000,2,0)) | D51: =IF(B51="","",VLOOKUP(B51,LISTAS!$F$5:$I$204,4,0)) | L51: =IF(K51="","",LARGE(G33:G52,M51)) | M51: 19 | O51: =IF(R51<>"",_xlfn.RANK.EQ(R51,R33:R52,0),"") | P51: =IF(K51="","",VLOOKUP(L51,G33:J52,2,0)) | Q51: =IF(K51="","",VLOOKUP(P51,LISTAS!$F$5:$G$407,2,0)) | R51: =IF(K51="","",VLOOKUP(L51,G33:J52,4,0)) | S51: =IF($O51="","",IF($O51=1,400,IF($O51=2,340,IF($O51=3,300,IF($O51=4,280,IF($O51=5,270,IF($O51=6,260,IF($O51=7,250,IF($O51=8,240,IF($O51=9,200,IF($O51=10,200,IF($O51=11,200,IF($O51=12,200,IF($O51=13,200,IF($O51=14,200,IF($O51=15,200,IF($O51=16,200,IF($O51>16,"","")))))))))))))))))) | T51: =IF(O51="","",IF($F$7="NÃO","",IF(O51=1,400,IF(O51=2,340,IF(O51=3,300,IF(O51=4,280,IF(O51=5,270,IF(O51=6,260,IF(O51=7,250,IF(O51=8,240,IF(O51=9,200,IF(O51=10,200,IF(O51=11,200,IF(O51=12,200,IF(O51=13,200,IF(O51=14,200,IF(O51=15,200,IF(O51=16,200,IF(O51>16,"","")))))))))))))))))))
C52: =IF(B52="","",VLOOKUP(B52,LISTAS!$F$5:$I$1000,2,0)) | D52: =IF(B52="","",VLOOKUP(B52,LISTAS!$F$5:$I$204,4,0)) | G52: =IF(E52="","",E52+(ROW(E52)/10000)) | H52: =IF($K52="","",IF(B52="","",B52)) | I52: =IF($K52="","",IF(C52="","",C52)) | J52: =IF($K52="","",E52) | K52: =G52 | L52: =IF(K52="","",LARGE(G33:G52,M52)) | M52: 20 | O52: =IF(R52<>"",_xlfn.RANK.EQ(R52,R33:R52,0),"") | P52: =IF(K52="","",VLOOKUP(L52,G33:J52,2,0)) | Q52: =IF(K52="","",VLOOKUP(P52,LISTAS!$F$5:$G$407,2,0)) | R52: =IF(K52="","",VLOOKUP(L52,G33:J52,4,0)) | S52: =IF($O52="","",IF($O52=1,400,IF($O52=2,340,IF($O52=3,300,IF($O52=4,280,IF($O52=5,270,IF($O52=6,260,IF($O52=7,250,IF($O52=8,240,IF($O52=9,200,IF($O52=10,200,IF($O52=11,200,IF($O52=12,200,IF($O52=13,200,IF($O52=14,200,IF($O52=15,200,IF($O52=16,200,IF($O52>16,"","")))))))))))))))))) | T52: =IF(O52="","",IF($F$7="NÃO","",IF(O52=1,400,IF(O52=2,340,IF(O52=3,300,IF(O52=4,280,IF(O52=5,270,IF(O52=6,260,IF(O52=7,250,IF(O52=8,240,IF(O52=9,200,IF(O52=10,200,IF(O52=11,200,IF(O52=12,200,IF(O52=13,200,IF(O52=14,200,IF(O52=15,200,IF(O52=16,200,IF(O52>16,"","")))))))))))))))))))
B54: SUB 13 FEMININO | O54: CLASSIFICAÇÃO FINAL
B56: NOMES | C56: ESCOLA | D56: FILIAL / TURMA | E56: NOTA | O56: CLASSIFICAÇÃO | P56: NOMES | Q56: ESCOLA | R56: TEMPO | S56: PONTUAÇÃO ALUNO | T56: PONTUAÇÃO ESCOLA
B57: AYSHA NUNES SILVA | C57: =IF(B57="","",VLOOKUP(B57,LISTAS!$F$5:$I$1000,2,0)) -> INLIFE ESCOLA BILINGUE | E57: 9 | G57: =IF(E57="","",E57+(ROW(E57)/10000)) -> 9.0057 | H57: =IF($K57="","",IF(B57="","",B57)) -> AYSHA NUNES SILVA | I57: =IF($K57="","",IF(C57="","",C57)) -> INLIFE ESCOLA BILINGUE | J57: =IF($K57="","",E57) -> 9 | K57: =G57 -> 9.0057 | L57: =IF(K57="","",LARGE(G57:G76,M57)) -> 9.0057 | M57: 1 | O57: =IF(R57<>"",_xlfn.RANK.EQ(R57,R57:R76,0),"") -> 1 | P57: =IF(K57="","",VLOOKUP(L57,G57:J76,2,0)) -> AYSHA NUNES SILVA | Q57: =IF(K57="","",VLOOKUP(P57,LISTAS!$F$5:$G$407,2,0)) -> INLIFE ESCOLA BILINGUE | R57: =IF(K57="","",VLOOKUP(L57,G57:J76,4,0)) -> 9 | S57: =IF($O57="","",IF($O57=1,400,IF($O57=2,340,IF($O57=3,300,IF($O57=4,280,IF($O57=5,270,IF($O57=6,260,IF($O57=7,250,IF($O57=8,240,IF($O57=9,200,IF($O57=10,200,IF($O57=11,200,IF($O57=12,200,IF($O57=13,200,IF($O57=14,200,IF($O57=15,200,IF($O57=16,200,IF($O57>16,"","")))))))))))))))))) -> 400 | T57: =IF(O57="","",IF($F$7="NÃO","",IF(O57=1,400,IF(O57=2,340,IF(O57=3,300,IF(O57=4,280,IF(O57=5,270,IF(O57=6,260,IF(O57=7,250,IF(O57=8,240,IF(O57=9,200,IF(O57=10,200,IF(O57=11,200,IF(O57=12,200,IF(O57=13,200,IF(O57=14,200,IF(O57=15,200,IF(O57=16,200,IF(O57>16,"",""))))))))))))))))))) -> 400
B58: PAOLA DE GENNARO ROCHA | C58: =IF(B58="","",VLOOKUP(B58,LISTAS!$F$5:$I$1000,2,0)) -> LICEU JARDIM | E58: 8.2 | G58: =IF(E58="","",E58+(ROW(E58)/10000)) -> 8.2058 | H58: =IF($K58="","",IF(B58="","",B58)) -> PAOLA DE GENNARO ROCHA | I58: =IF($K58="","",IF(C58="","",C58)) -> LICEU JARDIM | J58: =IF($K58="","",E58) -> 8.2 | K58: =G58 -> 8.2058 | L58: =IF(K58="","",LARGE(G57:G76,M58)) -> 8.2058 | M58: 2 | O58: =IF(R58<>"",_xlfn.RANK.EQ(R58,R57:R76,0),"") -> 2 | P58: =IF(K58="","",VLOOKUP(L58,G58:J77,2,0)) -> PAOLA DE GENNARO ROCHA | Q58: =IF(K58="","",VLOOKUP(P58,LISTAS!$F$5:$G$407,2,0)) -> LICEU JARDIM | R58: =IF(K58="","",VLOOKUP(L58,G57:J76,4,0)) -> 8.2 | S58: =IF($O58="","",IF($O58=1,400,IF($O58=2,340,IF($O58=3,300,IF($O58=4,280,IF($O58=5,270,IF($O58=6,260,IF($O58=7,250,IF($O58=8,240,IF($O58=9,200,IF($O58=10,200,IF($O58=11,200,IF($O58=12,200,IF($O58=13,200,IF($O58=14,200,IF($O58=15,200,IF($O58=16,200,IF($O58>16,"","")))))))))))))))))) -> 340 | T58: =IF(O58="","",IF($F$7="NÃO","",IF(O58=1,400,IF(O58=2,340,IF(O58=3,300,IF(O58=4,280,IF(O58=5,270,IF(O58=6,260,IF(O58=7,250,IF(O58=8,240,IF(O58=9,200,IF(O58=10,200,IF(O58=11,200,IF(O58=12,200,IF(O58=13,200,IF(O58=14,200,IF(O58=15,200,IF(O58=16,200,IF(O58>16,"",""))))))))))))))))))) -> 340
B59: RAFAELLA MANTOVANI MARTINS | C59: =IF(B59="","",VLOOKUP(B59,LISTAS!$F$5:$I$1000,2,0)) -> COLÉGIO GRAN LEONE | E59: 8 | G59: =IF(E59="","",E59+(ROW(E59)/10000)) -> 8.0059 | H59: =IF($K59="","",IF(B59="","",B59)) -> RAFAELLA MANTOVANI MARTINS | I59: =IF($K59="","",IF(C59="","",C59)) -> COLÉGIO GRAN LEONE | J59: =IF($K59="","",E59) -> 8 | K59: =G59 -> 8.0059 | L59: =IF(K59="","",LARGE(G57:G76,M59)) -> 8.0059 | M59: 3 | O59: =IF(R59<>"",_xlfn.RANK.EQ(R59,R57:R76,0),"") -> 3 | P59: =IF(K59="","",VLOOKUP(L59,G59:J78,2,0)) -> RAFAELLA MANTOVANI MARTINS | Q59: =IF(K59="","",VLOOKUP(P59,LISTAS!$F$5:$G$407,2,0)) -> COLÉGIO GRAN LEONE | R59: =IF(K59="","",VLOOKUP(L59,G57:J76,4,0)) -> 8 | S59: =IF($O59="","",IF($O59=1,400,IF($O59=2,340,IF($O59=3,300,IF($O59=4,280,IF($O59=5,270,IF($O59=6,260,IF($O59=7,250,IF($O59=8,240,IF($O59=9,200,IF($O59=10,200,IF($O59=11,200,IF($O59=12,200,IF($O59=13,200,IF($O59=14,200,IF($O59=15,200,IF($O59=16,200,IF($O59>16,"","")))))))))))))))))) -> 300 | T59: =IF(O59="","",IF($F$7="NÃO","",IF(O59=1,400,IF(O59=2,340,IF(O59=3,300,IF(O59=4,280,IF(O59=5,270,IF(O59=6,260,IF(O59=7,250,IF(O59=8,240,IF(O59=9,200,IF(O59=10,200,IF(O59=11,200,IF(O59=12,200,IF(O59=13,200,IF(O59=14,200,IF(O59=15,200,IF(O59=16,200,IF(O59>16,"",""))))))))))))))))))) -> 300
B60: GIOVANNA LARANJEIRA MONTANHER | C60: =IF(B60="","",VLOOKUP(B60,LISTAS!$F$5:$I$1000,2,0)) -> COLEGIO AMORIM | D60: =IF(B60="","",VLOOKUP(B60,LISTAS!$F$5:$I$204,4,0)) -> SUB 13 | E60: 7.6 | G60: =IF(E60="","",E60+(ROW(E60)/10000)) -> 7.606 | H60: =IF($K60="","",IF(B60="","",B60)) -> GIOVANNA LARANJEIRA MONTANHER | I60: =IF($K60="","",IF(C60="","",C60)) -> COLEGIO AMORIM | J60: =IF($K60="","",E60) -> 7.6 | K60: =G60 -> 7.606 | L60: =IF(K60="","",LARGE(G57:G76,M60)) -> 7.6061 | M60: 4 | O60: =IF(R60<>"",_xlfn.RANK.EQ(R60,R57:R76,0),"") -> 4 | P60: =IF(K60="","",VLOOKUP(L60,G60:J79,2,0)) -> EMILLY ISADORA DA SILVA SANTOS | Q60: =IF(K60="","",VLOOKUP(P60,LISTAS!$F$5:$G$407,2,0)) -> LICEU JARDIM | R60: =IF(K60="","",VLOOKUP(L60,G57:J76,4,0)) -> 7.6 | S60: =IF($O60="","",IF($O60=1,400,IF($O60=2,340,IF($O60=3,300,IF($O60=4,280,IF($O60=5,270,IF($O60=6,260,IF($O60=7,250,IF($O60=8,240,IF($O60=9,200,IF($O60=10,200,IF($O60=11,200,IF($O60=12,200,IF($O60=13,200,IF($O60=14,200,IF($O60=15,200,IF($O60=16,200,IF($O60>16,"","")))))))))))))))))) -> 280 | T60: =IF(O60="","",IF($F$7="NÃO","",IF(O60=1,400,IF(O60=2,340,IF(O60=3,300,IF(O60=4,280,IF(O60=5,270,IF(O60=6,260,IF(O60=7,250,IF(O60=8,240,IF(O60=9,200,IF(O60=10,200,IF(O60=11,200,IF(O60=12,200,IF(O60=13,200,IF(O60=14,200,IF(O60=15,200,IF(O60=16,200,IF(O60>16,"",""))))))))))))))))))) -> 280
B61: EMILLY ISADORA DA SILVA SANTOS | C61: =IF(B61="","",VLOOKUP(B61,LISTAS!$F$5:$I$1000,2,0)) -> LICEU JARDIM | D61: =IF(B61="","",VLOOKUP(B61,LISTAS!$F$5:$I$204,4,0)) -> SUB 13 | E61: 7.6 | G61: =IF(E61="","",E61+(ROW(E61)/10000)) -> 7.6061 | H61: =IF($K61="","",IF(B61="","",B61)) -> EMILLY ISADORA DA SILVA SANTOS | I61: =IF($K61="","",IF(C61="","",C61)) -> LICEU JARDIM | J61: =IF($K61="","",E61) -> 7.6 | K61: =G61 -> 7.6061 | L61: =IF(K61="","",LARGE(G57:G76,M61)) -> 7.606 | M61: 5 | O61: =IF(R61<>"",_xlfn.RANK.EQ(R61,R57:R76,0),"") -> 4 | P61: GIOVANNA LARANJEIRA MONTANHER | Q61: COLEGIO AMORIM | R61: =IF(K61="","",VLOOKUP(L61,G57:J76,4,0)) -> 7.6 | S61: =IF($O61="","",IF($O61=1,400,IF($O61=2,340,IF($O61=3,300,IF($O61=4,280,IF($O61=5,270,IF($O61=6,260,IF($O61=7,250,IF($O61=8,240,IF($O61=9,200,IF($O61=10,200,IF($O61=11,200,IF($O61=12,200,IF($O61=13,200,IF($O61=14,200,IF($O61=15,200,IF($O61=16,200,IF($O61>16,"","")))))))))))))))))) -> 280 | T61: =IF(O61="","",IF($F$7="NÃO","",IF(O61=1,400,IF(O61=2,340,IF(O61=3,300,IF(O61=4,280,IF(O61=5,270,IF(O61=6,260,IF(O61=7,250,IF(O61=8,240,IF(O61=9,200,IF(O61=10,200,IF(O61=11,200,IF(O61=12,200,IF(O61=13,200,IF(O61=14,200,IF(O61=15,200,IF(O61=16,200,IF(O61>16,"",""))))))))))))))))))) -> 280
B62: MARIA CLARA VILLANI DE ALBUQUERQUE | C62: =IF(B62="","",VLOOKUP(B62,LISTAS!$F$5:$I$1000,2,0)) -> GRUPO FÊNIX DE EDUCAÇÃO | E62: 7.5 | G62: =IF(E62="","",E62+(ROW(E62)/10000)) -> 7.5062 | H62: =IF($K62="","",IF(B62="","",B62)) -> MARIA CLARA VILLANI DE ALBUQUERQUE | I62: =IF($K62="","",IF(C62="","",C62)) -> GRUPO FÊNIX DE EDUCAÇÃO | J62: =IF($K62="","",E62) -> 7.5 | K62: =G62 -> 7.5062 | L62: =IF(K62="","",LARGE(G57:G76,M62)) -> 7.5062 | M62: 6 | O62: =IF(R62<>"",_xlfn.RANK.EQ(R62,R57:R76,0),"") -> 6 | P62: =IF(K62="","",VLOOKUP(L62,G62:J81,2,0)) -> MARIA CLARA VILLANI DE ALBUQUERQUE | Q62: =IF(K62="","",VLOOKUP(P62,LISTAS!$F$5:$G$407,2,0)) -> GRUPO FÊNIX DE EDUCAÇÃO | R62: =IF(K62="","",VLOOKUP(L62,G58:J77,4,0)) -> 7.5 | S62: =IF($O62="","",IF($O62=1,400,IF($O62=2,340,IF($O62=3,300,IF($O62=4,280,IF($O62=5,270,IF($O62=6,260,IF($O62=7,250,IF($O62=8,240,IF($O62=9,200,IF($O62=10,200,IF($O62=11,200,IF($O62=12,200,IF($O62=13,200,IF($O62=14,200,IF($O62=15,200,IF($O62=16,200,IF($O62>16,"","")))))))))))))))))) -> 260 | T62: =IF(O62="","",IF($F$7="NÃO","",IF(O62=1,400,IF(O62=2,340,IF(O62=3,300,IF(O62=4,280,IF(O62=5,270,IF(O62=6,260,IF(O62=7,250,IF(O62=8,240,IF(O62=9,200,IF(O62=10,200,IF(O62=11,200,IF(O62=12,200,IF(O62=13,200,IF(O62=14,200,IF(O62=15,200,IF(O62=16,200,IF(O62>16,"",""))))))))))))))))))) -> 260
B63: MELISSA CIPRIANO SILVA | C63: =IF(B63="","",VLOOKUP(B63,LISTAS!$F$5:$I$1000,2,0)) -> COLÉGIO MONSENHOR ALEXANDRE | D63: =IF(B63="","",VLOOKUP(B63,LISTAS!$F$5:$I$204,4,0)) -> #N/A | E63: 6.7 | G63: =IF(E63="","",E63+(ROW(E63)/10000)) -> 6.7063 | H63: =IF($K63="","",IF(B63="","",B63)) -> MELISSA CIPRIANO SILVA | I63: =IF($K63="","",IF(C63="","",C63)) -> COLÉGIO MONSENHOR ALEXANDRE | J63: =IF($K63="","",E63) -> 6.7 | K63: =G63 -> 6.7063 | L63: =IF(K63="","",LARGE(G57:G76,M63)) -> 6.7063 | M63: 7 | O63: =IF(R63<>"",_xlfn.RANK.EQ(R63,R57:R76,0),"") -> 7 | P63: =IF(K63="","",VLOOKUP(L63,G63:J82,2,0)) -> MELISSA CIPRIANO SILVA | Q63: =IF(K63="","",VLOOKUP(P63,LISTAS!$F$5:$G$407,2,0)) -> COLÉGIO MONSENHOR ALEXANDRE | R63: =IF(K63="","",VLOOKUP(L63,G59:J78,4,0)) -> 6.7 | S63: =IF($O63="","",IF($O63=1,400,IF($O63=2,340,IF($O63=3,300,IF($O63=4,280,IF($O63=5,270,IF($O63=6,260,IF($O63=7,250,IF($O63=8,240,IF($O63=9,200,IF($O63=10,200,IF($O63=11,200,IF($O63=12,200,IF($O63=13,200,IF($O63=14,200,IF($O63=15,200,IF($O63=16,200,IF($O63>16,"","")))))))))))))))))) -> 250 | T63: =IF(O63="","",IF($F$7="NÃO","",IF(O63=1,400,IF(O63=2,340,IF(O63=3,300,IF(O63=4,280,IF(O63=5,270,IF(O63=6,260,IF(O63=7,250,IF(O63=8,240,IF(O63=9,200,IF(O63=10,200,IF(O63=11,200,IF(O63=12,200,IF(O63=13,200,IF(O63=14,200,IF(O63=15,200,IF(O63=16,200,IF(O63>16,"",""))))))))))))))))))) -> 250
B64: LUIZA AMARAL | C64: =IF(B64="","",VLOOKUP(B64,LISTAS!$F$5:$I$1000,2,0)) -> LICEU JARDIM | E64: 6.5 | G64: =IF(E64="","",E64+(ROW(E64)/10000)) -> 6.5064 | H64: =IF($K64="","",IF(B64="","",B64)) -> LUIZA AMARAL | I64: =IF($K64="","",IF(C64="","",C64)) -> LICEU JARDIM | J64: =IF($K64="","",E64) -> 6.5 | K64: =G64 -> 6.5064 | L64: =IF(K64="","",LARGE(G57:G76,M64)) -> 6.5064 | M64: 8 | O64: =IF(R64<>"",_xlfn.RANK.EQ(R64,R57:R76,0),"") -> 8 | P64: =IF(K64="","",VLOOKUP(L64,G64:J83,2,0)) -> LUIZA AMARAL | Q64: =IF(K64="","",VLOOKUP(P64,LISTAS!$F$5:$G$407,2,0)) -> LICEU JARDIM | R64: =IF(K64="","",VLOOKUP(L64,G60:J79,4,0)) -> 6.5 | S64: =IF($O64="","",IF($O64=1,400,IF($O64=2,340,IF($O64=3,300,IF($O64=4,280,IF($O64=5,270,IF($O64=6,260,IF($O64=7,250,IF($O64=8,240,IF($O64=9,200,IF($O64=10,200,IF($O64=11,200,IF($O64=12,200,IF($O64=13,200,IF($O64=14,200,IF($O64=15,200,IF($O64=16,200,IF($O64>16,"","")))))))))))))))))) -> 240 | T64: =IF(O64="","",IF($F$7="NÃO","",IF(O64=1,400,IF(O64=2,340,IF(O64=3,300,IF(O64=4,280,IF(O64=5,270,IF(O64=6,260,IF(O64=7,250,IF(O64=8,240,IF(O64=9,200,IF(O64=10,200,IF(O64=11,200,IF(O64=12,200,IF(O64=13,200,IF(O64=14,200,IF(O64=15,200,IF(O64=16,200,IF(O64>16,"",""))))))))))))))))))) -> 240
C65: =IF(B65="","",VLOOKUP(B65,LISTAS!$F$5:$I$1000,2,0)) | L65: =IF(K65="","",LARGE(G57:G76,M65)) | M65: 9 | O65: =IF(R65<>"",_xlfn.RANK.EQ(R65,R57:R76,0),"") | P65: =IF(K65="","",VLOOKUP(L65,G63:J82,2,0)) | Q65: =IF(K65="","",VLOOKUP(P65,LISTAS!$F$5:$G$407,2,0)) | R65: =IF(K65="","",VLOOKUP(L65,G61:J80,4,0)) | S65: =IF($O65="","",IF($O65=1,400,IF($O65=2,340,IF($O65=3,300,IF($O65=4,280,IF($O65=5,270,IF($O65=6,260,IF($O65=7,250,IF($O65=8,240,IF($O65=9,200,IF($O65=10,200,IF($O65=11,200,IF($O65=12,200,IF($O65=13,200,IF($O65=14,200,IF($O65=15,200,IF($O65=16,200,IF($O65>16,"","")))))))))))))))))) | T65: =IF(O65="","",IF($F$7="NÃO","",IF(O65=1,400,IF(O65=2,340,IF(O65=3,300,IF(O65=4,280,IF(O65=5,270,IF(O65=6,260,IF(O65=7,250,IF(O65=8,240,IF(O65=9,200,IF(O65=10,200,IF(O65=11,200,IF(O65=12,200,IF(O65=13,200,IF(O65=14,200,IF(O65=15,200,IF(O65=16,200,IF(O65>16,"","")))))))))))))))))))
C66: =IF(B66="","",VLOOKUP(B66,LISTAS!$F$5:$I$1000,2,0)) | L66: =IF(K66="","",LARGE(G57:G76,M66)) | M66: 10 | O66: =IF(R66<>"",_xlfn.RANK.EQ(R66,R57:R76,0),"") | P66: =IF(K66="","",VLOOKUP(L66,G64:J83,2,0)) | Q66: =IF(K66="","",VLOOKUP(P66,LISTAS!$F$5:$G$407,2,0)) | R66: =IF(K66="","",VLOOKUP(L66,G62:J81,4,0)) | S66: =IF($O66="","",IF($O66=1,400,IF($O66=2,340,IF($O66=3,300,IF($O66=4,280,IF($O66=5,270,IF($O66=6,260,IF($O66=7,250,IF($O66=8,240,IF($O66=9,200,IF($O66=10,200,IF($O66=11,200,IF($O66=12,200,IF($O66=13,200,IF($O66=14,200,IF($O66=15,200,IF($O66=16,200,IF($O66>16,"","")))))))))))))))))) | T66: =IF(O66="","",IF($F$7="NÃO","",IF(O66=1,400,IF(O66=2,340,IF(O66=3,300,IF(O66=4,280,IF(O66=5,270,IF(O66=6,260,IF(O66=7,250,IF(O66=8,240,IF(O66=9,200,IF(O66=10,200,IF(O66=11,200,IF(O66=12,200,IF(O66=13,200,IF(O66=14,200,IF(O66=15,200,IF(O66=16,200,IF(O66>16,"","")))))))))))))))))))
C67: =IF(B67="","",VLOOKUP(B67,LISTAS!$F$5:$I$1000,2,0)) | D67: =IF(B67="","",VLOOKUP(B67,LISTAS!$F$5:$I$204,4,0)) | L67: =IF(K67="","",LARGE(G57:G76,M67)) | M67: 11 | O67: =IF(R67<>"",_xlfn.RANK.EQ(R67,R57:R76,0),"") | P67: =IF(K67="","",VLOOKUP(L67,G65:J84,2,0)) | Q67: =IF(K67="","",VLOOKUP(P67,LISTAS!$F$5:$G$407,2,0)) | R67: =IF(K67="","",VLOOKUP(L67,G63:J82,4,0)) | S67: =IF($O67="","",IF($O67=1,400,IF($O67=2,340,IF($O67=3,300,IF($O67=4,280,IF($O67=5,270,IF($O67=6,260,IF($O67=7,250,IF($O67=8,240,IF($O67=9,200,IF($O67=10,200,IF($O67=11,200,IF($O67=12,200,IF($O67=13,200,IF($O67=14,200,IF($O67=15,200,IF($O67=16,200,IF($O67>16,"","")))))))))))))))))) | T67: =IF(O67="","",IF($F$7="NÃO","",IF(O67=1,400,IF(O67=2,340,IF(O67=3,300,IF(O67=4,280,IF(O67=5,270,IF(O67=6,260,IF(O67=7,250,IF(O67=8,240,IF(O67=9,200,IF(O67=10,200,IF(O67=11,200,IF(O67=12,200,IF(O67=13,200,IF(O67=14,200,IF(O67=15,200,IF(O67=16,200,IF(O67>16,"","")))))))))))))))))))
C68: =IF(B68="","",VLOOKUP(B68,LISTAS!$F$5:$I$1000,2,0)) | L68: =IF(K68="","",LARGE(G57:G76,M68)) | M68: 12 | O68: =IF(R68<>"",_xlfn.RANK.EQ(R68,R57:R76,0),"") | P68: =IF(K68="","",VLOOKUP(L68,G66:J85,2,0)) | Q68: =IF(K68="","",VLOOKUP(P68,LISTAS!$F$5:$G$407,2,0)) | R68: =IF(K68="","",VLOOKUP(L68,G64:J83,4,0)) | S68: =IF($O68="","",IF($O68=1,400,IF($O68=2,340,IF($O68=3,300,IF($O68=4,280,IF($O68=5,270,IF($O68=6,260,IF($O68=7,250,IF($O68=8,240,IF($O68=9,200,IF($O68=10,200,IF($O68=11,200,IF($O68=12,200,IF($O68=13,200,IF($O68=14,200,IF($O68=15,200,IF($O68=16,200,IF($O68>16,"","")))))))))))))))))) | T68: =IF(O68="","",IF($F$7="NÃO","",IF(O68=1,400,IF(O68=2,340,IF(O68=3,300,IF(O68=4,280,IF(O68=5,270,IF(O68=6,260,IF(O68=7,250,IF(O68=8,240,IF(O68=9,200,IF(O68=10,200,IF(O68=11,200,IF(O68=12,200,IF(O68=13,200,IF(O68=14,200,IF(O68=15,200,IF(O68=16,200,IF(O68>16,"","")))))))))))))))))))
C69: =IF(B69="","",VLOOKUP(B69,LISTAS!$F$5:$I$1000,2,0)) | L69: =IF(K69="","",LARGE(G57:G76,M69)) | M69: 13 | O69: =IF(R69<>"",_xlfn.RANK.EQ(R69,R57:R76,0),"") | P69: =IF(K69="","",VLOOKUP(L69,G67:J86,2,0)) | Q69: =IF(K69="","",VLOOKUP(P69,LISTAS!$F$5:$G$407,2,0)) | R69: =IF(K69="","",VLOOKUP(L69,G65:J84,4,0)) | S69: =IF($O69="","",IF($O69=1,400,IF($O69=2,340,IF($O69=3,300,IF($O69=4,280,IF($O69=5,270,IF($O69=6,260,IF($O69=7,250,IF($O69=8,240,IF($O69=9,200,IF($O69=10,200,IF($O69=11,200,IF($O69=12,200,IF($O69=13,200,IF($O69=14,200,IF($O69=15,200,IF($O69=16,200,IF($O69>16,"","")))))))))))))))))) | T69: =IF(O69="","",IF($F$7="NÃO","",IF(O69=1,400,IF(O69=2,340,IF(O69=3,300,IF(O69=4,280,IF(O69=5,270,IF(O69=6,260,IF(O69=7,250,IF(O69=8,240,IF(O69=9,200,IF(O69=10,200,IF(O69=11,200,IF(O69=12,200,IF(O69=13,200,IF(O69=14,200,IF(O69=15,200,IF(O69=16,200,IF(O69>16,"","")))))))))))))))))))
C70: =IF(B70="","",VLOOKUP(B70,LISTAS!$F$5:$I$1000,2,0)) | L70: =IF(K70="","",LARGE(G57:G76,M70)) | M70: 14 | O70: =IF(R70<>"",_xlfn.RANK.EQ(R70,R57:R76,0),"") | P70: =IF(K70="","",VLOOKUP(L70,G68:J87,2,0)) | Q70: =IF(K70="","",VLOOKUP(P70,LISTAS!$F$5:$G$407,2,0)) | R70: =IF(K70="","",VLOOKUP(L70,G66:J85,4,0)) | S70: =IF($O70="","",IF($O70=1,400,IF($O70=2,340,IF($O70=3,300,IF($O70=4,280,IF($O70=5,270,IF($O70=6,260,IF($O70=7,250,IF($O70=8,240,IF($O70=9,200,IF($O70=10,200,IF($O70=11,200,IF($O70=12,200,IF($O70=13,200,IF($O70=14,200,IF($O70=15,200,IF($O70=16,200,IF($O70>16,"","")))))))))))))))))) | T70: =IF(O70="","",IF($F$7="NÃO","",IF(O70=1,400,IF(O70=2,340,IF(O70=3,300,IF(O70=4,280,IF(O70=5,270,IF(O70=6,260,IF(O70=7,250,IF(O70=8,240,IF(O70=9,200,IF(O70=10,200,IF(O70=11,200,IF(O70=12,200,IF(O70=13,200,IF(O70=14,200,IF(O70=15,200,IF(O70=16,200,IF(O70>16,"","")))))))))))))))))))
C71: =IF(B71="","",VLOOKUP(B71,LISTAS!$F$5:$I$1000,2,0)) | D71: =IF(B71="","",VLOOKUP(B71,LISTAS!$F$5:$I$204,4,0)) | L71: =IF(K71="","",LARGE(G57:G76,M71)) | M71: 15 | O71: =IF(R71<>"",_xlfn.RANK.EQ(R71,R57:R76,0),"") | P71: =IF(K71="","",VLOOKUP(L71,G57:J76,2,0)) | Q71: =IF(K71="","",VLOOKUP(P71,LISTAS!$F$5:$G$407,2,0)) | R71: =IF(K71="","",VLOOKUP(L71,G57:J76,4,0)) | S71: =IF($O71="","",IF($O71=1,400,IF($O71=2,340,IF($O71=3,300,IF($O71=4,280,IF($O71=5,270,IF($O71=6,260,IF($O71=7,250,IF($O71=8,240,IF($O71=9,200,IF($O71=10,200,IF($O71=11,200,IF($O71=12,200,IF($O71=13,200,IF($O71=14,200,IF($O71=15,200,IF($O71=16,200,IF($O71>16,"","")))))))))))))))))) | T71: =IF(O71="","",IF($F$7="NÃO","",IF(O71=1,400,IF(O71=2,340,IF(O71=3,300,IF(O71=4,280,IF(O71=5,270,IF(O71=6,260,IF(O71=7,250,IF(O71=8,240,IF(O71=9,200,IF(O71=10,200,IF(O71=11,200,IF(O71=12,200,IF(O71=13,200,IF(O71=14,200,IF(O71=15,200,IF(O71=16,200,IF(O71>16,"","")))))))))))))))))))
C72: =IF(B72="","",VLOOKUP(B72,LISTAS!$F$5:$I$1000,2,0)) | D72: =IF(B72="","",VLOOKUP(B72,LISTAS!$F$5:$I$204,4,0)) | L72: =IF(K72="","",LARGE(G57:G76,M72)) | M72: 16 | O72: =IF(R72<>"",_xlfn.RANK.EQ(R72,R57:R76,0),"") | P72: =IF(K72="","",VLOOKUP(L72,G57:J76,2,0)) | Q72: =IF(K72="","",VLOOKUP(P72,LISTAS!$F$5:$G$407,2,0)) | R72: =IF(K72="","",VLOOKUP(L72,G57:J76,4,0)) | S72: =IF($O72="","",IF($O72=1,400,IF($O72=2,340,IF($O72=3,300,IF($O72=4,280,IF($O72=5,270,IF($O72=6,260,IF($O72=7,250,IF($O72=8,240,IF($O72=9,200,IF($O72=10,200,IF($O72=11,200,IF($O72=12,200,IF($O72=13,200,IF($O72=14,200,IF($O72=15,200,IF($O72=16,200,IF($O72>16,"","")))))))))))))))))) | T72: =IF(O72="","",IF($F$7="NÃO","",IF(O72=1,400,IF(O72=2,340,IF(O72=3,300,IF(O72=4,280,IF(O72=5,270,IF(O72=6,260,IF(O72=7,250,IF(O72=8,240,IF(O72=9,200,IF(O72=10,200,IF(O72=11,200,IF(O72=12,200,IF(O72=13,200,IF(O72=14,200,IF(O72=15,200,IF(O72=16,200,IF(O72>16,"","")))))))))))))))))))
C73: =IF(B73="","",VLOOKUP(B73,LISTAS!$F$5:$I$1000,2,0)) | D73: =IF(B73="","",VLOOKUP(B73,LISTAS!$F$5:$I$204,4,0)) | G73: =IF(E73="","",E73+(ROW(E73)/10000)) | H73: =IF($K73="","",IF(B73="","",B73)) | I73: =IF($K73="","",IF(C73="","",C73)) | J73: =IF($K73="","",E73) | K73: =G73 | L73: =IF(K73="","",LARGE(G57:G76,M73)) | M73: 17 | O73: =IF(R73<>"",_xlfn.RANK.EQ(R73,R57:R76,0),"") | P73: =IF(K73="","",VLOOKUP(L73,G57:J76,2,0)) | Q73: =IF(K73="","",VLOOKUP(P73,LISTAS!$F$5:$G$407,2,0)) | R73: =IF(K73="","",VLOOKUP(L73,G57:J76,4,0)) | S73: =IF($O73="","",IF($O73=1,400,IF($O73=2,340,IF($O73=3,300,IF($O73=4,280,IF($O73=5,270,IF($O73=6,260,IF($O73=7,250,IF($O73=8,240,IF($O73=9,200,IF($O73=10,200,IF($O73=11,200,IF($O73=12,200,IF($O73=13,200,IF($O73=14,200,IF($O73=15,200,IF($O73=16,200,IF($O73>16,"","")))))))))))))))))) | T73: =IF(O73="","",IF($F$7="NÃO","",IF(O73=1,400,IF(O73=2,340,IF(O73=3,300,IF(O73=4,280,IF(O73=5,270,IF(O73=6,260,IF(O73=7,250,IF(O73=8,240,IF(O73=9,200,IF(O73=10,200,IF(O73=11,200,IF(O73=12,200,IF(O73=13,200,IF(O73=14,200,IF(O73=15,200,IF(O73=16,200,IF(O73>16,"","")))))))))))))))))))
C74: =IF(B74="","",VLOOKUP(B74,LISTAS!$F$5:$I$1000,2,0)) | D74: =IF(B74="","",VLOOKUP(B74,LISTAS!$F$5:$I$204,4,0)) | G74: =IF(E74="","",E74+(ROW(E74)/10000)) | H74: =IF($K74="","",IF(B74="","",B74)) | I74: =IF($K74="","",IF(C74="","",C74)) | J74: =IF($K74="","",E74) | K74: =G74 | L74: =IF(K74="","",LARGE(G57:G76,M74)) | M74: 18 | O74: =IF(R74<>"",_xlfn.RANK.EQ(R74,R57:R76,0),"") | P74: =IF(K74="","",VLOOKUP(L74,G57:J76,2,0)) | Q74: =IF(K74="","",VLOOKUP(P74,LISTAS!$F$5:$G$407,2,0)) | R74: =IF(K74="","",VLOOKUP(L74,G57:J76,4,0)) | S74: =IF($O74="","",IF($O74=1,400,IF($O74=2,340,IF($O74=3,300,IF($O74=4,280,IF($O74=5,270,IF($O74=6,260,IF($O74=7,250,IF($O74=8,240,IF($O74=9,200,IF($O74=10,200,IF($O74=11,200,IF($O74=12,200,IF($O74=13,200,IF($O74=14,200,IF($O74=15,200,IF($O74=16,200,IF($O74>16,"","")))))))))))))))))) | T74: =IF(O74="","",IF($F$7="NÃO","",IF(O74=1,400,IF(O74=2,340,IF(O74=3,300,IF(O74=4,280,IF(O74=5,270,IF(O74=6,260,IF(O74=7,250,IF(O74=8,240,IF(O74=9,200,IF(O74=10,200,IF(O74=11,200,IF(O74=12,200,IF(O74=13,200,IF(O74=14,200,IF(O74=15,200,IF(O74=16,200,IF(O74>16,"","")))))))))))))))))))
C75: =IF(B75="","",VLOOKUP(B75,LISTAS!$F$5:$I$1000,2,0)) | D75: =IF(B75="","",VLOOKUP(B75,LISTAS!$F$5:$I$204,4,0)) | L75: =IF(K75="","",LARGE(G57:G76,M75)) | M75: 19 | O75: =IF(R75<>"",_xlfn.RANK.EQ(R75,R57:R76,0),"") | P75: =IF(K75="","",VLOOKUP(L75,G57:J76,2,0)) | Q75: =IF(K75="","",VLOOKUP(P75,LISTAS!$F$5:$G$407,2,0)) | R75: =IF(K75="","",VLOOKUP(L75,G57:J76,4,0)) | S75: =IF($O75="","",IF($O75=1,400,IF($O75=2,340,IF($O75=3,300,IF($O75=4,280,IF($O75=5,270,IF($O75=6,260,IF($O75=7,250,IF($O75=8,240,IF($O75=9,200,IF($O75=10,200,IF($O75=11,200,IF($O75=12,200,IF($O75=13,200,IF($O75=14,200,IF($O75=15,200,IF($O75=16,200,IF($O75>16,"","")))))))))))))))))) | T75: =IF(O75="","",IF($F$7="NÃO","",IF(O75=1,400,IF(O75=2,340,IF(O75=3,300,IF(O75=4,280,IF(O75=5,270,IF(O75=6,260,IF(O75=7,250,IF(O75=8,240,IF(O75=9,200,IF(O75=10,200,IF(O75=11,200,IF(O75=12,200,IF(O75=13,200,IF(O75=14,200,IF(O75=15,200,IF(O75=16,200,IF(O75>16,"","")))))))))))))))))))
C76: =IF(B76="","",VLOOKUP(B76,LISTAS!$F$5:$I$1000,2,0)) | D76: =IF(B76="","",VLOOKUP(B76,LISTAS!$F$5:$I$204,4,0)) | G76: =IF(E76="","",E76+(ROW(E76)/10000)) | H76: =IF($K76="","",IF(B76="","",B76)) | I76: =IF($K76="","",IF(C76="","",C76)) | J76: =IF($K76="","",E76) | K76: =G76 | L76: =IF(K76="","",LARGE(G57:G76,M76)) | M76: 20 | O76: =IF(R76<>"",_xlfn.RANK.EQ(R76,R57:R76,0),"") | P76: =IF(K76="","",VLOOKUP(L76,G57:J76,2,0)) | Q76: =IF(K76="","",VLOOKUP(P76,LISTAS!$F$5:$G$407,2,0)) | R76: =IF(K76="","",VLOOKUP(L76,G57:J76,4,0)) | S76: =IF($O76="","",IF($O76=1,400,IF($O76=2,340,IF($O76=3,300,IF($O76=4,280,IF($O76=5,270,IF($O76=6,260,IF($O76=7,250,IF($O76=8,240,IF($O76=9,200,IF($O76=10,200,IF($O76=11,200,IF($O76=12,200,IF($O76=13,200,IF($O76=14,200,IF($O76=15,200,IF($O76=16,200,IF($O76>16,"","")))))))))))))))))) | T76: =IF(O76="","",IF($F$7="NÃO","",IF(O76=1,400,IF(O76=2,340,IF(O76=3,300,IF(O76=4,280,IF(O76=5,270,IF(O76=6,260,IF(O76=7,250,IF(O76=8,240,IF(O76=9,200,IF(O76=10,200,IF(O76=11,200,IF(O76=12,200,IF(O76=13,200,IF(O76=14,200,IF(O76=15,200,IF(O76=16,200,IF(O76>16,"","")))))))))))))))))))
B78: SUB 15 FEMININO | O78: CLASSIFICAÇÃO FINAL
B80: NOMES | C80: ESCOLA | D80: FILIAL / TURMA | E80: NOTA | O80: CLASSIFICAÇÃO | P80: NOMES | Q80: ESCOLA | R80: TEMPO | S80: PONTUAÇÃO ALUNO | T80: PONTUAÇÃO ESCOLA
B81: ISABELLA XAVIER MONTESANI | C81: =IF(B81="","",VLOOKUP(B81,LISTAS!$F$5:$I$1000,2,0)) -> LICEU JARDIM | D81: =IF(B81="","",VLOOKUP(B81,LISTAS!$F$5:$I$204,4,0)) -> SUB 15 | E81: 7.8 | G81: =IF(E81="","",E81+(ROW(E81)/10000)) -> 7.8081 | H81: =IF($K81="","",IF(B81="","",B81)) -> ISABELLA XAVIER MONTESANI | I81: =IF($K81="","",IF(C81="","",C81)) -> LICEU JARDIM | J81: =IF($K81="","",E81) -> 7.8 | K81: =G81 -> 7.8081 | L81: =IF(K81="","",LARGE(G81:G100,M81)) -> 8.2085 | M81: 1 | O81: =IF(R81<>"",_xlfn.RANK.EQ(R81,R81:R100,0),"") -> 1 | P81: =IF(K81="","",VLOOKUP(L81,G81:J100,2,0)) -> MANUELLA GOMES SANTOS | Q81: =IF(K81="","",VLOOKUP(P81,LISTAS!$F$5:$G$407,2,0)) -> COLEGIO AMORIM | R81: =IF(K81="","",VLOOKUP(L81,G81:J100,4,0)) -> 8.2 | S81: =IF($O81="","",IF($O81=1,400,IF($O81=2,340,IF($O81=3,300,IF($O81=4,280,IF($O81=5,270,IF($O81=6,260,IF($O81=7,250,IF($O81=8,240,IF($O81=9,200,IF($O81=10,200,IF($O81=11,200,IF($O81=12,200,IF($O81=13,200,IF($O81=14,200,IF($O81=15,200,IF($O81=16,200,IF($O81>16,"","")))))))))))))))))) -> 400 | T81: =IF(O81="","",IF($F$7="NÃO","",IF(O81=1,400,IF(O81=2,340,IF(O81=3,300,IF(O81=4,280,IF(O81=5,270,IF(O81=6,260,IF(O81=7,250,IF(O81=8,240,IF(O81=9,200,IF(O81=10,200,IF(O81=11,200,IF(O81=12,200,IF(O81=13,200,IF(O81=14,200,IF(O81=15,200,IF(O81=16,200,IF(O81>16,"",""))))))))))))))))))) -> 400
B82: LUÍZA AMARAL DE SANT'ANA | C82: =IF(B82="","",VLOOKUP(B82,LISTAS!$F$5:$I$1000,2,0)) -> LICEU JARDIM | D82: =IF(B82="","",VLOOKUP(B82,LISTAS!$F$5:$I$204,4,0)) -> #N/A | E82: 0 | G82: =IF(E82="","",E82+(ROW(E82)/10000)) -> 0.0082 | H82: =IF($K82="","",IF(B82="","",B82)) -> LUÍZA AMARAL DE SANT'ANA | I82: =IF($K82="","",IF(C82="","",C82)) -> LICEU JARDIM | J82: =IF($K82="","",E82) -> 0 | K82: =G82 -> 0.0082 | L82: =IF(K82="","",LARGE(G81:G100,M82)) -> 7.8081 | M82: 2 | O82: =IF(R82<>"",_xlfn.RANK.EQ(R82,R81:R100,0),"") -> 2 | P82: =IF(K82="","",VLOOKUP(L82,G81:J100,2,0)) -> ISABELLA XAVIER MONTESANI | Q82: =IF(K82="","",VLOOKUP(P82,LISTAS!$F$5:$G$407,2,0)) -> LICEU JARDIM | R82: =IF(K82="","",VLOOKUP(L82,G81:J100,4,0)) -> 7.8 | S82: =IF($O82="","",IF($O82=1,400,IF($O82=2,340,IF($O82=3,300,IF($O82=4,280,IF($O82=5,270,IF($O82=6,260,IF($O82=7,250,IF($O82=8,240,IF($O82=9,200,IF($O82=10,200,IF($O82=11,200,IF($O82=12,200,IF($O82=13,200,IF($O82=14,200,IF($O82=15,200,IF($O82=16,200,IF($O82>16,"","")))))))))))))))))) -> 340 | T82: =IF(O82="","",IF($F$7="NÃO","",IF(O82=1,400,IF(O82=2,340,IF(O82=3,300,IF(O82=4,280,IF(O82=5,270,IF(O82=6,260,IF(O82=7,250,IF(O82=8,240,IF(O82=9,200,IF(O82=10,200,IF(O82=11,200,IF(O82=12,200,IF(O82=13,200,IF(O82=14,200,IF(O82=15,200,IF(O82=16,200,IF(O82>16,"",""))))))))))))))))))) -> 340
B83: YASMIN DIAS URRA | C83: =IF(B83="","",VLOOKUP(B83,LISTAS!$F$5:$I$1000,2,0)) -> LICEU JARDIM | E83: 7.3 | G83: =IF(E83="","",E83+(ROW(E83)/10000)) -> 7.3083 | H83: =IF($K83="","",IF(B83="","",B83)) -> YASMIN DIAS URRA | I83: =IF($K83="","",IF(C83="","",C83)) -> LICEU JARDIM | J83: =IF($K83="","",E83) -> 7.3 | K83: =G83 -> 7.3083 | L83: =IF(K83="","",LARGE(G81:G100,M83)) -> 7.3586 | M83: 3 | O83: =IF(R83<>"",_xlfn.RANK.EQ(R83,R81:R100,0),"") -> 3 | P83: =IF(K83="","",VLOOKUP(L83,G81:J100,2,0)) -> MARIANA DE OLIVEIRA RAFFO | Q83: =IF(K83="","",VLOOKUP(P83,LISTAS!$F$5:$G$407,2,0)) -> COLEGIO AMORIM | R83: =IF(K83="","",VLOOKUP(L83,G81:J100,4,0)) -> 7.35 | S83: =IF($O83="","",IF($O83=1,400,IF($O83=2,340,IF($O83=3,300,IF($O83=4,280,IF($O83=5,270,IF($O83=6,260,IF($O83=7,250,IF($O83=8,240,IF($O83=9,200,IF($O83=10,200,IF($O83=11,200,IF($O83=12,200,IF($O83=13,200,IF($O83=14,200,IF($O83=15,200,IF($O83=16,200,IF($O83>16,"","")))))))))))))))))) -> 300 | T83: =IF(O83="","",IF($F$7="NÃO","",IF(O83=1,400,IF(O83=2,340,IF(O83=3,300,IF(O83=4,280,IF(O83=5,270,IF(O83=6,260,IF(O83=7,250,IF(O83=8,240,IF(O83=9,200,IF(O83=10,200,IF(O83=11,200,IF(O83=12,200,IF(O83=13,200,IF(O83=14,200,IF(O83=15,200,IF(O83=16,200,IF(O83>16,"",""))))))))))))))))))) -> 300
B84: CATHERINE FABBRI | C84: =IF(B84="","",VLOOKUP(B84,LISTAS!$F$5:$I$1000,2,0)) -> COLEGIO AMORIM | E84: 7.3 | G84: =IF(E84="","",E84+(ROW(E84)/10000)) -> 7.3084 | H84: =IF($K84="","",IF(B84="","",B84)) -> CATHERINE FABBRI | I84: =IF($K84="","",IF(C84="","",C84)) -> COLEGIO AMORIM | J84: =IF($K84="","",E84) -> 7.3 | K84: =G84 -> 7.3084 | L84: =IF(K84="","",LARGE(G81:G100,M84)) -> 7.3084 | M84: 4 | O84: =IF(R84<>"",_xlfn.RANK.EQ(R84,R81:R100,0),"") -> 4 | P84: =IF(K84="","",VLOOKUP(L84,G81:J100,2,0)) -> CATHERINE FABBRI | Q84: =IF(K84="","",VLOOKUP(P84,LISTAS!$F$5:$G$407,2,0)) -> COLEGIO AMORIM | R84: =IF(K84="","",VLOOKUP(L84,G81:J100,4,0)) -> 7.3 | S84: =IF($O84="","",IF($O84=1,400,IF($O84=2,340,IF($O84=3,300,IF($O84=4,280,IF($O84=5,270,IF($O84=6,260,IF($O84=7,250,IF($O84=8,240,IF($O84=9,200,IF($O84=10,200,IF($O84=11,200,IF($O84=12,200,IF($O84=13,200,IF($O84=14,200,IF($O84=15,200,IF($O84=16,200,IF($O84>16,"","")))))))))))))))))) -> 280 | T84: =IF(O84="","",IF($F$7="NÃO","",IF(O84=1,400,IF(O84=2,340,IF(O84=3,300,IF(O84=4,280,IF(O84=5,270,IF(O84=6,260,IF(O84=7,250,IF(O84=8,240,IF(O84=9,200,IF(O84=10,200,IF(O84=11,200,IF(O84=12,200,IF(O84=13,200,IF(O84=14,200,IF(O84=15,200,IF(O84=16,200,IF(O84>16,"",""))))))))))))))))))) -> 280
B85: MANUELLA GOMES SANTOS | C85: =IF(B85="","",VLOOKUP(B85,LISTAS!$F$5:$I$1000,2,0)) -> COLEGIO AMORIM | D85: =IF(B85="","",VLOOKUP(B85,LISTAS!$F$5:$I$204,4,0)) -> #N/A | E85: 8.2 | G85: =IF(E85="","",E85+(ROW(E85)/10000)) -> 8.2085 | H85: =IF($K85="","",IF(B85="","",B85)) -> MANUELLA GOMES SANTOS | I85: =IF($K85="","",IF(C85="","",C85)) -> COLEGIO AMORIM | J85: =IF($K85="","",E85) -> 8.2 | K85: =G85 -> 8.2085 | L85: =IF(K85="","",LARGE(G81:G100,M85)) -> 7.3083 | M85: 5 | O85: =IF(R85<>"",_xlfn.RANK.EQ(R85,R81:R100,0),"") -> 4 | P85: =IF(K85="","",VLOOKUP(L85,G81:J100,2,0)) -> YASMIN DIAS URRA | Q85: =IF(K85="","",VLOOKUP(P85,LISTAS!$F$5:$G$407,2,0)) -> LICEU JARDIM | R85: =IF(K85="","",VLOOKUP(L85,G81:J100,4,0)) -> 7.3 | S85: =IF($O85="","",IF($O85=1,400,IF($O85=2,340,IF($O85=3,300,IF($O85=4,280,IF($O85=5,270,IF($O85=6,260,IF($O85=7,250,IF($O85=8,240,IF($O85=9,200,IF($O85=10,200,IF($O85=11,200,IF($O85=12,200,IF($O85=13,200,IF($O85=14,200,IF($O85=15,200,IF($O85=16,200,IF($O85>16,"","")))))))))))))))))) -> 280 | T85: =IF(O85="","",IF($F$7="NÃO","",IF(O85=1,400,IF(O85=2,340,IF(O85=3,300,IF(O85=4,280,IF(O85=5,270,IF(O85=6,260,IF(O85=7,250,IF(O85=8,240,IF(O85=9,200,IF(O85=10,200,IF(O85=11,200,IF(O85=12,200,IF(O85=13,200,IF(O85=14,200,IF(O85=15,200,IF(O85=16,200,IF(O85>16,"",""))))))))))))))))))) -> 280
B86: MARIANA DE OLIVEIRA RAFFO | C86: =IF(B86="","",VLOOKUP(B86,LISTAS!$F$5:$I$1000,2,0)) -> COLEGIO AMORIM | D86: =IF(B86="","",VLOOKUP(B86,LISTAS!$F$5:$I$204,4,0)) -> #N/A | E86: 7.35 | G86: =IF(E86="","",E86+(ROW(E86)/10000)) -> 7.3586 | H86: =IF($K86="","",IF(B86="","",B86)) -> MARIANA DE OLIVEIRA RAFFO | I86: =IF($K86="","",IF(C86="","",C86)) -> COLEGIO AMORIM | J86: =IF($K86="","",E86) -> 7.35 | K86: =G86 -> 7.3586 | L86: =IF(K86="","",LARGE(G81:G100,M86)) -> 7.2087 | M86: 6 | O86: =IF(R86<>"",_xlfn.RANK.EQ(R86,R81:R100,0),"") -> 6 | P86: =IF(K86="","",VLOOKUP(L86,G81:J100,2,0)) -> NATHALIA GARCIA DE ANDRADE | Q86: =IF(K86="","",VLOOKUP(P86,LISTAS!$F$5:$G$407,2,0)) -> COLEGIO AMORIM | R86: =IF(K86="","",VLOOKUP(L86,G81:J100,4,0)) -> 7.2 | S86: =IF($O86="","",IF($O86=1,400,IF($O86=2,340,IF($O86=3,300,IF($O86=4,280,IF($O86=5,270,IF($O86=6,260,IF($O86=7,250,IF($O86=8,240,IF($O86=9,200,IF($O86=10,200,IF($O86=11,200,IF($O86=12,200,IF($O86=13,200,IF($O86=14,200,IF($O86=15,200,IF($O86=16,200,IF($O86>16,"","")))))))))))))))))) -> 260 | T86: =IF(O86="","",IF($F$7="NÃO","",IF(O86=1,400,IF(O86=2,340,IF(O86=3,300,IF(O86=4,280,IF(O86=5,270,IF(O86=6,260,IF(O86=7,250,IF(O86=8,240,IF(O86=9,200,IF(O86=10,200,IF(O86=11,200,IF(O86=12,200,IF(O86=13,200,IF(O86=14,200,IF(O86=15,200,IF(O86=16,200,IF(O86>16,"",""))))))))))))))))))) -> 260
B87: NATHALIA GARCIA DE ANDRADE | C87: =IF(B87="","",VLOOKUP(B87,LISTAS!$F$5:$I$1000,2,0)) -> COLEGIO AMORIM | D87: =IF(B87="","",VLOOKUP(B87,LISTAS!$F$5:$I$204,4,0)) -> #N/A | E87: 7.2 | G87: =IF(E87="","",E87+(ROW(E87)/10000)) -> 7.2087 | H87: =IF($K87="","",IF(B87="","",B87)) -> NATHALIA GARCIA DE ANDRADE | I87: =IF($K87="","",IF(C87="","",C87)) -> COLEGIO AMORIM | J87: =IF($K87="","",E87) -> 7.2 | K87: =G87 -> 7.2087 | L87: =IF(K87="","",LARGE(G81:G100,M87)) -> 0.0082 | M87: 7 | O87: =IF(R87<>"",_xlfn.RANK.EQ(R87,R81:R100,0),"") -> 7 | P87: =IF(K87="","",VLOOKUP(L87,G81:J100,2,0)) -> LUÍZA AMARAL DE SANT'ANA | Q87: =IF(K87="","",VLOOKUP(P87,LISTAS!$F$5:$G$407,2,0)) -> LICEU JARDIM | R87: =IF(K87="","",VLOOKUP(L87,G81:J100,4,0)) -> 0
C88: =IF(B88="","",VLOOKUP(B88,LISTAS!$F$5:$I$1000,2,0)) | D88: =IF(B88="","",VLOOKUP(B88,LISTAS!$F$5:$I$204,4,0)) | L88: =IF(K88="","",LARGE(G81:G100,M88)) | M88: 8 | O88: =IF(R88<>"",_xlfn.RANK.EQ(R88,R81:R100,0),"") | P88: =IF(K88="","",VLOOKUP(L88,G81:J100,2,0)) | Q88: =IF(K88="","",VLOOKUP(P88,LISTAS!$F$5:$G$407,2,0)) | R88: =IF(K88="","",VLOOKUP(L88,G81:J100,4,0)) | S88: =IF($O88="","",IF($O88=1,400,IF($O88=2,340,IF($O88=3,300,IF($O88=4,280,IF($O88=5,270,IF($O88=6,260,IF($O88=7,250,IF($O88=8,240,IF($O88=9,200,IF($O88=10,200,IF($O88=11,200,IF($O88=12,200,IF($O88=13,200,IF($O88=14,200,IF($O88=15,200,IF($O88=16,200,IF($O88>16,"","")))))))))))))))))) | T88: =IF(O88="","",IF($F$7="NÃO","",IF(O88=1,400,IF(O88=2,340,IF(O88=3,300,IF(O88=4,280,IF(O88=5,270,IF(O88=6,260,IF(O88=7,250,IF(O88=8,240,IF(O88=9,200,IF(O88=10,200,IF(O88=11,200,IF(O88=12,200,IF(O88=13,200,IF(O88=14,200,IF(O88=15,200,IF(O88=16,200,IF(O88>16,"","")))))))))))))))))))
C89: =IF(B89="","",VLOOKUP(B89,LISTAS!$F$5:$I$1000,2,0)) | D89: =IF(B89="","",VLOOKUP(B89,LISTAS!$F$5:$I$204,4,0)) | L89: =IF(K89="","",LARGE(G81:G100,M89)) | M89: 9 | O89: =IF(R89<>"",_xlfn.RANK.EQ(R89,R81:R100,0),"") | P89: =IF(K89="","",VLOOKUP(L89,G81:J100,2,0)) | Q89: =IF(K89="","",VLOOKUP(P89,LISTAS!$F$5:$G$407,2,0)) | R89: =IF(K89="","",VLOOKUP(L89,G81:J100,4,0)) | S89: =IF($O89="","",IF($O89=1,400,IF($O89=2,340,IF($O89=3,300,IF($O89=4,280,IF($O89=5,270,IF($O89=6,260,IF($O89=7,250,IF($O89=8,240,IF($O89=9,200,IF($O89=10,200,IF($O89=11,200,IF($O89=12,200,IF($O89=13,200,IF($O89=14,200,IF($O89=15,200,IF($O89=16,200,IF($O89>16,"","")))))))))))))))))) | T89: =IF(O89="","",IF($F$7="NÃO","",IF(O89=1,400,IF(O89=2,340,IF(O89=3,300,IF(O89=4,280,IF(O89=5,270,IF(O89=6,260,IF(O89=7,250,IF(O89=8,240,IF(O89=9,200,IF(O89=10,200,IF(O89=11,200,IF(O89=12,200,IF(O89=13,200,IF(O89=14,200,IF(O89=15,200,IF(O89=16,200,IF(O89>16,"","")))))))))))))))))))
C90: =IF(B90="","",VLOOKUP(B90,LISTAS!$F$5:$I$1000,2,0)) | D90: =IF(B90="","",VLOOKUP(B90,LISTAS!$F$5:$I$204,4,0)) | L90: =IF(K90="","",LARGE(G81:G100,M90)) | M90: 10 | O90: =IF(R90<>"",_xlfn.RANK.EQ(R90,R81:R100,0),"") | P90: =IF(K90="","",VLOOKUP(L90,G81:J100,2,0)) | Q90: =IF(K90="","",VLOOKUP(P90,LISTAS!$F$5:$G$407,2,0)) | R90: =IF(K90="","",VLOOKUP(L90,G81:J100,4,0)) | S90: =IF($O90="","",IF($O90=1,400,IF($O90=2,340,IF($O90=3,300,IF($O90=4,280,IF($O90=5,270,IF($O90=6,260,IF($O90=7,250,IF($O90=8,240,IF($O90=9,200,IF($O90=10,200,IF($O90=11,200,IF($O90=12,200,IF($O90=13,200,IF($O90=14,200,IF($O90=15,200,IF($O90=16,200,IF($O90>16,"","")))))))))))))))))) | T90: =IF(O90="","",IF($F$7="NÃO","",IF(O90=1,400,IF(O90=2,340,IF(O90=3,300,IF(O90=4,280,IF(O90=5,270,IF(O90=6,260,IF(O90=7,250,IF(O90=8,240,IF(O90=9,200,IF(O90=10,200,IF(O90=11,200,IF(O90=12,200,IF(O90=13,200,IF(O90=14,200,IF(O90=15,200,IF(O90=16,200,IF(O90>16,"","")))))))))))))))))))
C91: =IF(B91="","",VLOOKUP(B91,LISTAS!$F$5:$I$1000,2,0)) | D91: =IF(B91="","",VLOOKUP(B91,LISTAS!$F$5:$I$204,4,0)) | L91: =IF(K91="","",LARGE(G81:G100,M91)) | M91: 11 | O91: =IF(R91<>"",_xlfn.RANK.EQ(R91,R81:R100,0),"") | P91: =IF(K91="","",VLOOKUP(L91,G81:J100,2,0)) | Q91: =IF(K91="","",VLOOKUP(P91,LISTAS!$F$5:$G$407,2,0)) | R91: =IF(K91="","",VLOOKUP(L91,G81:J100,4,0)) | S91: =IF($O91="","",IF($O91=1,400,IF($O91=2,340,IF($O91=3,300,IF($O91=4,280,IF($O91=5,270,IF($O91=6,260,IF($O91=7,250,IF($O91=8,240,IF($O91=9,200,IF($O91=10,200,IF($O91=11,200,IF($O91=12,200,IF($O91=13,200,IF($O91=14,200,IF($O91=15,200,IF($O91=16,200,IF($O91>16,"","")))))))))))))))))) | T91: =IF(O91="","",IF($F$7="NÃO","",IF(O91=1,400,IF(O91=2,340,IF(O91=3,300,IF(O91=4,280,IF(O91=5,270,IF(O91=6,260,IF(O91=7,250,IF(O91=8,240,IF(O91=9,200,IF(O91=10,200,IF(O91=11,200,IF(O91=12,200,IF(O91=13,200,IF(O91=14,200,IF(O91=15,200,IF(O91=16,200,IF(O91>16,"","")))))))))))))))))))
C92: =IF(B92="","",VLOOKUP(B92,LISTAS!$F$5:$I$1000,2,0)) | D92: =IF(B92="","",VLOOKUP(B92,LISTAS!$F$5:$I$204,4,0)) | L92: =IF(K92="","",LARGE(G81:G100,M92)) | M92: 12 | O92: =IF(R92<>"",_xlfn.RANK.EQ(R92,R81:R100,0),"") | P92: =IF(K92="","",VLOOKUP(L92,G81:J100,2,0)) | Q92: =IF(K92="","",VLOOKUP(P92,LISTAS!$F$5:$G$407,2,0)) | R92: =IF(K92="","",VLOOKUP(L92,G81:J100,4,0)) | S92: =IF($O92="","",IF($O92=1,400,IF($O92=2,340,IF($O92=3,300,IF($O92=4,280,IF($O92=5,270,IF($O92=6,260,IF($O92=7,250,IF($O92=8,240,IF($O92=9,200,IF($O92=10,200,IF($O92=11,200,IF($O92=12,200,IF($O92=13,200,IF($O92=14,200,IF($O92=15,200,IF($O92=16,200,IF($O92>16,"","")))))))))))))))))) | T92: =IF(O92="","",IF($F$7="NÃO","",IF(O92=1,400,IF(O92=2,340,IF(O92=3,300,IF(O92=4,280,IF(O92=5,270,IF(O92=6,260,IF(O92=7,250,IF(O92=8,240,IF(O92=9,200,IF(O92=10,200,IF(O92=11,200,IF(O92=12,200,IF(O92=13,200,IF(O92=14,200,IF(O92=15,200,IF(O92=16,200,IF(O92>16,"","")))))))))))))))))))
C93: =IF(B93="","",VLOOKUP(B93,LISTAS!$F$5:$I$1000,2,0)) | D93: =IF(B93="","",VLOOKUP(B93,LISTAS!$F$5:$I$204,4,0)) | L93: =IF(K93="","",LARGE(G81:G100,M93)) | M93: 13 | O93: =IF(R93<>"",_xlfn.RANK.EQ(R93,R81:R100,0),"") | P93: =IF(K93="","",VLOOKUP(L93,G81:J100,2,0)) | Q93: =IF(K93="","",VLOOKUP(P93,LISTAS!$F$5:$G$407,2,0)) | R93: =IF(K93="","",VLOOKUP(L93,G81:J100,4,0)) | S93: =IF($O93="","",IF($O93=1,400,IF($O93=2,340,IF($O93=3,300,IF($O93=4,280,IF($O93=5,270,IF($O93=6,260,IF($O93=7,250,IF($O93=8,240,IF($O93=9,200,IF($O93=10,200,IF($O93=11,200,IF($O93=12,200,IF($O93=13,200,IF($O93=14,200,IF($O93=15,200,IF($O93=16,200,IF($O93>16,"","")))))))))))))))))) | T93: =IF(O93="","",IF($F$7="NÃO","",IF(O93=1,400,IF(O93=2,340,IF(O93=3,300,IF(O93=4,280,IF(O93=5,270,IF(O93=6,260,IF(O93=7,250,IF(O93=8,240,IF(O93=9,200,IF(O93=10,200,IF(O93=11,200,IF(O93=12,200,IF(O93=13,200,IF(O93=14,200,IF(O93=15,200,IF(O93=16,200,IF(O93>16,"","")))))))))))))))))))
C94: =IF(B94="","",VLOOKUP(B94,LISTAS!$F$5:$I$1000,2,0)) | D94: =IF(B94="","",VLOOKUP(B94,LISTAS!$F$5:$I$204,4,0)) | L94: =IF(K94="","",LARGE(G81:G100,M94)) | M94: 14 | O94: =IF(R94<>"",_xlfn.RANK.EQ(R94,R81:R100,0),"") | P94: =IF(K94="","",VLOOKUP(L94,G81:J100,2,0)) | Q94: =IF(K94="","",VLOOKUP(P94,LISTAS!$F$5:$G$407,2,0)) | R94: =IF(K94="","",VLOOKUP(L94,G81:J100,4,0)) | S94: =IF($O94="","",IF($O94=1,400,IF($O94=2,340,IF($O94=3,300,IF($O94=4,280,IF($O94=5,270,IF($O94=6,260,IF($O94=7,250,IF($O94=8,240,IF($O94=9,200,IF($O94=10,200,IF($O94=11,200,IF($O94=12,200,IF($O94=13,200,IF($O94=14,200,IF($O94=15,200,IF($O94=16,200,IF($O94>16,"","")))))))))))))))))) | T94: =IF(O94="","",IF($F$7="NÃO","",IF(O94=1,400,IF(O94=2,340,IF(O94=3,300,IF(O94=4,280,IF(O94=5,270,IF(O94=6,260,IF(O94=7,250,IF(O94=8,240,IF(O94=9,200,IF(O94=10,200,IF(O94=11,200,IF(O94=12,200,IF(O94=13,200,IF(O94=14,200,IF(O94=15,200,IF(O94=16,200,IF(O94>16,"","")))))))))))))))))))
C95: =IF(B95="","",VLOOKUP(B95,LISTAS!$F$5:$I$1000,2,0)) | D95: =IF(B95="","",VLOOKUP(B95,LISTAS!$F$5:$I$204,4,0)) | L95: =IF(K95="","",LARGE(G81:G100,M95)) | M95: 15 | O95: =IF(R95<>"",_xlfn.RANK.EQ(R95,R81:R100,0),"") | P95: =IF(K95="","",VLOOKUP(L95,G81:J100,2,0)) | Q95: =IF(K95="","",VLOOKUP(P95,LISTAS!$F$5:$G$407,2,0)) | R95: =IF(K95="","",VLOOKUP(L95,G81:J100,4,0)) | S95: =IF($O95="","",IF($O95=1,400,IF($O95=2,340,IF($O95=3,300,IF($O95=4,280,IF($O95=5,270,IF($O95=6,260,IF($O95=7,250,IF($O95=8,240,IF($O95=9,200,IF($O95=10,200,IF($O95=11,200,IF($O95=12,200,IF($O95=13,200,IF($O95=14,200,IF($O95=15,200,IF($O95=16,200,IF($O95>16,"","")))))))))))))))))) | T95: =IF(O95="","",IF($F$7="NÃO","",IF(O95=1,400,IF(O95=2,340,IF(O95=3,300,IF(O95=4,280,IF(O95=5,270,IF(O95=6,260,IF(O95=7,250,IF(O95=8,240,IF(O95=9,200,IF(O95=10,200,IF(O95=11,200,IF(O95=12,200,IF(O95=13,200,IF(O95=14,200,IF(O95=15,200,IF(O95=16,200,IF(O95>16,"","")))))))))))))))))))
C96: =IF(B96="","",VLOOKUP(B96,LISTAS!$F$5:$I$1000,2,0)) | D96: =IF(B96="","",VLOOKUP(B96,LISTAS!$F$5:$I$204,4,0)) | L96: =IF(K96="","",LARGE(G81:G100,M96)) | M96: 16 | O96: =IF(R96<>"",_xlfn.RANK.EQ(R96,R81:R100,0),"") | P96: =IF(K96="","",VLOOKUP(L96,G81:J100,2,0)) | Q96: =IF(K96="","",VLOOKUP(P96,LISTAS!$F$5:$G$407,2,0)) | R96: =IF(K96="","",VLOOKUP(L96,G81:J100,4,0)) | S96: =IF($O96="","",IF($O96=1,400,IF($O96=2,340,IF($O96=3,300,IF($O96=4,280,IF($O96=5,270,IF($O96=6,260,IF($O96=7,250,IF($O96=8,240,IF($O96=9,200,IF($O96=10,200,IF($O96=11,200,IF($O96=12,200,IF($O96=13,200,IF($O96=14,200,IF($O96=15,200,IF($O96=16,200,IF($O96>16,"","")))))))))))))))))) | T96: =IF(O96="","",IF($F$7="NÃO","",IF(O96=1,400,IF(O96=2,340,IF(O96=3,300,IF(O96=4,280,IF(O96=5,270,IF(O96=6,260,IF(O96=7,250,IF(O96=8,240,IF(O96=9,200,IF(O96=10,200,IF(O96=11,200,IF(O96=12,200,IF(O96=13,200,IF(O96=14,200,IF(O96=15,200,IF(O96=16,200,IF(O96>16,"","")))))))))))))))))))
C97: =IF(B97="","",VLOOKUP(B97,LISTAS!$F$5:$I$1000,2,0)) | D97: =IF(B97="","",VLOOKUP(B97,LISTAS!$F$5:$I$204,4,0)) | G97: =IF(E97="","",E97+(ROW(E97)/10000)) | H97: =IF($K97="","",IF(B97="","",B97)) | I97: =IF($K97="","",IF(C97="","",C97)) | J97: =IF($K97="","",E97) | K97: =G97 | L97: =IF(K97="","",LARGE(G81:G100,M97)) | M97: 17 | O97: =IF(R97<>"",_xlfn.RANK.EQ(R97,R81:R100,0),"") | P97: =IF(K97="","",VLOOKUP(L97,G81:J100,2,0)) | Q97: =IF(K97="","",VLOOKUP(P97,LISTAS!$F$5:$G$407,2,0)) | R97: =IF(K97="","",VLOOKUP(L97,G81:J100,4,0)) | S97: =IF($O97="","",IF($O97=1,400,IF($O97=2,340,IF($O97=3,300,IF($O97=4,280,IF($O97=5,270,IF($O97=6,260,IF($O97=7,250,IF($O97=8,240,IF($O97=9,200,IF($O97=10,200,IF($O97=11,200,IF($O97=12,200,IF($O97=13,200,IF($O97=14,200,IF($O97=15,200,IF($O97=16,200,IF($O97>16,"","")))))))))))))))))) | T97: =IF(O97="","",IF($F$7="NÃO","",IF(O97=1,400,IF(O97=2,340,IF(O97=3,300,IF(O97=4,280,IF(O97=5,270,IF(O97=6,260,IF(O97=7,250,IF(O97=8,240,IF(O97=9,200,IF(O97=10,200,IF(O97=11,200,IF(O97=12,200,IF(O97=13,200,IF(O97=14,200,IF(O97=15,200,IF(O97=16,200,IF(O97>16,"","")))))))))))))))))))
C98: =IF(B98="","",VLOOKUP(B98,LISTAS!$F$5:$I$1000,2,0)) | D98: =IF(B98="","",VLOOKUP(B98,LISTAS!$F$5:$I$204,4,0)) | G98: =IF(E98="","",E98+(ROW(E98)/10000)) | H98: =IF($K98="","",IF(B98="","",B98)) | I98: =IF($K98="","",IF(C98="","",C98)) | J98: =IF($K98="","",E98) | K98: =G98 | L98: =IF(K98="","",LARGE(G81:G100,M98)) | M98: 18 | O98: =IF(R98<>"",_xlfn.RANK.EQ(R98,R81:R100,0),"") | P98: =IF(K98="","",VLOOKUP(L98,G81:J100,2,0)) | Q98: =IF(K98="","",VLOOKUP(P98,LISTAS!$F$5:$G$407,2,0)) | R98: =IF(K98="","",VLOOKUP(L98,G81:J100,4,0)) | S98: =IF($O98="","",IF($O98=1,400,IF($O98=2,340,IF($O98=3,300,IF($O98=4,280,IF($O98=5,270,IF($O98=6,260,IF($O98=7,250,IF($O98=8,240,IF($O98=9,200,IF($O98=10,200,IF($O98=11,200,IF($O98=12,200,IF($O98=13,200,IF($O98=14,200,IF($O98=15,200,IF($O98=16,200,IF($O98>16,"","")))))))))))))))))) | T98: =IF(O98="","",IF($F$7="NÃO","",IF(O98=1,400,IF(O98=2,340,IF(O98=3,300,IF(O98=4,280,IF(O98=5,270,IF(O98=6,260,IF(O98=7,250,IF(O98=8,240,IF(O98=9,200,IF(O98=10,200,IF(O98=11,200,IF(O98=12,200,IF(O98=13,200,IF(O98=14,200,IF(O98=15,200,IF(O98=16,200,IF(O98>16,"","")))))))))))))))))))
C99: =IF(B99="","",VLOOKUP(B99,LISTAS!$F$5:$I$1000,2,0)) | D99: =IF(B99="","",VLOOKUP(B99,LISTAS!$F$5:$I$204,4,0)) | L99: =IF(K99="","",LARGE(G81:G100,M99)) | M99: 19 | O99: =IF(R99<>"",_xlfn.RANK.EQ(R99,R81:R100,0),"") | P99: =IF(K99="","",VLOOKUP(L99,G81:J100,2,0)) | Q99: =IF(K99="","",VLOOKUP(P99,LISTAS!$F$5:$G$407,2,0)) | R99: =IF(K99="","",VLOOKUP(L99,G81:J100,4,0)) | S99: =IF($O99="","",IF($O99=1,400,IF($O99=2,340,IF($O99=3,300,IF($O99=4,280,IF($O99=5,270,IF($O99=6,260,IF($O99=7,250,IF($O99=8,240,IF($O99=9,200,IF($O99=10,200,IF($O99=11,200,IF($O99=12,200,IF($O99=13,200,IF($O99=14,200,IF($O99=15,200,IF($O99=16,200,IF($O99>16,"","")))))))))))))))))) | T99: =IF(O99="","",IF($F$7="NÃO","",IF(O99=1,400,IF(O99=2,340,IF(O99=3,300,IF(O99=4,280,IF(O99=5,270,IF(O99=6,260,IF(O99=7,250,IF(O99=8,240,IF(O99=9,200,IF(O99=10,200,IF(O99=11,200,IF(O99=12,200,IF(O99=13,200,IF(O99=14,200,IF(O99=15,200,IF(O99=16,200,IF(O99>16,"","")))))))))))))))))))
C100: =IF(B100="","",VLOOKUP(B100,LISTAS!$F$5:$I$1000,2,0)) | D100: =IF(B100="","",VLOOKUP(B100,LISTAS!$F$5:$I$204,4,0)) | G100: =IF(E100="","",E100+(ROW(E100)/10000)) | H100: =IF($K100="","",IF(B100="","",B100)) | I100: =IF($K100="","",IF(C100="","",C100)) | J100: =IF($K100="","",E100) | K100: =G100 | L100: =IF(K100="","",LARGE(G81:G100,M100)) | M100: 20 | O100: =IF(R100<>"",_xlfn.RANK.EQ(R100,R81:R100,0),"") | P100: =IF(K100="","",VLOOKUP(L100,G81:J100,2,0)) | Q100: =IF(K100="","",VLOOKUP(P100,LISTAS!$F$5:$G$407,2,0)) | R100: =IF(K100="","",VLOOKUP(L100,G81:J100,4,0)) | S100: =IF($O100="","",IF($O100=1,400,IF($O100=2,340,IF($O100=3,300,IF($O100=4,280,IF($O100=5,270,IF($O100=6,260,IF($O100=7,250,IF($O100=8,240,IF($O100=9,200,IF($O100=10,200,IF($O100=11,200,IF($O100=12,200,IF($O100=13,200,IF($O100=14,200,IF($O100=15,200,IF($O100=16,200,IF($O100>16,"","")))))))))))))))))) | T100: =IF(O100="","",IF($F$7="NÃO","",IF(O100=1,400,IF(O100=2,340,IF(O100=3,300,IF(O100=4,280,IF(O100=5,270,IF(O100=6,260,IF(O100=7,250,IF(O100=8,240,IF(O100=9,200,IF(O100=10,200,IF(O100=11,200,IF(O100=12,200,IF(O100=13,200,IF(O100=14,200,IF(O100=15,200,IF(O100=16,200,IF(O100>16,"","")))))))))))))))))))
B102: SUB 17 FEMININO | O102: CLASSIFICAÇÃO FINAL
B104: NOMES | C104: ESCOLA | D104: FILIAL / TURMA | E104: NOTA | O104: CLASSIFICAÇÃO | P104: NOMES | Q104: ESCOLA | R104: TEMPO | S104: PONTUAÇÃO ALUNO | T104: PONTUAÇÃO ESCOLA
B105: ALINE RUFINO | C105: =IF(B105="","",VLOOKUP(B105,LISTAS!$F$5:$I$1000,2,0)) -> COLEGIO AMORIM | D105: =IF(B105="","",VLOOKUP(B105,LISTAS!$F$5:$I$204,4,0)) -> SUB 18 | E105: 7 | G105: =IF(E105="","",E105+(ROW(E105)/10000)) -> 7.0105 | H105: =IF($K105="","",IF(B105="","",B105)) -> ALINE RUFINO | I105: =IF($K105="","",IF(C105="","",C105)) -> COLEGIO AMORIM | J105: =IF($K105="","",E105) -> 7 | K105: =G105 -> 7.0105 | L105: =IF(K105="","",LARGE(G105:G124,M105)) -> 8.3106 | M105: 1 | O105: =IF(R105<>"",_xlfn.RANK.EQ(R105,R105:R124,0),"") -> 1 | P105: =IF(K105="","",VLOOKUP(L105,G105:J124,2,0)) -> MARCELLA FREITAS CALDA | Q105: =IF(K105="","",VLOOKUP(P105,LISTAS!$F$5:$G$407,2,0)) -> COLEGIO AMORIM | R105: =IF(K105="","",VLOOKUP(L105,G105:J124,4,0)) -> 8.3 | S105: =IF($O105="","",IF($O105=1,400,IF($O105=2,340,IF($O105=3,300,IF($O105=4,280,IF($O105=5,270,IF($O105=6,260,IF($O105=7,250,IF($O105=8,240,IF($O105=9,200,IF($O105=10,200,IF($O105=11,200,IF($O105=12,200,IF($O105=13,200,IF($O105=14,200,IF($O105=15,200,IF($O105=16,200,IF($O105>16,"","")))))))))))))))))) -> 400 | T105: =IF(O105="","",IF($F$7="NÃO","",IF(O105=1,400,IF(O105=2,340,IF(O105=3,300,IF(O105=4,280,IF(O105=5,270,IF(O105=6,260,IF(O105=7,250,IF(O105=8,240,IF(O105=9,200,IF(O105=10,200,IF(O105=11,200,IF(O105=12,200,IF(O105=13,200,IF(O105=14,200,IF(O105=15,200,IF(O105=16,200,IF(O105>16,"",""))))))))))))))))))) -> 400
B106: MARCELLA FREITAS CALDA | C106: =IF(B106="","",VLOOKUP(B106,LISTAS!$F$5:$I$1000,2,0)) -> COLEGIO AMORIM | D106: =IF(B106="","",VLOOKUP(B106,LISTAS!$F$5:$I$204,4,0)) -> #N/A | E106: 8.3 | G106: =IF(E106="","",E106+(ROW(E106)/10000)) -> 8.3106 | H106: =IF($K106="","",IF(B106="","",B106)) -> MARCELLA FREITAS CALDA | I106: =IF($K106="","",IF(C106="","",C106)) -> COLEGIO AMORIM | J106: =IF($K106="","",E106) -> 8.3 | K106: =G106 -> 8.3106 | L106: =IF(K106="","",LARGE(G105:G124,M106)) -> 7.7107 | M106: 2 | O106: =IF(R106<>"",_xlfn.RANK.EQ(R106,R105:R124,0),"") -> 2 | P106: =IF(K106="","",VLOOKUP(L106,G105:J124,2,0)) -> LARISSA GUAGUNINI | Q106: =IF(K106="","",VLOOKUP(P106,LISTAS!$F$5:$G$407,2,0)) -> COLEGIO AMORIM | R106: =IF(K106="","",VLOOKUP(L106,G105:J124,4,0)) -> 7.7 | S106: =IF($O106="","",IF($O106=1,400,IF($O106=2,340,IF($O106=3,300,IF($O106=4,280,IF($O106=5,270,IF($O106=6,260,IF($O106=7,250,IF($O106=8,240,IF($O106=9,200,IF($O106=10,200,IF($O106=11,200,IF($O106=12,200,IF($O106=13,200,IF($O106=14,200,IF($O106=15,200,IF($O106=16,200,IF($O106>16,"","")))))))))))))))))) -> 340 | T106: =IF(O106="","",IF($F$7="NÃO","",IF(O106=1,400,IF(O106=2,340,IF(O106=3,300,IF(O106=4,280,IF(O106=5,270,IF(O106=6,260,IF(O106=7,250,IF(O106=8,240,IF(O106=9,200,IF(O106=10,200,IF(O106=11,200,IF(O106=12,200,IF(O106=13,200,IF(O106=14,200,IF(O106=15,200,IF(O106=16,200,IF(O106>16,"",""))))))))))))))))))) -> 340
B107: LARISSA GUAGUNINI | C107: =IF(B107="","",VLOOKUP(B107,LISTAS!$F$5:$I$1000,2,0)) -> COLEGIO AMORIM | D107: =IF(B107="","",VLOOKUP(B107,LISTAS!$F$5:$I$204,4,0)) -> #N/A | E107: 7.7 | G107: =IF(E107="","",E107+(ROW(E107)/10000)) -> 7.7107 | H107: =IF($K107="","",IF(B107="","",B107)) -> LARISSA GUAGUNINI | I107: =IF($K107="","",IF(C107="","",C107)) -> COLEGIO AMORIM | J107: =IF($K107="","",E107) -> 7.7 | K107: =G107 -> 7.7107 | L107: =IF(K107="","",LARGE(G105:G124,M107)) -> 7.0105 | M107: 3 | O107: =IF(R107<>"",_xlfn.RANK.EQ(R107,R105:R124,0),"") -> 3 | P107: =IF(K107="","",VLOOKUP(L107,G105:J124,2,0)) -> ALINE RUFINO | Q107: =IF(K107="","",VLOOKUP(P107,LISTAS!$F$5:$G$407,2,0)) -> COLEGIO AMORIM | R107: =IF(K107="","",VLOOKUP(L107,G105:J124,4,0)) -> 7 | S107: =IF($O107="","",IF($O107=1,400,IF($O107=2,340,IF($O107=3,300,IF($O107=4,280,IF($O107=5,270,IF($O107=6,260,IF($O107=7,250,IF($O107=8,240,IF($O107=9,200,IF($O107=10,200,IF($O107=11,200,IF($O107=12,200,IF($O107=13,200,IF($O107=14,200,IF($O107=15,200,IF($O107=16,200,IF($O107>16,"","")))))))))))))))))) -> 300 | T107: =IF(O107="","",IF($F$7="NÃO","",IF(O107=1,400,IF(O107=2,340,IF(O107=3,300,IF(O107=4,280,IF(O107=5,270,IF(O107=6,260,IF(O107=7,250,IF(O107=8,240,IF(O107=9,200,IF(O107=10,200,IF(O107=11,200,IF(O107=12,200,IF(O107=13,200,IF(O107=14,200,IF(O107=15,200,IF(O107=16,200,IF(O107>16,"",""))))))))))))))))))) -> 300
C108: =IF(B108="","",VLOOKUP(B108,LISTAS!$F$5:$I$1000,2,0)) | D108: =IF(B108="","",VLOOKUP(B108,LISTAS!$F$5:$I$204,4,0)) | G108: =IF(E108="","",E108+(ROW(E108)/10000)) | H108: =IF($K108="","",IF(B108="","",B108)) | I108: =IF($K108="","",IF(C108="","",C108)) | J108: =IF($K108="","",E108) | K108: =G108 | L108: =IF(K108="","",LARGE(G105:G124,M108)) | M108: 4 | O108: =IF(R108<>"",_xlfn.RANK.EQ(R108,R105:R124,0),"") | P108: =IF(K108="","",VLOOKUP(L108,G105:J124,2,0)) | Q108: =IF(K108="","",VLOOKUP(P108,LISTAS!$F$5:$G$407,2,0)) | R108: =IF(K108="","",VLOOKUP(L108,G105:J124,4,0)) | S108: =IF($O108="","",IF($O108=1,400,IF($O108=2,340,IF($O108=3,300,IF($O108=4,280,IF($O108=5,270,IF($O108=6,260,IF($O108=7,250,IF($O108=8,240,IF($O108=9,200,IF($O108=10,200,IF($O108=11,200,IF($O108=12,200,IF($O108=13,200,IF($O108=14,200,IF($O108=15,200,IF($O108=16,200,IF($O108>16,"","")))))))))))))))))) | T108: =IF(O108="","",IF($F$7="NÃO","",IF(O108=1,400,IF(O108=2,340,IF(O108=3,300,IF(O108=4,280,IF(O108=5,270,IF(O108=6,260,IF(O108=7,250,IF(O108=8,240,IF(O108=9,200,IF(O108=10,200,IF(O108=11,200,IF(O108=12,200,IF(O108=13,200,IF(O108=14,200,IF(O108=15,200,IF(O108=16,200,IF(O108>16,"","")))))))))))))))))))
C109: =IF(B109="","",VLOOKUP(B109,LISTAS!$F$5:$I$1000,2,0)) | D109: =IF(B109="","",VLOOKUP(B109,LISTAS!$F$5:$I$204,4,0)) | G109: =IF(E109="","",E109+(ROW(E109)/10000)) | H109: =IF($K109="","",IF(B109="","",B109)) | I109: =IF($K109="","",IF(C109="","",C109)) | J109: =IF($K109="","",E109) | K109: =G109 | L109: =IF(K109="","",LARGE(G105:G124,M109)) | M109: 5 | O109: =IF(R109<>"",_xlfn.RANK.EQ(R109,R105:R124,0),"") | P109: =IF(K109="","",VLOOKUP(L109,G105:J124,2,0)) | Q109: =IF(K109="","",VLOOKUP(P109,LISTAS!$F$5:$G$407,2,0)) | R109: =IF(K109="","",VLOOKUP(L109,G105:J124,4,0)) | S109: =IF($O109="","",IF($O109=1,400,IF($O109=2,340,IF($O109=3,300,IF($O109=4,280,IF($O109=5,270,IF($O109=6,260,IF($O109=7,250,IF($O109=8,240,IF($O109=9,200,IF($O109=10,200,IF($O109=11,200,IF($O109=12,200,IF($O109=13,200,IF($O109=14,200,IF($O109=15,200,IF($O109=16,200,IF($O109>16,"","")))))))))))))))))) | T109: =IF(O109="","",IF($F$7="NÃO","",IF(O109=1,400,IF(O109=2,340,IF(O109=3,300,IF(O109=4,280,IF(O109=5,270,IF(O109=6,260,IF(O109=7,250,IF(O109=8,240,IF(O109=9,200,IF(O109=10,200,IF(O109=11,200,IF(O109=12,200,IF(O109=13,200,IF(O109=14,200,IF(O109=15,200,IF(O109=16,200,IF(O109>16,"","")))))))))))))))))))
C110: =IF(B110="","",VLOOKUP(B110,LISTAS!$F$5:$I$1000,2,0)) | D110: =IF(B110="","",VLOOKUP(B110,LISTAS!$F$5:$I$204,4,0)) | G110: =IF(E110="","",E110+(ROW(E110)/10000)) | H110: =IF($K110="","",IF(B110="","",B110)) | I110: =IF($K110="","",IF(C110="","",C110)) | J110: =IF($K110="","",E110) | K110: =G110 | L110: =IF(K110="","",LARGE(G105:G124,M110)) | M110: 6 | O110: =IF(R110<>"",_xlfn.RANK.EQ(R110,R105:R124,0),"") | P110: =IF(K110="","",VLOOKUP(L110,G105:J124,2,0)) | Q110: =IF(K110="","",VLOOKUP(P110,LISTAS!$F$5:$G$407,2,0)) | R110: =IF(K110="","",VLOOKUP(L110,G105:J124,4,0)) | S110: =IF($O110="","",IF($O110=1,400,IF($O110=2,340,IF($O110=3,300,IF($O110=4,280,IF($O110=5,270,IF($O110=6,260,IF($O110=7,250,IF($O110=8,240,IF($O110=9,200,IF($O110=10,200,IF($O110=11,200,IF($O110=12,200,IF($O110=13,200,IF($O110=14,200,IF($O110=15,200,IF($O110=16,200,IF($O110>16,"","")))))))))))))))))) | T110: =IF(O110="","",IF($F$7="NÃO","",IF(O110=1,400,IF(O110=2,340,IF(O110=3,300,IF(O110=4,280,IF(O110=5,270,IF(O110=6,260,IF(O110=7,250,IF(O110=8,240,IF(O110=9,200,IF(O110=10,200,IF(O110=11,200,IF(O110=12,200,IF(O110=13,200,IF(O110=14,200,IF(O110=15,200,IF(O110=16,200,IF(O110>16,"","")))))))))))))))))))
C111: =IF(B111="","",VLOOKUP(B111,LISTAS!$F$5:$I$1000,2,0)) | D111: =IF(B111="","",VLOOKUP(B111,LISTAS!$F$5:$I$204,4,0)) | G111: =IF(E111="","",E111+(ROW(E111)/10000)) | H111: =IF($K111="","",IF(B111="","",B111)) | I111: =IF($K111="","",IF(C111="","",C111)) | J111: =IF($K111="","",E111) | K111: =G111 | L111: =IF(K111="","",LARGE(G105:G124,M111)) | M111: 7 | O111: =IF(R111<>"",_xlfn.RANK.EQ(R111,R105:R124,0),"") | P111: =IF(K111="","",VLOOKUP(L111,G105:J124,2,0)) | Q111: =IF(K111="","",VLOOKUP(P111,LISTAS!$F$5:$G$407,2,0)) | R111: =IF(K111="","",VLOOKUP(L111,G105:J124,4,0)) | S111: =IF($O111="","",IF($O111=1,400,IF($O111=2,340,IF($O111=3,300,IF($O111=4,280,IF($O111=5,270,IF($O111=6,260,IF($O111=7,250,IF($O111=8,240,IF($O111=9,200,IF($O111=10,200,IF($O111=11,200,IF($O111=12,200,IF($O111=13,200,IF($O111=14,200,IF($O111=15,200,IF($O111=16,200,IF($O111>16,"","")))))))))))))))))) | T111: =IF(O111="","",IF($F$7="NÃO","",IF(O111=1,400,IF(O111=2,340,IF(O111=3,300,IF(O111=4,280,IF(O111=5,270,IF(O111=6,260,IF(O111=7,250,IF(O111=8,240,IF(O111=9,200,IF(O111=10,200,IF(O111=11,200,IF(O111=12,200,IF(O111=13,200,IF(O111=14,200,IF(O111=15,200,IF(O111=16,200,IF(O111>16,"","")))))))))))))))))))
C112: =IF(B112="","",VLOOKUP(B112,LISTAS!$F$5:$I$1000,2,0)) | D112: =IF(B112="","",VLOOKUP(B112,LISTAS!$F$5:$I$204,4,0)) | L112: =IF(K112="","",LARGE(G105:G124,M112)) | M112: 8 | O112: =IF(R112<>"",_xlfn.RANK.EQ(R112,R105:R124,0),"") | P112: =IF(K112="","",VLOOKUP(L112,G105:J124,2,0)) | Q112: =IF(K112="","",VLOOKUP(P112,LISTAS!$F$5:$G$407,2,0)) | R112: =IF(K112="","",VLOOKUP(L112,G105:J124,4,0)) | S112: =IF($O112="","",IF($O112=1,400,IF($O112=2,340,IF($O112=3,300,IF($O112=4,280,IF($O112=5,270,IF($O112=6,260,IF($O112=7,250,IF($O112=8,240,IF($O112=9,200,IF($O112=10,200,IF($O112=11,200,IF($O112=12,200,IF($O112=13,200,IF($O112=14,200,IF($O112=15,200,IF($O112=16,200,IF($O112>16,"","")))))))))))))))))) | T112: =IF(O112="","",IF($F$7="NÃO","",IF(O112=1,400,IF(O112=2,340,IF(O112=3,300,IF(O112=4,280,IF(O112=5,270,IF(O112=6,260,IF(O112=7,250,IF(O112=8,240,IF(O112=9,200,IF(O112=10,200,IF(O112=11,200,IF(O112=12,200,IF(O112=13,200,IF(O112=14,200,IF(O112=15,200,IF(O112=16,200,IF(O112>16,"","")))))))))))))))))))
C113: =IF(B113="","",VLOOKUP(B113,LISTAS!$F$5:$I$1000,2,0)) | D113: =IF(B113="","",VLOOKUP(B113,LISTAS!$F$5:$I$204,4,0)) | L113: =IF(K113="","",LARGE(G105:G124,M113)) | M113: 9 | O113: =IF(R113<>"",_xlfn.RANK.EQ(R113,R105:R124,0),"") | P113: =IF(K113="","",VLOOKUP(L113,G105:J124,2,0)) | Q113: =IF(K113="","",VLOOKUP(P113,LISTAS!$F$5:$G$407,2,0)) | R113: =IF(K113="","",VLOOKUP(L113,G105:J124,4,0)) | S113: =IF($O113="","",IF($O113=1,400,IF($O113=2,340,IF($O113=3,300,IF($O113=4,280,IF($O113=5,270,IF($O113=6,260,IF($O113=7,250,IF($O113=8,240,IF($O113=9,200,IF($O113=10,200,IF($O113=11,200,IF($O113=12,200,IF($O113=13,200,IF($O113=14,200,IF($O113=15,200,IF($O113=16,200,IF($O113>16,"","")))))))))))))))))) | T113: =IF(O113="","",IF($F$7="NÃO","",IF(O113=1,400,IF(O113=2,340,IF(O113=3,300,IF(O113=4,280,IF(O113=5,270,IF(O113=6,260,IF(O113=7,250,IF(O113=8,240,IF(O113=9,200,IF(O113=10,200,IF(O113=11,200,IF(O113=12,200,IF(O113=13,200,IF(O113=14,200,IF(O113=15,200,IF(O113=16,200,IF(O113>16,"","")))))))))))))))))))
...

Sheet FITA
B6: F I T A - N I V E L I ( B A N C A 1 )
B7: SUB 09 FEMININO | E7: PONTUAÇÃO ESCOLA: | F7: SIM | O7: CLASSIFICAÇÃO FINAL
B8: NOMES | C8: ESCOLA | D8: FILIAL / TURMA | E8: NOTA | O8: CLASSIFICAÇÃO | P8: NOMES | Q8: ESCOLA | R8: NOTA | S8: PONTUAÇÃO ALUNO | T8: PONTUAÇÃO ESCOLA
C9: =IF(B9="","",VLOOKUP(B9,LISTAS!$F$5:$I$204,2,0)) | D9: =IF(B9="","",VLOOKUP(B9,LISTAS!$F$5:$I$204,4,0)) | G9: =IF(E9="","",E9+(ROW(E9)/10000)) | H9: =IF($K9="","",IF(B9="","",B9)) | I9: =IF($K9="","",IF(C9="","",C9)) | J9: =IF($K9="","",E9) | K9: =G9 | L9: =IF(K9="","",LARGE(G9:G28,M9)) | M9: 1 | O9: =IF(R9<>"",_xlfn.RANK.EQ(R9,R9:R28,0),"") | P9: =IF(K9="","",VLOOKUP(L9,G9:J28,2,0)) | Q9: =IF(K9="","",VLOOKUP(P9,LISTAS!$F$5:$G$407,2,0)) | R9: =IF(K9="","",VLOOKUP(L9,G9:J28,4,0)) | S9: =IF($O9="","",IF($O9=1,400,IF($O9=2,340,IF($O9=3,300,IF($O9=4,280,IF($O9=5,270,IF($O9=6,260,IF($O9=7,250,IF($O9=8,240,IF($O9=9,200,IF($O9=10,200,IF($O9=11,200,IF($O9=12,200,IF($O9=13,200,IF($O9=14,200,IF($O9=15,200,IF($O9=16,200,IF($O9>16,"","")))))))))))))))))) | T9: =IF(O9="","",IF($F$7="NÃO","",IF(O9=1,400,IF(O9=2,340,IF(O9=3,300,IF(O9=4,280,IF(O9=5,270,IF(O9=6,260,IF(O9=7,250,IF(O9=8,240,IF(O9=9,200,IF(O9=10,200,IF(O9=11,200,IF(O9=12,200,IF(O9=13,200,IF(O9=14,200,IF(O9=15,200,IF(O9=16,200,IF(O9>16,"","")))))))))))))))))))
