Workbook

Sheet ARCO
B6: A R C O - N I V E L I ( B A N C A 1 )
B7: SUB 09 FEMININO | E7: PONTUAÇÃO ESCOLA: | F7: SIM | O7: CLASSIFICAÇÃO FINAL
B8: NOMES | C8: ESCOLA | D8: FILIAL / TURMA | E8: NOTA | O8: CLASSIFICAÇÃO | P8: NOMES | Q8: ESCOLA | R8: NOTA | S8: PONTUAÇÃO ALUNO | T8: PONTUAÇÃO ESCOLA
C9: =IF(B9="","",VLOOKUP(B9,LISTAS!$F$5:$I$204,2,0)) | D9: =IF(B9="","",VLOOKUP(B9,LISTAS!$F$5:$I$204,4,0)) | G9: =IF(E9="","",E9+(ROW(E9)/10000)) | H9: =IF($K9="","",IF(B9="","",B9)) | I9: =IF($K9="","",IF(C9="","",C9)) | J9: =IF($K9="","",E9) | K9: =G9 | L9: =IF(K9="","",LARGE(G9:G28,M9)) | M9: 1 | O9: =IF(R9<>"",_xlfn.RANK.EQ(R9,R9:R28,0),"") | P9: =IF(K9="","",VLOOKUP(L9,G9:J28,2,0)) | Q9: =IF(K9="","",VLOOKUP(P9,LISTAS!$F$5:$G$407,2,0)) | R9: =IF(K9="","",VLOOKUP(L9,G9:J28,4,0)) | S9: =IF($O9="","",IF($O9=1,400,IF($O9=2,340,IF($O9=3,300,IF($O9=4,280,IF($O9=5,270,IF($O9=6,260,IF($O9=7,250,IF($O9=8,240,IF($O9=9,200,IF($O9=10,200,IF($O9=11,200,IF($O9=12,200,IF($O9=13,200,IF($O9=14,200,IF($O9=15,200,IF($O9=16,200,IF($O9>16,"","")))))))))))))))))) | T9: =IF(O9="","",IF($F$7="NÃO","",IF(O9=1,400,IF(O9=2,340,IF(O9=3,300,IF(O9=4,280,IF(O9=5,270,IF(O9=6,260,IF(O9=7,250,IF(O9=8,240,IF(O9=9,200,IF(O9=10,200,IF(O9=11,200,IF(O9=12,200,IF(O9=13,200,IF(O9=14,200,IF(O9=15,200,IF(O9=16,200,IF(O9>16,"","")))))))))))))))))))
C10: =IF(B10="","",VLOOKUP(B10,LISTAS!$F$5:$I$204,2,0)) | D10: =IF(B10="","",VLOOKUP(B10,LISTAS!$F$5:$I$204,4,0)) | G10: =IF(E10="","",E10+(ROW(E10)/10000)) | H10: =IF($K10="","",IF(B10="","",B10)) | I10: =IF($K10="","",IF(C10="","",C10)) | J10: =IF($K10="","",E10) | K10: =G10 | L10: =IF(K10="","",LARGE(G9:G28,M10)) | M10: 2 | O10: =IF(R10<>"",_xlfn.RANK.EQ(R10,R9:R28,0),"") | P10: =IF(K10="","",VLOOKUP(L10,G9:J28,2,0)) | Q10: =IF(K10="","",VLOOKUP(P10,LISTAS!$F$5:$G$407,2,0)) | R10: =IF(K10="","",VLOOKUP(L10,G9:J28,4,0)) | S10: =IF($O10="","",IF($O10=1,400,IF($O10=2,340,IF($O10=3,300,IF($O10=4,280,IF($O10=5,270,IF($O10=6,260,IF($O10=7,250,IF($O10=8,240,IF($O10=9,200,IF($O10=10,200,IF($O10=11,200,IF($O10=12,200,IF($O10=13,200,IF($O10=14,200,IF($O10=15,200,IF($O10=16,200,IF($O10>16,"","")))))))))))))))))) | T10: =IF(O10="","",IF($F$7="NÃO","",IF(O10=1,400,IF(O10=2,340,IF(O10=3,300,IF(O10=4,280,IF(O10=5,270,IF(O10=6,260,IF(O10=7,250,IF(O10=8,240,IF(O10=9,200,IF(O10=10,200,IF(O10=11,200,IF(O10=12,200,IF(O10=13,200,IF(O10=14,200,IF(O10=15,200,IF(O10=16,200,IF(O10>16,"","")))))))))))))))))))
C11: =IF(B11="","",VLOOKUP(B11,LISTAS!$F$5:$I$204,2,0)) | D11: =IF(B11="","",VLOOKUP(B11,LISTAS!$F$5:$I$204,4,0)) | G11: =IF(E11="","",E11+(ROW(E11)/10000)) | H11: =IF($K11="","",IF(B11="","",B11)) | I11: =IF($K11="","",IF(C11="","",C11)) | J11: =IF($K11="","",E11) | K11: =G11 | L11: =IF(K11="","",LARGE(G9:G28,M11)) | M11: 3 | O11: =IF(R11<>"",_xlfn.RANK.EQ(R11,R9:R28,0),"") | P11: =IF(K11="","",VLOOKUP(L11,G9:J28,2,0)) | Q11: =IF(K11="","",VLOOKUP(P11,LISTAS!$F$5:$G$407,2,0)) | R11: =IF(K11="","",VLOOKUP(L11,G9:J28,4,0)) | S11: =IF($O11="","",IF($O11=1,400,IF($O11=2,340,IF($O11=3,300,IF($O11=4,280,IF($O11=5,270,IF($O11=6,260,IF($O11=7,250,IF($O11=8,240,IF($O11=9,200,IF($O11=10,200,IF($O11=11,200,IF($O11=12,200,IF($O11=13,200,IF($O11=14,200,IF($O11=15,200,IF($O11=16,200,IF($O11>16,"","")))))))))))))))))) | T11: =IF(O11="","",IF($F$7="NÃO","",IF(O11=1,400,IF(O11=2,340,IF(O11=3,300,IF(O11=4,280,IF(O11=5,270,IF(O11=6,260,IF(O11=7,250,IF(O11=8,240,IF(O11=9,200,IF(O11=10,200,IF(O11=11,200,IF(O11=12,200,IF(O11=13,200,IF(O11=14,200,IF(O11=15,200,IF(O11=16,200,IF(O11>16,"","")))))))))))))))))))
C12: =IF(B12="","",VLOOKUP(B12,LISTAS!$F$5:$I$204,2,0)) | D12: =IF(B12="","",VLOOKUP(B12,LISTAS!$F$5:$I$204,4,0)) | G12: =IF(E12="","",E12+(ROW(E12)/10000)) | H12: =IF($K12="","",IF(B12="","",B12)) | I12: =IF($K12="","",IF(C12="","",C12)) | J12: =IF($K12="","",E12) | K12: =G12 | L12: =IF(K12="","",LARGE(G9:G28,M12)) | M12: 4 | O12: =IF(R12<>"",_xlfn.RANK.EQ(R12,R9:R28,0),"") | P12: =IF(K12="","",VLOOKUP(L12,G9:J28,2,0)) | Q12: =IF(K12="","",VLOOKUP(P12,LISTAS!$F$5:$G$407,2,0)) | R12: =IF(K12="","",VLOOKUP(L12,G9:J28,4,0)) | S12: =IF($O12="","",IF($O12=1,400,IF($O12=2,340,IF($O12=3,300,IF($O12=4,280,IF($O12=5,270,IF($O12=6,260,IF($O12=7,250,IF($O12=8,240,IF($O12=9,200,IF($O12=10,200,IF($O12=11,200,IF($O12=12,200,IF($O12=13,200,IF($O12=14,200,IF($O12=15,200,IF($O12=16,200,IF($O12>16,"","")))))))))))))))))) | T12: =IF(O12="","",IF($F$7="NÃO","",IF(O12=1,400,IF(O12=2,340,IF(O12=3,300,IF(O12=4,280,IF(O12=5,270,IF(O12=6,260,IF(O12=7,250,IF(O12=8,240,IF(O12=9,200,IF(O12=10,200,IF(O12=11,200,IF(O12=12,200,IF(O12=13,200,IF(O12=14,200,IF(O12=15,200,IF(O12=16,200,IF(O12>16,"","")))))))))))))))))))
C13: =IF(B13="","",VLOOKUP(B13,LISTAS!$F$5:$I$204,2,0)) | D13: =IF(B13="","",VLOOKUP(B13,LISTAS!$F$5:$I$204,4,0)) | G13: =IF(E13="","",E13+(ROW(E13)/10000)) | H13: =IF($K13="","",IF(B13="","",B13)) | I13: =IF($K13="","",IF(C13="","",C13)) | J13: =IF($K13="","",E13) | K13: =G13 | L13: =IF(K13="","",LARGE(G9:G28,M13)) | M13: 5 | O13: =IF(R13<>"",_xlfn.RANK.EQ(R13,R9:R28,0),"") | P13: =IF(K13="","",VLOOKUP(L13,G9:J28,2,0)) | Q13: =IF(K13="","",VLOOKUP(P13,LISTAS!$F$5:$G$407,2,0)) | R13: =IF(K13="","",VLOOKUP(L13,G9:J28,4,0)) | S13: =IF($O13="","",IF($O13=1,400,IF($O13=2,340,IF($O13=3,300,IF($O13=4,280,IF($O13=5,270,IF($O13=6,260,IF($O13=7,250,IF($O13=8,240,IF($O13=9,200,IF($O13=10,200,IF($O13=11,200,IF($O13=12,200,IF($O13=13,200,IF($O13=14,200,IF($O13=15,200,IF($O13=16,200,IF($O13>16,"","")))))))))))))))))) | T13: =IF(O13="","",IF($F$7="NÃO","",IF(O13=1,400,IF(O13=2,340,IF(O13=3,300,IF(O13=4,280,IF(O13=5,270,IF(O13=6,260,IF(O13=7,250,IF(O13=8,240,IF(O13=9,200,IF(O13=10,200,IF(O13=11,200,IF(O13=12,200,IF(O13=13,200,IF(O13=14,200,IF(O13=15,200,IF(O13=16,200,IF(O13>16,"","")))))))))))))))))))
C14: =IF(B14="","",VLOOKUP(B14,LISTAS!$F$5:$I$204,2,0)) | D14: =IF(B14="","",VLOOKUP(B14,LISTAS!$F$5:$I$204,4,0)) | G14: =IF(E14="","",E14+(ROW(E14)/10000)) | H14: =IF($K14="","",IF(B14="","",B14)) | I14: =IF($K14="","",IF(C14="","",C14)) | J14: =IF($K14="","",E14) | K14: =G14 | L14: =IF(K14="","",LARGE(G9:G28,M14)) | M14: 6 | O14: =IF(R14<>"",_xlfn.RANK.EQ(R14,R9:R28,0),"") | P14: =IF(K14="","",VLOOKUP(L14,G9:J28,2,0)) | Q14: =IF(K14="","",VLOOKUP(P14,LISTAS!$F$5:$G$407,2,0)) | R14: =IF(K14="","",VLOOKUP(L14,G9:J28,4,0)) | S14: =IF($O14="","",IF($O14=1,400,IF($O14=2,340,IF($O14=3,300,IF($O14=4,280,IF($O14=5,270,IF($O14=6,260,IF($O14=7,250,IF($O14=8,240,IF($O14=9,200,IF($O14=10,200,IF($O14=11,200,IF($O14=12,200,IF($O14=13,200,IF($O14=14,200,IF($O14=15,200,IF($O14=16,200,IF($O14>16,"","")))))))))))))))))) | T14: =IF(O14="","",IF($F$7="NÃO","",IF(O14=1,400,IF(O14=2,340,IF(O14=3,300,IF(O14=4,280,IF(O14=5,270,IF(O14=6,260,IF(O14=7,250,IF(O14=8,240,IF(O14=9,200,IF(O14=10,200,IF(O14=11,200,IF(O14=12,200,IF(O14=13,200,IF(O14=14,200,IF(O14=15,200,IF(O14=16,200,IF(O14>16,"","")))))))))))))))))))
C15: =IF(B15="","",VLOOKUP(B15,LISTAS!$F$5:$I$204,2,0)) | D15: =IF(B15="","",VLOOKUP(B15,LISTAS!$F$5:$I$204,4,0)) | G15: =IF(E15="","",E15+(ROW(E15)/10000)) | H15: =IF($K15="","",IF(B15="","",B15)) | I15: =IF($K15="","",IF(C15="","",C15)) | J15: =IF($K15="","",E15) | K15: =G15 | L15: =IF(K15="","",LARGE(G9:G28,M15)) | M15: 7 | O15: =IF(R15<>"",_xlfn.RANK.EQ(R15,R9:R28,0),"") | P15: =IF(K15="","",VLOOKUP(L15,G9:J28,2,0)) | Q15: =IF(K15="","",VLOOKUP(P15,LISTAS!$F$5:$G$407,2,0)) | R15: =IF(K15="","",VLOOKUP(L15,G9:J28,4,0)) | S15: =IF($O15="","",IF($O15=1,400,IF($O15=2,340,IF($O15=3,300,IF($O15=4,280,IF($O15=5,270,IF($O15=6,260,IF($O15=7,250,IF($O15=8,240,IF($O15=9,200,IF($O15=10,200,IF($O15=11,200,IF($O15=12,200,IF($O15=13,200,IF($O15=14,200,IF($O15=15,200,IF($O15=16,200,IF($O15>16,"","")))))))))))))))))) | T15: =IF(O15="","",IF($F$7="NÃO","",IF(O15=1,400,IF(O15=2,340,IF(O15=3,300,IF(O15=4,280,IF(O15=5,270,IF(O15=6,260,IF(O15=7,250,IF(O15=8,240,IF(O15=9,200,IF(O15=10,200,IF(O15=11,200,IF(O15=12,200,IF(O15=13,200,IF(O15=14,200,IF(O15=15,200,IF(O15=16,200,IF(O15>16,"","")))))))))))))))))))
C16: =IF(B16="","",VLOOKUP(B16,LISTAS!$F$5:$I$204,2,0)) | D16: =IF(B16="","",VLOOKUP(B16,LISTAS!$F$5:$I$204,4,0)) | L16: =IF(K16="","",LARGE(G9:G28,M16)) | M16: 8 | O16: =IF(R16<>"",_xlfn.RANK.EQ(R16,R9:R28,0),"") | P16: =IF(K16="","",VLOOKUP(L16,G9:J28,2,0)) | Q16: =IF(K16="","",VLOOKUP(P16,LISTAS!$F$5:$G$407,2,0)) | R16: =IF(K16="","",VLOOKUP(L16,G9:J28,4,0)) | S16: =IF($O16="","",IF($O16=1,400,IF($O16=2,340,IF($O16=3,300,IF($O16=4,280,IF($O16=5,270,IF($O16=6,260,IF($O16=7,250,IF($O16=8,240,IF($O16=9,200,IF($O16=10,200,IF($O16=11,200,IF($O16=12,200,IF($O16=13,200,IF($O16=14,200,IF($O16=15,200,IF($O16=16,200,IF($O16>16,"","")))))))))))))))))) | T16: =IF(O16="","",IF($F$7="NÃO","",IF(O16=1,400,IF(O16=2,340,IF(O16=3,300,IF(O16=4,280,IF(O16=5,270,IF(O16=6,260,IF(O16=7,250,IF(O16=8,240,IF(O16=9,200,IF(O16=10,200,IF(O16=11,200,IF(O16=12,200,IF(O16=13,200,IF(O16=14,200,IF(O16=15,200,IF(O16=16,200,IF(O16>16,"","")))))))))))))))))))
C17: =IF(B17="","",VLOOKUP(B17,LISTAS!$F$5:$I$204,2,0)) | D17: =IF(B17="","",VLOOKUP(B17,LISTAS!$F$5:$I$204,4,0)) | L17: =IF(K17="","",LARGE(G9:G28,M17)) | M17: 9 | O17: =IF(R17<>"",_xlfn.RANK.EQ(R17,R9:R28,0),"") | P17: =IF(K17="","",VLOOKUP(L17,G9:J28,2,0)) | Q17: =IF(K17="","",VLOOKUP(P17,LISTAS!$F$5:$G$407,2,0)) | R17: =IF(K17="","",VLOOKUP(L17,G9:J28,4,0)) | S17: =IF($O17="","",IF($O17=1,400,IF($O17=2,340,IF($O17=3,300,IF($O17=4,280,IF($O17=5,270,IF($O17=6,260,IF($O17=7,250,IF($O17=8,240,IF($O17=9,200,IF($O17=10,200,IF($O17=11,200,IF($O17=12,200,IF($O17=13,200,IF($O17=14,200,IF($O17=15,200,IF($O17=16,200,IF($O17>16,"","")))))))))))))))))) | T17: =IF(O17="","",IF($F$7="NÃO","",IF(O17=1,400,IF(O17=2,340,IF(O17=3,300,IF(O17=4,280,IF(O17=5,270,IF(O17=6,260,IF(O17=7,250,IF(O17=8,240,IF(O17=9,200,IF(O17=10,200,IF(O17=11,200,IF(O17=12,200,IF(O17=13,200,IF(O17=14,200,IF(O17=15,200,IF(O17=16,200,IF(O17>16,"","")))))))))))))))))))
C18: =IF(B18="","",VLOOKUP(B18,LISTAS!$F$5:$I$204,2,0)) | D18: =IF(B18="","",VLOOKUP(B18,LISTAS!$F$5:$I$204,4,0)) | L18: =IF(K18="","",LARGE(G9:G28,M18)) | M18: 10 | O18: =IF(R18<>"",_xlfn.RANK.EQ(R18,R9:R28,0),"") | P18: =IF(K18="","",VLOOKUP(L18,G9:J28,2,0)) | Q18: =IF(K18="","",VLOOKUP(P18,LISTAS!$F$5:$G$407,2,0)) | R18: =IF(K18="","",VLOOKUP(L18,G9:J28,4,0)) | S18: =IF($O18="","",IF($O18=1,400,IF($O18=2,340,IF($O18=3,300,IF($O18=4,280,IF($O18=5,270,IF($O18=6,260,IF($O18=7,250,IF($O18=8,240,IF($O18=9,200,IF($O18=10,200,IF($O18=11,200,IF($O18=12,200,IF($O18=13,200,IF($O18=14,200,IF($O18=15,200,IF($O18=16,200,IF($O18>16,"","")))))))))))))))))) | T18: =IF(O18="","",IF($F$7="NÃO","",IF(O18=1,400,IF(O18=2,340,IF(O18=3,300,IF(O18=4,280,IF(O18=5,270,IF(O18=6,260,IF(O18=7,250,IF(O18=8,240,IF(O18=9,200,IF(O18=10,200,IF(O18=11,200,IF(O18=12,200,IF(O18=13,200,IF(O18=14,200,IF(O18=15,200,IF(O18=16,200,IF(O18>16,"","")))))))))))))))))))
C19: =IF(B19="","",VLOOKUP(B19,LISTAS!$F$5:$I$204,2,0)) | D19: =IF(B19="","",VLOOKUP(B19,LISTAS!$F$5:$I$204,4,0)) | L19: =IF(K19="","",LARGE(G9:G28,M19)) | M19: 11 | O19: =IF(R19<>"",_xlfn.RANK.EQ(R19,R9:R28,0),"") | P19: =IF(K19="","",VLOOKUP(L19,G9:J28,2,0)) | Q19: =IF(K19="","",VLOOKUP(P19,LISTAS!$F$5:$G$407,2,0)) | R19: =IF(K19="","",VLOOKUP(L19,G9:J28,4,0)) | S19: =IF($O19="","",IF($O19=1,400,IF($O19=2,340,IF($O19=3,300,IF($O19=4,280,IF($O19=5,270,IF($O19=6,260,IF($O19=7,250,IF($O19=8,240,IF($O19=9,200,IF($O19=10,200,IF($O19=11,200,IF($O19=12,200,IF($O19=13,200,IF($O19=14,200,IF($O19=15,200,IF($O19=16,200,IF($O19>16,"","")))))))))))))))))) | T19: =IF(O19="","",IF($F$7="NÃO","",IF(O19=1,400,IF(O19=2,340,IF(O19=3,300,IF(O19=4,280,IF(O19=5,270,IF(O19=6,260,IF(O19=7,250,IF(O19=8,240,IF(O19=9,200,IF(O19=10,200,IF(O19=11,200,IF(O19=12,200,IF(O19=13,200,IF(O19=14,200,IF(O19=15,200,IF(O19=16,200,IF(O19>16,"","")))))))))))))))))))
C20: =IF(B20="","",VLOOKUP(B20,LISTAS!$F$5:$I$204,2,0)) | D20: =IF(B20="","",VLOOKUP(B20,LISTAS!$F$5:$I$204,4,0)) | L20: =IF(K20="","",LARGE(G9:G28,M20)) | M20: 12 | O20: =IF(R20<>"",_xlfn.RANK.EQ(R20,R9:R28,0),"") | P20: =IF(K20="","",VLOOKUP(L20,G9:J28,2,0)) | Q20: =IF(K20="","",VLOOKUP(P20,LISTAS!$F$5:$G$407,2,0)) | R20: =IF(K20="","",VLOOKUP(L20,G9:J28,4,0)) | S20: =IF($O20="","",IF($O20=1,400,IF($O20=2,340,IF($O20=3,300,IF($O20=4,280,IF($O20=5,270,IF($O20=6,260,IF($O20=7,250,IF($O20=8,240,IF($O20=9,200,IF($O20=10,200,IF($O20=11,200,IF($O20=12,200,IF($O20=13,200,IF($O20=14,200,IF($O20=15,200,IF($O20=16,200,IF($O20>16,"","")))))))))))))))))) | T20: =IF(O20="","",IF($F$7="NÃO","",IF(O20=1,400,IF(O20=2,340,IF(O20=3,300,IF(O20=4,280,IF(O20=5,270,IF(O20=6,260,IF(O20=7,250,IF(O20=8,240,IF(O20=9,200,IF(O20=10,200,IF(O20=11,200,IF(O20=12,200,IF(O20=13,200,IF(O20=14,200,IF(O20=15,200,IF(O20=16,200,IF(O20>16,"","")))))))))))))))))))
C21: =IF(B21="","",VLOOKUP(B21,LISTAS!$F$5:$I$204,2,0)) | D21: =IF(B21="","",VLOOKUP(B21,LISTAS!$F$5:$I$204,4,0)) | L21: =IF(K21="","",LARGE(G9:G28,M21)) | M21: 13 | O21: =IF(R21<>"",_xlfn.RANK.EQ(R21,R9:R28,0),"") | P21: =IF(K21="","",VLOOKUP(L21,G9:J28,2,0)) | Q21: =IF(K21="","",VLOOKUP(P21,LISTAS!$F$5:$G$407,2,0)) | R21: =IF(K21="","",VLOOKUP(L21,G9:J28,4,0)) | S21: =IF($O21="","",IF($O21=1,400,IF($O21=2,340,IF($O21=3,300,IF($O21=4,280,IF($O21=5,270,IF($O21=6,260,IF($O21=7,250,IF($O21=8,240,IF($O21=9,200,IF($O21=10,200,IF($O21=11,200,IF($O21=12,200,IF($O21=13,200,IF($O21=14,200,IF($O21=15,200,IF($O21=16,200,IF($O21>16,"","")))))))))))))))))) | T21: =IF(O21="","",IF($F$7="NÃO","",IF(O21=1,400,IF(O21=2,340,IF(O21=3,300,IF(O21=4,280,IF(O21=5,270,IF(O21=6,260,IF(O21=7,250,IF(O21=8,240,IF(O21=9,200,IF(O21=10,200,IF(O21=11,200,IF(O21=12,200,IF(O21=13,200,IF(O21=14,200,IF(O21=15,200,IF(O21=16,200,IF(O21>16,"","")))))))))))))))))))
C22: =IF(B22="","",VLOOKUP(B22,LISTAS!$F$5:$I$204,2,0)) | D22: =IF(B22="","",VLOOKUP(B22,LISTAS!$F$5:$I$204,4,0)) | L22: =IF(K22="","",LARGE(G9:G28,M22)) | M22: 14 | O22: =IF(R22<>"",_xlfn.RANK.EQ(R22,R9:R28,0),"") | P22: =IF(K22="","",VLOOKUP(L22,G9:J28,2,0)) | Q22: =IF(K22="","",VLOOKUP(P22,LISTAS!$F$5:$G$407,2,0)) | R22: =IF(K22="","",VLOOKUP(L22,G9:J28,4,0)) | S22: =IF($O22="","",IF($O22=1,400,IF($O22=2,340,IF($O22=3,300,IF($O22=4,280,IF($O22=5,270,IF($O22=6,260,IF($O22=7,250,IF($O22=8,240,IF($O22=9,200,IF($O22=10,200,IF($O22=11,200,IF($O22=12,200,IF($O22=13,200,IF($O22=14,200,IF($O22=15,200,IF($O22=16,200,IF($O22>16,"","")))))))))))))))))) | T22: =IF(O22="","",IF($F$7="NÃO","",IF(O22=1,400,IF(O22=2,340,IF(O22=3,300,IF(O22=4,280,IF(O22=5,270,IF(O22=6,260,IF(O22=7,250,IF(O22=8,240,IF(O22=9,200,IF(O22=10,200,IF(O22=11,200,IF(O22=12,200,IF(O22=13,200,IF(O22=14,200,IF(O22=15,200,IF(O22=16,200,IF(O22>16,"","")))))))))))))))))))
C23: =IF(B23="","",VLOOKUP(B23,LISTAS!$F$5:$I$204,2,0)) | D23: =IF(B23="","",VLOOKUP(B23,LISTAS!$F$5:$I$204,4,0)) | L23: =IF(K23="","",LARGE(G9:G28,M23)) | M23: 15 | O23: =IF(R23<>"",_xlfn.RANK.EQ(R23,R9:R28,0),"") | P23: =IF(K23="","",VLOOKUP(L23,G9:J28,2,0)) | Q23: =IF(K23="","",VLOOKUP(P23,LISTAS!$F$5:$G$407,2,0)) | R23: =IF(K23="","",VLOOKUP(L23,G9:J28,4,0)) | S23: =IF($O23="","",IF($O23=1,400,IF($O23=2,340,IF($O23=3,300,IF($O23=4,280,IF($O23=5,270,IF($O23=6,260,IF($O23=7,250,IF($O23=8,240,IF($O23=9,200,IF($O23=10,200,IF($O23=11,200,IF($O23=12,200,IF($O23=13,200,IF($O23=14,200,IF($O23=15,200,IF($O23=16,200,IF($O23>16,"","")))))))))))))))))) | T23: =IF(O23="","",IF($F$7="NÃO","",IF(O23=1,400,IF(O23=2,340,IF(O23=3,300,IF(O23=4,280,IF(O23=5,270,IF(O23=6,260,IF(O23=7,250,IF(O23=8,240,IF(O23=9,200,IF(O23=10,200,IF(O23=11,200,IF(O23=12,200,IF(O23=13,200,IF(O23=14,200,IF(O23=15,200,IF(O23=16,200,IF(O23>16,"","")))))))))))))))))))
C24: =IF(B24="","",VLOOKUP(B24,LISTAS!$F$5:$I$204,2,0)) | D24: =IF(B24="","",VLOOKUP(B24,LISTAS!$F$5:$I$204,4,0)) | L24: =IF(K24="","",LARGE(G9:G28,M24)) | M24: 16 | O24: =IF(R24<>"",_xlfn.RANK.EQ(R24,R9:R28,0),"") | P24: =IF(K24="","",VLOOKUP(L24,G9:J28,2,0)) | Q24: =IF(K24="","",VLOOKUP(P24,LISTAS!$F$5:$G$407,2,0)) | R24: =IF(K24="","",VLOOKUP(L24,G9:J28,4,0)) | S24: =IF($O24="","",IF($O24=1,400,IF($O24=2,340,IF($O24=3,300,IF($O24=4,280,IF($O24=5,270,IF($O24=6,260,IF($O24=7,250,IF($O24=8,240,IF($O24=9,200,IF($O24=10,200,IF($O24=11,200,IF($O24=12,200,IF($O24=13,200,IF($O24=14,200,IF($O24=15,200,IF($O24=16,200,IF($O24>16,"","")))))))))))))))))) | T24: =IF(O24="","",IF($F$7="NÃO","",IF(O24=1,400,IF(O24=2,340,IF(O24=3,300,IF(O24=4,280,IF(O24=5,270,IF(O24=6,260,IF(O24=7,250,IF(O24=8,240,IF(O24=9,200,IF(O24=10,200,IF(O24=11,200,IF(O24=12,200,IF(O24=13,200,IF(O24=14,200,IF(O24=15,200,IF(O24=16,200,IF(O24>16,"","")))))))))))))))))))
C25: =IF(B25="","",VLOOKUP(B25,LISTAS!$F$5:$I$204,2,0)) | D25: =IF(B25="","",VLOOKUP(B25,LISTAS!$F$5:$I$204,4,0)) | G25: =IF(E25="","",E25+(ROW(E25)/10000)) | H25: =IF($K25="","",IF(B25="","",B25)) | I25: =IF($K25="","",IF(C25="","",C25)) | J25: =IF($K25="","",E25) | K25: =G25 | L25: =IF(K25="","",LARGE(G9:G28,M25)) | M25: 17 | O25: =IF(R25<>"",_xlfn.RANK.EQ(R25,R9:R28,0),"") | P25: =IF(K25="","",VLOOKUP(L25,G9:J28,2,0)) | Q25: =IF(K25="","",VLOOKUP(P25,LISTAS!$F$5:$G$407,2,0)) | R25: =IF(K25="","",VLOOKUP(L25,G9:J28,4,0)) | S25: =IF($O25="","",IF($O25=1,400,IF($O25=2,340,IF($O25=3,300,IF($O25=4,280,IF($O25=5,270,IF($O25=6,260,IF($O25=7,250,IF($O25=8,240,IF($O25=9,200,IF($O25=10,200,IF($O25=11,200,IF($O25=12,200,IF($O25=13,200,IF($O25=14,200,IF($O25=15,200,IF($O25=16,200,IF($O25>16,"","")))))))))))))))))) | T25: =IF(O25="","",IF($F$7="NÃO","",IF(O25=1,400,IF(O25=2,340,IF(O25=3,300,IF(O25=4,280,IF(O25=5,270,IF(O25=6,260,IF(O25=7,250,IF(O25=8,240,IF(O25=9,200,IF(O25=10,200,IF(O25=11,200,IF(O25=12,200,IF(O25=13,200,IF(O25=14,200,IF(O25=15,200,IF(O25=16,200,IF(O25>16,"","")))))))))))))))))))
C26: =IF(B26="","",VLOOKUP(B26,LISTAS!$F$5:$I$204,2,0)) | D26: =IF(B26="","",VLOOKUP(B26,LISTAS!$F$5:$I$204,4,0)) | G26: =IF(E26="","",E26+(ROW(E26)/10000)) | H26: =IF($K26="","",IF(B26="","",B26)) | I26: =IF($K26="","",IF(C26="","",C26)) | J26: =IF($K26="","",E26) | K26: =G26 | L26: =IF(K26="","",LARGE(G9:G28,M26)) | M26: 18 | O26: =IF(R26<>"",_xlfn.RANK.EQ(R26,R9:R28,0),"") | P26: =IF(K26="","",VLOOKUP(L26,G9:J28,2,0)) | Q26: =IF(K26="","",VLOOKUP(P26,LISTAS!$F$5:$G$407,2,0)) | R26: =IF(K26="","",VLOOKUP(L26,G9:J28,4,0)) | S26: =IF($O26="","",IF($O26=1,400,IF($O26=2,340,IF($O26=3,300,IF($O26=4,280,IF($O26=5,270,IF($O26=6,260,IF($O26=7,250,IF($O26=8,240,IF($O26=9,200,IF($O26=10,200,IF($O26=11,200,IF($O26=12,200,IF($O26=13,200,IF($O26=14,200,IF($O26=15,200,IF($O26=16,200,IF($O26>16,"","")))))))))))))))))) | T26: =IF(O26="","",IF($F$7="NÃO","",IF(O26=1,400,IF(O26=2,340,IF(O26=3,300,IF(O26=4,280,IF(O26=5,270,IF(O26=6,260,IF(O26=7,250,IF(O26=8,240,IF(O26=9,200,IF(O26=10,200,IF(O26=11,200,IF(O26=12,200,IF(O26=13,200,IF(O26=14,200,IF(O26=15,200,IF(O26=16,200,IF(O26>16,"","")))))))))))))))))))
C27: =IF(B27="","",VLOOKUP(B27,LISTAS!$F$5:$I$204,2,0)) | D27: =IF(B27="","",VLOOKUP(B27,LISTAS!$F$5:$I$204,4,0)) | L27: =IF(K27="","",LARGE(G9:G28,M27)) | M27: 19 | O27: =IF(R27<>"",_xlfn.RANK.EQ(R27,R9:R28,0),"") | P27: =IF(K27="","",VLOOKUP(L27,G9:J28,2,0)) | Q27: =IF(K27="","",VLOOKUP(P27,LISTAS!$F$5:$G$407,2,0)) | R27: =IF(K27="","",VLOOKUP(L27,G9:J28,4,0)) | S27: =IF($O27="","",IF($O27=1,400,IF($O27=2,340,IF($O27=3,300,IF($O27=4,280,IF($O27=5,270,IF($O27=6,260,IF($O27=7,250,IF($O27=8,240,IF($O27=9,200,IF($O27=10,200,IF($O27=11,200,IF($O27=12,200,IF($O27=13,200,IF($O27=14,200,IF($O27=15,200,IF($O27=16,200,IF($O27>16,"","")))))))))))))))))) | T27: =IF(O27="","",IF($F$7="NÃO","",IF(O27=1,400,IF(O27=2,340,IF(O27=3,300,IF(O27=4,280,IF(O27=5,270,IF(O27=6,260,IF(O27=7,250,IF(O27=8,240,IF(O27=9,200,IF(O27=10,200,IF(O27=11,200,IF(O27=12,200,IF(O27=13,200,IF(O27=14,200,IF(O27=15,200,IF(O27=16,200,IF(O27>16,"","")))))))))))))))))))
C28: =IF(B28="","",VLOOKUP(B28,LISTAS!$F$5:$I$204,2,0)) | D28: =IF(B28="","",VLOOKUP(B28,LISTAS!$F$5:$I$204,4,0)) | G28: =IF(E28="","",E28+(ROW(E28)/10000)) | H28: =IF($K28="","",IF(B28="","",B28)) | I28: =IF($K28="","",IF(C28="","",C28)) | J28: =IF($K28="","",E28) | K28: =G28 | L28: =IF(K28="","",LARGE(G9:G28,M28)) | M28: 20 | O28: =IF(R28<>"",_xlfn.RANK.EQ(R28,R9:R28,0),"") | P28: =IF(K28="","",VLOOKUP(L28,G9:J28,2,0)) | Q28: =IF(K28="","",VLOOKUP(P28,LISTAS!$F$5:$G$407,2,0)) | R28: =IF(K28="","",VLOOKUP(L28,G9:J28,4,0)) | S28: =IF($O28="","",IF($O28=1,400,IF($O28=2,340,IF($O28=3,300,IF($O28=4,280,IF($O28=5,270,IF($O28=6,260,IF($O28=7,250,IF($O28=8,240,IF($O28=9,200,IF($O28=10,200,IF($O28=11,200,IF($O28=12,200,IF($O28=13,200,IF($O28=14,200,IF($O28=15,200,IF($O28=16,200,IF($O28>16,"","")))))))))))))))))) | T28: =IF(O28="","",IF($F$7="NÃO","",IF(O28=1,400,IF(O28=2,340,IF(O28=3,300,IF(O28=4,280,IF(O28=5,270,IF(O28=6,260,IF(O28=7,250,IF(O28=8,240,IF(O28=9,200,IF(O28=10,200,IF(O28=11,200,IF(O28=12,200,IF(O28=13,200,IF(O28=14,200,IF(O28=15,200,IF(O28=16,200,IF(O28>16,"","")))))))))))))))))))
C29: =IF(B29="","",VLOOKUP(B29,LISTAS!$F$5:$I$204,2,0)) | D29: =IF(B29="","",VLOOKUP(B29,LISTAS!$F$5:$I$204,4,0)) | O29: =IF(R29<>"",_xlfn.RANK.EQ(R29,R10:R29,0),"") | P29: =IF(K29="","",VLOOKUP(L29,G10:J29,2,0)) | Q29: =IF(K29="","",VLOOKUP(P29,LISTAS!$F$5:$G$407,2,0)) | R29: =IF(K29="","",VLOOKUP(L29,G10:J29,4,0)) | S29: =IF($O29="","",IF($O29=1,400,IF($O29=2,340,IF($O29=3,300,IF($O29=4,280,IF($O29=5,270,IF($O29=6,260,IF($O29=7,250,IF($O29=8,240,IF($O29=9,200,IF($O29=10,200,IF($O29=11,200,IF($O29=12,200,IF($O29=13,200,IF($O29=14,200,IF($O29=15,200,IF($O29=16,200,IF($O29>16,"","")))))))))))))))))) | T29: =IF(O29="","",IF($F$7="NÃO","",IF(O29=1,400,IF(O29=2,340,IF(O29=3,300,IF(O29=4,280,IF(O29=5,270,IF(O29=6,260,IF(O29=7,250,IF(O29=8,240,IF(O29=9,200,IF(O29=10,200,IF(O29=11,200,IF(O29=12,200,IF(O29=13,200,IF(O29=14,200,IF(O29=15,200,IF(O29=16,200,IF(O29>16,"","")))))))))))))))))))
C30: =IF(B30="","",VLOOKUP(B30,LISTAS!$F$5:$I$204,2,0)) | D30: =IF(B30="","",VLOOKUP(B30,LISTAS!$F$5:$I$204,4,0)) | O30: =IF(R30<>"",_xlfn.RANK.EQ(R30,R11:R30,0),"") | P30: =IF(K30="","",VLOOKUP(L30,G11:J30,2,0)) | Q30: =IF(K30="","",VLOOKUP(P30,LISTAS!$F$5:$G$407,2,0)) | R30: =IF(K30="","",VLOOKUP(L30,G11:J30,4,0)) | S30: =IF($O30="","",IF($O30=1,400,IF($O30=2,340,IF($O30=3,300,IF($O30=4,280,IF($O30=5,270,IF($O30=6,260,IF($O30=7,250,IF($O30=8,240,IF($O30=9,200,IF($O30=10,200,IF($O30=11,200,IF($O30=12,200,IF($O30=13,200,IF($O30=14,200,IF($O30=15,200,IF($O30=16,200,IF($O30>16,"","")))))))))))))))))) | T30: =IF(O30="","",IF($F$7="NÃO","",IF(O30=1,400,IF(O30=2,340,IF(O30=3,300,IF(O30=4,280,IF(O30=5,270,IF(O30=6,260,IF(O30=7,250,IF(O30=8,240,IF(O30=9,200,IF(O30=10,200,IF(O30=11,200,IF(O30=12,200,IF(O30=13,200,IF(O30=14,200,IF(O30=15,200,IF(O30=16,200,IF(O30>16,"","")))))))))))))))))))
C31: =IF(B31="","",VLOOKUP(B31,LISTAS!$F$5:$I$204,2,0)) | D31: =IF(B31="","",VLOOKUP(B31,LISTAS!$F$5:$I$204,4,0)) | O31: =IF(R31<>"",_xlfn.RANK.EQ(R31,R12:R31,0),"") | P31: =IF(K31="","",VLOOKUP(L31,G12:J31,2,0)) | Q31: =IF(K31="","",VLOOKUP(P31,LISTAS!$F$5:$G$407,2,0)) | R31: =IF(K31="","",VLOOKUP(L31,G12:J31,4,0)) | S31: =IF($O31="","",IF($O31=1,400,IF($O31=2,340,IF($O31=3,300,IF($O31=4,280,IF($O31=5,270,IF($O31=6,260,IF($O31=7,250,IF($O31=8,240,IF($O31=9,200,IF($O31=10,200,IF($O31=11,200,IF($O31=12,200,IF($O31=13,200,IF($O31=14,200,IF($O31=15,200,IF($O31=16,200,IF($O31>16,"","")))))))))))))))))) | T31: =IF(O31="","",IF($F$7="NÃO","",IF(O31=1,400,IF(O31=2,340,IF(O31=3,300,IF(O31=4,280,IF(O31=5,270,IF(O31=6,260,IF(O31=7,250,IF(O31=8,240,IF(O31=9,200,IF(O31=10,200,IF(O31=11,200,IF(O31=12,200,IF(O31=13,200,IF(O31=14,200,IF(O31=15,200,IF(O31=16,200,IF(O31>16,"","")))))))))))))))))))
C32: =IF(B32="","",VLOOKUP(B32,LISTAS!$F$5:$I$204,2,0)) | D32: =IF(B32="","",VLOOKUP(B32,LISTAS!$F$5:$I$204,4,0)) | O32: =IF(R32<>"",_xlfn.RANK.EQ(R32,R13:R32,0),"") | P32: =IF(K32="","",VLOOKUP(L32,G13:J32,2,0)) | Q32: =IF(K32="","",VLOOKUP(P32,LISTAS!$F$5:$G$407,2,0)) | R32: =IF(K32="","",VLOOKUP(L32,G13:J32,4,0)) | S32: =IF($O32="","",IF($O32=1,400,IF($O32=2,340,IF($O32=3,300,IF($O32=4,280,IF($O32=5,270,IF($O32=6,260,IF($O32=7,250,IF($O32=8,240,IF($O32=9,200,IF($O32=10,200,IF($O32=11,200,IF($O32=12,200,IF($O32=13,200,IF($O32=14,200,IF($O32=15,200,IF($O32=16,200,IF($O32>16,"","")))))))))))))))))) | T32: =IF(O32="","",IF($F$7="NÃO","",IF(O32=1,400,IF(O32=2,340,IF(O32=3,300,IF(O32=4,280,IF(O32=5,270,IF(O32=6,260,IF(O32=7,250,IF(O32=8,240,IF(O32=9,200,IF(O32=10,200,IF(O32=11,200,IF(O32=12,200,IF(O32=13,200,IF(O32=14,200,IF(O32=15,200,IF(O32=16,200,IF(O32>16,"","")))))))))))))))))))
C33: =IF(B33="","",VLOOKUP(B33,LISTAS!$F$5:$I$204,2,0)) | D33: =IF(B33="","",VLOOKUP(B33,LISTAS!$F$5:$I$204,4,0)) | O33: =IF(R33<>"",_xlfn.RANK.EQ(R33,R14:R33,0),"") | P33: =IF(K33="","",VLOOKUP(L33,G14:J33,2,0)) | Q33: =IF(K33="","",VLOOKUP(P33,LISTAS!$F$5:$G$407,2,0)) | R33: =IF(K33="","",VLOOKUP(L33,G14:J33,4,0)) | S33: =IF($O33="","",IF($O33=1,400,IF($O33=2,340,IF($O33=3,300,IF($O33=4,280,IF($O33=5,270,IF($O33=6,260,IF($O33=7,250,IF($O33=8,240,IF($O33=9,200,IF($O33=10,200,IF($O33=11,200,IF($O33=12,200,IF($O33=13,200,IF($O33=14,200,IF($O33=15,200,IF($O33=16,200,IF($O33>16,"","")))))))))))))))))) | T33: =IF(O33="","",IF($F$7="NÃO","",IF(O33=1,400,IF(O33=2,340,IF(O33=3,300,IF(O33=4,280,IF(O33=5,270,IF(O33=6,260,IF(O33=7,250,IF(O33=8,240,IF(O33=9,200,IF(O33=10,200,IF(O33=11,200,IF(O33=12,200,IF(O33=13,200,IF(O33=14,200,IF(O33=15,200,IF(O33=16,200,IF(O33>16,"","")))))))))))))))))))
C34: =IF(B34="","",VLOOKUP(B34,LISTAS!$F$5:$I$204,2,0)) | D34: =IF(B34="","",VLOOKUP(B34,LISTAS!$F$5:$I$204,4,0)) | O34: =IF(R34<>"",_xlfn.RANK.EQ(R34,R15:R34,0),"") | P34: =IF(K34="","",VLOOKUP(L34,G15:J34,2,0)) | Q34: =IF(K34="","",VLOOKUP(P34,LISTAS!$F$5:$G$407,2,0)) | R34: =IF(K34="","",VLOOKUP(L34,G15:J34,4,0)) | S34: =IF($O34="","",IF($O34=1,400,IF($O34=2,340,IF($O34=3,300,IF($O34=4,280,IF($O34=5,270,IF($O34=6,260,IF($O34=7,250,IF($O34=8,240,IF($O34=9,200,IF($O34=10,200,IF($O34=11,200,IF($O34=12,200,IF($O34=13,200,IF($O34=14,200,IF($O34=15,200,IF($O34=16,200,IF($O34>16,"","")))))))))))))))))) | T34: =IF(O34="","",IF($F$7="NÃO","",IF(O34=1,400,IF(O34=2,340,IF(O34=3,300,IF(O34=4,280,IF(O34=5,270,IF(O34=6,260,IF(O34=7,250,IF(O34=8,240,IF(O34=9,200,IF(O34=10,200,IF(O34=11,200,IF(O34=12,200,IF(O34=13,200,IF(O34=14,200,IF(O34=15,200,IF(O34=16,200,IF(O34>16,"","")))))))))))))))))))
C35: =IF(B35="","",VLOOKUP(B35,LISTAS!$F$5:$I$204,2,0)) | D35: =IF(B35="","",VLOOKUP(B35,LISTAS!$F$5:$I$204,4,0)) | O35: =IF(R35<>"",_xlfn.RANK.EQ(R35,R16:R35,0),"") | P35: =IF(K35="","",VLOOKUP(L35,G16:J35,2,0)) | Q35: =IF(K35="","",VLOOKUP(P35,LISTAS!$F$5:$G$407,2,0)) | R35: =IF(K35="","",VLOOKUP(L35,G16:J35,4,0)) | S35: =IF($O35="","",IF($O35=1,400,IF($O35=2,340,IF($O35=3,300,IF($O35=4,280,IF($O35=5,270,IF($O35=6,260,IF($O35=7,250,IF($O35=8,240,IF($O35=9,200,IF($O35=10,200,IF($O35=11,200,IF($O35=12,200,IF($O35=13,200,IF($O35=14,200,IF($O35=15,200,IF($O35=16,200,IF($O35>16,"","")))))))))))))))))) | T35: =IF(O35="","",IF($F$7="NÃO","",IF(O35=1,400,IF(O35=2,340,IF(O35=3,300,IF(O35=4,280,IF(O35=5,270,IF(O35=6,260,IF(O35=7,250,IF(O35=8,240,IF(O35=9,200,IF(O35=10,200,IF(O35=11,200,IF(O35=12,200,IF(O35=13,200,IF(O35=14,200,IF(O35=15,200,IF(O35=16,200,IF(O35>16,"","")))))))))))))))))))
C36: =IF(B36="","",VLOOKUP(B36,LISTAS!$F$5:$I$204,2,0)) | D36: =IF(B36="","",VLOOKUP(B36,LISTAS!$F$5:$I$204,4,0)) | O36: =IF(R36<>"",_xlfn.RANK.EQ(R36,R17:R36,0),"") | P36: =IF(K36="","",VLOOKUP(L36,G17:J36,2,0)) | Q36: =IF(K36="","",VLOOKUP(P36,LISTAS!$F$5:$G$407,2,0)) | R36: =IF(K36="","",VLOOKUP(L36,G17:J36,4,0)) | S36: =IF($O36="","",IF($O36=1,400,IF($O36=2,340,IF($O36=3,300,IF($O36=4,280,IF($O36=5,270,IF($O36=6,260,IF($O36=7,250,IF($O36=8,240,IF($O36=9,200,IF($O36=10,200,IF($O36=11,200,IF($O36=12,200,IF($O36=13,200,IF($O36=14,200,IF($O36=15,200,IF($O36=16,200,IF($O36>16,"","")))))))))))))))))) | T36: =IF(O36="","",IF($F$7="NÃO","",IF(O36=1,400,IF(O36=2,340,IF(O36=3,300,IF(O36=4,280,IF(O36=5,270,IF(O36=6,260,IF(O36=7,250,IF(O36=8,240,IF(O36=9,200,IF(O36=10,200,IF(O36=11,200,IF(O36=12,200,IF(O36=13,200,IF(O36=14,200,IF(O36=15,200,IF(O36=16,200,IF(O36>16,"","")))))))))))))))))))
C37: =IF(B37="","",VLOOKUP(B37,LISTAS!$F$5:$I$204,2,0)) | D37: =IF(B37="","",VLOOKUP(B37,LISTAS!$F$5:$I$204,4,0)) | O37: =IF(R37<>"",_xlfn.RANK.EQ(R37,R18:R37,0),"") | P37: =IF(K37="","",VLOOKUP(L37,G18:J37,2,0)) | Q37: =IF(K37="","",VLOOKUP(P37,LISTAS!$F$5:$G$407,2,0)) | R37: =IF(K37="","",VLOOKUP(L37,G18:J37,4,0)) | S37: =IF($O37="","",IF($O37=1,400,IF($O37=2,340,IF($O37=3,300,IF($O37=4,280,IF($O37=5,270,IF($O37=6,260,IF($O37=7,250,IF($O37=8,240,IF($O37=9,200,IF($O37=10,200,IF($O37=11,200,IF($O37=12,200,IF($O37=13,200,IF($O37=14,200,IF($O37=15,200,IF($O37=16,200,IF($O37>16,"","")))))))))))))))))) | T37: =IF(O37="","",IF($F$7="NÃO","",IF(O37=1,400,IF(O37=2,340,IF(O37=3,300,IF(O37=4,280,IF(O37=5,270,IF(O37=6,260,IF(O37=7,250,IF(O37=8,240,IF(O37=9,200,IF(O37=10,200,IF(O37=11,200,IF(O37=12,200,IF(O37=13,200,IF(O37=14,200,IF(O37=15,200,IF(O37=16,200,IF(O37>16,"","")))))))))))))))))))
C38: =IF(B38="","",VLOOKUP(B38,LISTAS!$F$5:$I$204,2,0)) | D38: =IF(B38="","",VLOOKUP(B38,LISTAS!$F$5:$I$204,4,0)) | O38: =IF(R38<>"",_xlfn.RANK.EQ(R38,R19:R38,0),"") | P38: =IF(K38="","",VLOOKUP(L38,G19:J38,2,0)) | Q38: =IF(K38="","",VLOOKUP(P38,LISTAS!$F$5:$G$407,2,0)) | R38: =IF(K38="","",VLOOKUP(L38,G19:J38,4,0)) | S38: =IF($O38="","",IF($O38=1,400,IF($O38=2,340,IF($O38=3,300,IF($O38=4,280,IF($O38=5,270,IF($O38=6,260,IF($O38=7,250,IF($O38=8,240,IF($O38=9,200,IF($O38=10,200,IF($O38=11,200,IF($O38=12,200,IF($O38=13,200,IF($O38=14,200,IF($O38=15,200,IF($O38=16,200,IF($O38>16,"","")))))))))))))))))) | T38: =IF(O38="","",IF($F$7="NÃO","",IF(O38=1,400,IF(O38=2,340,IF(O38=3,300,IF(O38=4,280,IF(O38=5,270,IF(O38=6,260,IF(O38=7,250,IF(O38=8,240,IF(O38=9,200,IF(O38=10,200,IF(O38=11,200,IF(O38=12,200,IF(O38=13,200,IF(O38=14,200,IF(O38=15,200,IF(O38=16,200,IF(O38>16,"","")))))))))))))))))))
B40: SUB 11 FEMININO | O40: CLASSIFICAÇÃO FINAL
B42: NOMES | C42: ESCOLA | D42: FILIAL / TURMA | E42: NOTA | O42: CLASSIFICAÇÃO | P42: NOMES | Q42: ESCOLA | R42: TEMPO | S42: PONTUAÇÃO ALUNO | T42: PONTUAÇÃO ESCOLA
B43: HELENA DURSO SILVA | C43: =IF(B43="","",VLOOKUP(B43,LISTAS!$F$5:$I$1000,2,0)) -> COLÉGIO GRAN LEONE | D43: =IF(B43="","",VLOOKUP(B43,LISTAS!$F$5:$I$204,4,0)) -> SUB 11 | E43: 8 | G43: =IF(E43="","",E43+(ROW(E43)/10000)) -> 8.0043 | H43: =IF($K43="","",IF(B43="","",B43)) -> HELENA DURSO SILVA | I43: =IF($K43="","",IF(C43="","",C43)) -> COLÉGIO GRAN LEONE | J43: =IF($K43="","",E43) -> 8 | K43: =G43 -> 8.0043 | L43: =IF(K43="","",LARGE(G43:G62,M43)) -> 8.4044 | M43: 1 | O43: =IF(R43<>"",_xlfn.RANK.EQ(R43,R43:R62,0),"") -> 1 | P43: =IF(K43="","",VLOOKUP(L43,G43:J62,2,0)) -> KAREN TERUMI NISHIKAWA | Q43: =IF(K43="","",VLOOKUP(P43,LISTAS!$F$5:$G$407,2,0)) -> COLÉGIO GRAN LEONE | R43: =IF(K43="","",VLOOKUP(L43,G43:J62,4,0)) -> 8.4 | S43: =IF($O43="","",IF($O43=1,400,IF($O43=2,340,IF($O43=3,300,IF($O43=4,280,IF($O43=5,270,IF($O43=6,260,IF($O43=7,250,IF($O43=8,240,IF($O43=9,200,IF($O43=10,200,IF($O43=11,200,IF($O43=12,200,IF($O43=13,200,IF($O43=14,200,IF($O43=15,200,IF($O43=16,200,IF($O43>16,"","")))))))))))))))))) -> 400 | T43: =IF(O43="","",IF($F$7="NÃO","",IF(O43=1,400,IF(O43=2,340,IF(O43=3,300,IF(O43=4,280,IF(O43=5,270,IF(O43=6,260,IF(O43=7,250,IF(O43=8,240,IF(O43=9,200,IF(O43=10,200,IF(O43=11,200,IF(O43=12,200,IF(O43=13,200,IF(O43=14,200,IF(O43=15,200,IF(O43=16,200,IF(O43>16,"",""))))))))))))))))))) -> 400
B44: KAREN TERUMI NISHIKAWA | C44: =IF(B44="","",VLOOKUP(B44,LISTAS!$F$5:$I$1000,2,0)) -> COLÉGIO GRAN LEONE | D44: =IF(B44="","",VLOOKUP(B44,LISTAS!$F$5:$I$204,4,0)) -> SUB 11 | E44: 8.4 | G44: =IF(E44="","",E44+(ROW(E44)/10000)) -> 8.4044 | H44: =IF($K44="","",IF(B44="","",B44)) -> KAREN TERUMI NISHIKAWA | I44: =IF($K44="","",IF(C44="","",C44)) -> COLÉGIO GRAN LEONE | J44: =IF($K44="","",E44) -> 8.4 | K44: =G44 -> 8.4044 | L44: =IF(K44="","",LARGE(G43:G62,M44)) -> 8.0043 | M44: 2 | O44: =IF(R44<>"",_xlfn.RANK.EQ(R44,R43:R62,0),"") -> 2 | P44: =IF(K44="","",VLOOKUP(L44,G43:J62,2,0)) -> HELENA DURSO SILVA | Q44: =IF(K44="","",VLOOKUP(P44,LISTAS!$F$5:$G$407,2,0)) -> COLÉGIO GRAN LEONE | R44: =IF(K44="","",VLOOKUP(L44,G43:J62,4,0)) -> 8 | S44: =IF($O44="","",IF($O44=1,400,IF($O44=2,340,IF($O44=3,300,IF($O44=4,280,IF($O44=5,270,IF($O44=6,260,IF($O44=7,250,IF($O44=8,240,IF($O44=9,200,IF($O44=10,200,IF($O44=11,200,IF($O44=12,200,IF($O44=13,200,IF($O44=14,200,IF($O44=15,200,IF($O44=16,200,IF($O44>16,"","")))))))))))))))))) -> 340 | T44: =IF(O44="","",IF($F$7="NÃO","",IF(O44=1,400,IF(O44=2,340,IF(O44=3,300,IF(O44=4,280,IF(O44=5,270,IF(O44=6,260,IF(O44=7,250,IF(O44=8,240,IF(O44=9,200,IF(O44=10,200,IF(O44=11,200,IF(O44=12,200,IF(O44=13,200,IF(O44=14,200,IF(O44=15,200,IF(O44=16,200,IF(O44>16,"",""))))))))))))))))))) -> 340
B45: LUIZA ARRAZI HONORIO MACIEL | C45: =IF(B45="","",VLOOKUP(B45,LISTAS!$F$5:$I$1000,2,0)) -> GRUPO FÊNIX DE EDUCAÇÃO | D45: =IF(B45="","",VLOOKUP(B45,LISTAS!$F$5:$I$204,4,0)) -> #N/A | E45: 6.8 | G45: =IF(E45="","",E45+(ROW(E45)/10000)) -> 6.8045 | H45: =IF($K45="","",IF(B45="","",B45)) -> LUIZA ARRAZI HONORIO MACIEL | I45: =IF($K45="","",IF(C45="","",C45)) -> GRUPO FÊNIX DE EDUCAÇÃO | J45: =IF($K45="","",E45) -> 6.8 | K45: =G45 -> 6.8045 | L45: =IF(K45="","",LARGE(G43:G62,M45)) -> 7.8051 | M45: 3 | O45: =IF(R45<>"",_xlfn.RANK.EQ(R45,R43:R62,0),"") -> 3 | P45: =IF(K45="","",VLOOKUP(L45,G43:J62,2,0)) -> ISABELA KANASHIRO | Q45: =IF(K45="","",VLOOKUP(P45,LISTAS!$F$5:$G$407,2,0)) -> LICEU JARDIM | R45: =IF(K45="","",VLOOKUP(L45,G43:J62,4,0)) -> 7.8 | S45: =IF($O45="","",IF($O45=1,400,IF($O45=2,340,IF($O45=3,300,IF($O45=4,280,IF($O45=5,270,IF($O45=6,260,IF($O45=7,250,IF($O45=8,240,IF($O45=9,200,IF($O45=10,200,IF($O45=11,200,IF($O45=12,200,IF($O45=13,200,IF($O45=14,200,IF($O45=15,200,IF($O45=16,200,IF($O45>16,"","")))))))))))))))))) -> 300 | T45: =IF(O45="","",IF($F$7="NÃO","",IF(O45=1,400,IF(O45=2,340,IF(O45=3,300,IF(O45=4,280,IF(O45=5,270,IF(O45=6,260,IF(O45=7,250,IF(O45=8,240,IF(O45=9,200,IF(O45=10,200,IF(O45=11,200,IF(O45=12,200,IF(O45=13,200,IF(O45=14,200,IF(O45=15,200,IF(O45=16,200,IF(O45>16,"",""))))))))))))))))))) -> 300
B46: GABRIELLA VASCONCELOS PIZZUTO | C46: =IF(B46="","",VLOOKUP(B46,LISTAS!$F$5:$I$1000,2,0)) -> LICEU JARDIM | D46: SUB 11 | E46: 7.1 | G46: =IF(E46="","",E46+(ROW(E46)/10000)) -> 7.1046 | H46: =IF($K46="","",IF(B46="","",B46)) -> GABRIELLA VASCONCELOS PIZZUTO | I46: =IF($K46="","",IF(C46="","",C46)) -> LICEU JARDIM | J46: =IF($K46="","",E46) -> 7.1 | K46: =G46 -> 7.1046 | L46: =IF(K46="","",LARGE(G43:G62,M46)) -> 7.4049 | M46: 4 | O46: =IF(R46<>"",_xlfn.RANK.EQ(R46,R43:R62,0),"") -> 4 | P46: =IF(K46="","",VLOOKUP(L46,G43:J62,2,0)) -> LÍVIA DE PASCHOAL CARAMEL | Q46: =IF(K46="","",VLOOKUP(P46,LISTAS!$F$5:$G$407,2,0)) -> LICEU JARDIM | R46: =IF(K46="","",VLOOKUP(L46,G43:J62,4,0)) -> 7.4 | S46: =IF($O46="","",IF($O46=1,400,IF($O46=2,340,IF($O46=3,300,IF($O46=4,280,IF($O46=5,270,IF($O46=6,260,IF($O46=7,250,IF($O46=8,240,IF($O46=9,200,IF($O46=10,200,IF($O46=11,200,IF($O46=12,200,IF($O46=13,200,IF($O46=14,200,IF($O46=15,200,IF($O46=16,200,IF($O46>16,"","")))))))))))))))))) -> 280 | T46: =IF(O46="","",IF($F$7="NÃO","",IF(O46=1,400,IF(O46=2,340,IF(O46=3,300,IF(O46=4,280,IF(O46=5,270,IF(O46=6,260,IF(O46=7,250,IF(O46=8,240,IF(O46=9,200,IF(O46=10,200,IF(O46=11,200,IF(O46=12,200,IF(O46=13,200,IF(O46=14,200,IF(O46=15,200,IF(O46=16,200,IF(O46>16,"",""))))))))))))))))))) -> 280
B47: ISABELA PANFIETT XAVIER | C47: =IF(B47="","",VLOOKUP(B47,LISTAS!$F$5:$I$1000,2,0)) -> LICEU JARDIM | D47: SUB 11 | E47: 6.7 | G47: =IF(E47="","",E47+(ROW(E47)/10000)) -> 6.7047 | H47: =IF($K47="","",IF(B47="","",B47)) -> ISABELA PANFIETT XAVIER | I47: =IF($K47="","",IF(C47="","",C47)) -> LICEU JARDIM | J47: =IF($K47="","",E47) -> 6.7 | K47: =G47 -> 6.7047 | L47: =IF(K47="","",LARGE(G43:G62,M47)) -> 7.205 | M47: 5 | O47: =IF(R47<>"",_xlfn.RANK.EQ(R47,R43:R62,0),"") -> 5 | P47: =IF(K47="","",VLOOKUP(L47,G43:J62,2,0)) -> MANUELA DO AMARAL COSTA DE SOUZA | Q47: =IF(K47="","",VLOOKUP(P47,LISTAS!$F$5:$G$407,2,0)) -> LICEU JARDIM | R47: =IF(K47="","",VLOOKUP(L47,G43:J62,4,0)) -> 7.2 | S47: =IF($O47="","",IF($O47=1,400,IF($O47=2,340,IF($O47=3,300,IF($O47=4,280,IF($O47=5,270,IF($O47=6,260,IF($O47=7,250,IF($O47=8,240,IF($O47=9,200,IF($O47=10,200,IF($O47=11,200,IF($O47=12,200,IF($O47=13,200,IF($O47=14,200,IF($O47=15,200,IF($O47=16,200,IF($O47>16,"","")))))))))))))))))) -> 270 | T47: =IF(O47="","",IF($F$7="NÃO","",IF(O47=1,400,IF(O47=2,340,IF(O47=3,300,IF(O47=4,280,IF(O47=5,270,IF(O47=6,260,IF(O47=7,250,IF(O47=8,240,IF(O47=9,200,IF(O47=10,200,IF(O47=11,200,IF(O47=12,200,IF(O47=13,200,IF(O47=14,200,IF(O47=15,200,IF(O47=16,200,IF(O47>16,"",""))))))))))))))))))) -> 270
...

Sheet CORDA
B6: C O R D A - N I V E L I ( B A N C A 1 )
B7: SUB 09 FEMININO | E7: PONTUAÇÃO ESCOLA: | F7: SIM | O7: CLASSIFICAÇÃO FINAL
B8: NOMES | C8: ESCOLA | D8: FILIAL / TURMA | E8: NOTA | O8: CLASSIFICAÇÃO | P8: NOMES | Q8: ESCOLA | R8: NOTA | S8: PONTUAÇÃO ALUNO | T8: PONTUAÇÃO ESCOLA
B9: CATARINA GHIRELLI | C9: =IF(B9="","",VLOOKUP(B9,LISTAS!$F$5:$I$1000,2,0)) -> LICEU JARDIM | D9: =IF(B9="","",VLOOKUP(B9,LISTAS!$F$5:$I$204,4,0)) -> SUB 09 | E9: 6.8 | G9: =IF(E9="","",E9+(ROW(E9)/10000)) -> 6.8009 | H9: =IF($K9="","",IF(B9="","",B9)) -> CATARINA GHIRELLI | I9: =IF($K9="","",IF(C9="","",C9)) -> LICEU JARDIM | J9: =IF($K9="","",E9) -> 6.8 | K9: =G9 -> 6.8009 | L9: =IF(K9="","",LARGE(G9:G28,M9)) -> 7.3011 | M9: 1 | O9: =IF(R9<>"",_xlfn.RANK.EQ(R9,R9:R28,0),"") -> 1 | P9: =IF(K9="","",VLOOKUP(L9,G9:J28,2,0)) -> LAVÍNIA MARCONDES NAVARRO | Q9: =IF(K9="","",VLOOKUP(P9,LISTAS!$F$5:$G$407,2,0)) -> LICEU JARDIM | R9: =IF(K9="","",VLOOKUP(L9,G9:J28,4,0)) -> 7.3 | S9: =IF($O9="","",IF($O9=1,400,IF($O9=2,340,IF($O9=3,300,IF($O9=4,280,IF($O9=5,270,IF($O9=6,260,IF($O9=7,250,IF($O9=8,240,IF($O9=9,200,IF($O9=10,200,IF($O9=11,200,IF($O9=12,200,IF($O9=13,200,IF($O9=14,200,IF($O9=15,200,IF($O9=16,200,IF($O9>16,"","")))))))))))))))))) -> 400 | T9: =IF(O9="","",IF($F$7="NÃO","",IF(O9=1,400,IF(O9=2,340,IF(O9=3,300,IF(O9=4,280,IF(O9=5,270,IF(O9=6,260,IF(O9=7,250,IF(O9=8,240,IF(O9=9,200,IF(O9=10,200,IF(O9=11,200,IF(O9=12,200,IF(O9=13,200,IF(O9=14,200,IF(O9=15,200,IF(O9=16,200,IF(O9>16,"",""))))))))))))))))))) -> 400
B10: LAURA PAIVA BRANCALHÃO | C10: =IF(B10="","",VLOOKUP(B10,LISTAS!$F$5:$I$1000,2,0)) -> LICEU JARDIM | D10: =IF(B10="","",VLOOKUP(B10,LISTAS!$F$5:$I$204,4,0)) -> SUB 09 | E10: 7.1 | G10: =IF(E10="","",E10+(ROW(E10)/10000)) -> 7.101 | H10: =IF($K10="","",IF(B10="","",B10)) -> LAURA PAIVA BRANCALHÃO | I10: =IF($K10="","",IF(C10="","",C10)) -> LICEU JARDIM | J10: =IF($K10="","",E10) -> 7.1 | K10: =G10 -> 7.101 | L10: =IF(K10="","",LARGE(G9:G28,M10)) -> 7.101 | M10: 2 | O10: =IF(R10<>"",_xlfn.RANK.EQ(R10,R9:R28,0),"") -> 2 | P10: =IF(K10="","",VLOOKUP(L10,G9:J28,2,0)) -> LAURA PAIVA BRANCALHÃO | Q10: =IF(K10="","",VLOOKUP(P10,LISTAS!$F$5:$G$407,2,0)) -> LICEU JARDIM | R10: =IF(K10="","",VLOOKUP(L10,G9:J28,4,0)) -> 7.1 | S10: =IF($O10="","",IF($O10=1,400,IF($O10=2,340,IF($O10=3,300,IF($O10=4,280,IF($O10=5,270,IF($O10=6,260,IF($O10=7,250,IF($O10=8,240,IF($O10=9,200,IF($O10=10,200,IF($O10=11,200,IF($O10=12,200,IF($O10=13,200,IF($O10=14,200,IF($O10=15,200,IF($O10=16,200,IF($O10>16,"","")))))))))))))))))) -> 340 | T10: =IF(O10="","",IF($F$7="NÃO","",IF(O10=1,400,IF(O10=2,340,IF(O10=3,300,IF(O10=4,280,IF(O10=5,270,IF(O10=6,260,IF(O10=7,250,IF(O10=8,240,IF(O10=9,200,IF(O10=10,200,IF(O10=11,200,IF(O10=12,200,IF(O10=13,200,IF(O10=14,200,IF(O10=15,200,IF(O10=16,200,IF(O10>16,"",""))))))))))))))))))) -> 340
B11: LAVÍNIA MARCONDES NAVARRO | C11: =IF(B11="","",VLOOKUP(B11,LISTAS!$F$5:$I$1000,2,0)) -> LICEU JARDIM | E11: 7.3 | G11: =IF(E11="","",E11+(ROW(E11)/10000)) -> 7.3011 | H11: =IF($K11="","",IF(B11="","",B11)) -> LAVÍNIA MARCONDES NAVARRO | I11: =IF($K11="","",IF(C11="","",C11)) -> LICEU JARDIM | J11: =IF($K11="","",E11) -> 7.3 | K11: =G11 -> 7.3011 | L11: =IF(K11="","",LARGE(G9:G28,M11)) -> 6.8009 | M11: 3 | O11: =IF(R11<>"",_xlfn.RANK.EQ(R11,R9:R28,0),"") -> 3 | P11: =IF(K11="","",VLOOKUP(L11,G9:J28,2,0)) -> CATARINA GHIRELLI | Q11: =IF(K11="","",VLOOKUP(P11,LISTAS!$F$5:$G$407,2,0)) -> LICEU JARDIM | R11: =IF(K11="","",VLOOKUP(L11,G9:J28,4,0)) -> 6.8 | S11: =IF($O11="","",IF($O11=1,400,IF($O11=2,340,IF($O11=3,300,IF($O11=4,280,IF($O11=5,270,IF($O11=6,260,IF($O11=7,250,IF($O11=8,240,IF($O11=9,200,IF($O11=10,200,IF($O11=11,200,IF($O11=12,200,IF($O11=13,200,IF($O11=14,200,IF($O11=15,200,IF($O11=16,200,IF($O11>16,"","")))))))))))))))))) -> 300 | T11: =IF(O11="","",IF($F$7="NÃO","",IF(O11=1,400,IF(O11=2,340,IF(O11=3,300,IF(O11=4,280,IF(O11=5,270,IF(O11=6,260,IF(O11=7,250,IF(O11=8,240,IF(O11=9,200,IF(O11=10,200,IF(O11=11,200,IF(O11=12,200,IF(O11=13,200,IF(O11=14,200,IF(O11=15,200,IF(O11=16,200,IF(O11>16,"",""))))))))))))))))))) -> 300
C12: =IF(B12="","",VLOOKUP(B12,LISTAS!$F$5:$I$1000,2,0)) | D12: =IF(B12="","",VLOOKUP(B12,LISTAS!$F$5:$I$204,4,0)) | G12: =IF(E12="","",E12+(ROW(E12)/10000)) | H12: =IF($K12="","",IF(B12="","",B12)) | I12: =IF($K12="","",IF(C12="","",C12)) | J12: =IF($K12="","",E12) | K12: =G12 | L12: =IF(K12="","",LARGE(G9:G28,M12)) | M12: 4 | O12: =IF(R12<>"",_xlfn.RANK.EQ(R12,R9:R28,0),"") | P12: =IF(K12="","",VLOOKUP(L12,G9:J28,2,0)) | Q12: =IF(K12="","",VLOOKUP(P12,LISTAS!$F$5:$G$407,2,0)) | R12: =IF(K12="","",VLOOKUP(L12,G9:J28,4,0)) | S12: =IF($O12="","",IF($O12=1,400,IF($O12=2,340,IF($O12=3,300,IF($O12=4,280,IF($O12=5,270,IF($O12=6,260,IF($O12=7,250,IF($O12=8,240,IF($O12=9,200,IF($O12=10,200,IF($O12=11,200,IF($O12=12,200,IF($O12=13,200,IF($O12=14,200,IF($O12=15,200,IF($O12=16,200,IF($O12>16,"","")))))))))))))))))) | T12: =IF(O12="","",IF($F$7="NÃO","",IF(O12=1,400,IF(O12=2,340,IF(O12=3,300,IF(O12=4,280,IF(O12=5,270,IF(O12=6,260,IF(O12=7,250,IF(O12=8,240,IF(O12=9,200,IF(O12=10,200,IF(O12=11,200,IF(O12=12,200,IF(O12=13,200,IF(O12=14,200,IF(O12=15,200,IF(O12=16,200,IF(O12>16,"","")))))))))))))))))))
C13: =IF(B13="","",VLOOKUP(B13,LISTAS!$F$5:$I$1000,2,0)) | D13: =IF(B13="","",VLOOKUP(B13,LISTAS!$F$5:$I$204,4,0)) | G13: =IF(E13="","",E13+(ROW(E13)/10000)) | H13: =IF($K13="","",IF(B13="","",B13)) | I13: =IF($K13="","",IF(C13="","",C13)) | J13: =IF($K13="","",E13) | K13: =G13 | L13: =IF(K13="","",LARGE(G9:G28,M13)) | M13: 5 | O13: =IF(R13<>"",_xlfn.RANK.EQ(R13,R9:R28,0),"") | P13: =IF(K13="","",VLOOKUP(L13,G9:J28,2,0)) | Q13: =IF(K13="","",VLOOKUP(P13,LISTAS!$F$5:$G$407,2,0)) | R13: =IF(K13="","",VLOOKUP(L13,G9:J28,4,0)) | S13: =IF($O13="","",IF($O13=1,400,IF($O13=2,340,IF($O13=3,300,IF($O13=4,280,IF($O13=5,270,IF($O13=6,260,IF($O13=7,250,IF($O13=8,240,IF($O13=9,200,IF($O13=10,200,IF($O13=11,200,IF($O13=12,200,IF($O13=13,200,IF($O13=14,200,IF($O13=15,200,IF($O13=16,200,IF($O13>16,"","")))))))))))))))))) | T13: =IF(O13="","",IF($F$7="NÃO","",IF(O13=1,400,IF(O13=2,340,IF(O13=3,300,IF(O13=4,280,IF(O13=5,270,IF(O13=6,260,IF(O13=7,250,IF(O13=8,240,IF(O13=9,200,IF(O13=10,200,IF(O13=11,200,IF(O13=12,200,IF(O13=13,200,IF(O13=14,200,IF(O13=15,200,IF(O13=16,200,IF(O13>16,"","")))))))))))))))))))
C14: =IF(B14="","",VLOOKUP(B14,LISTAS!$F$5:$I$1000,2,0)) | D14: =IF(B14="","",VLOOKUP(B14,LISTAS!$F$5:$I$204,4,0)) | G14: =IF(E14="","",E14+(ROW(E14)/10000)) | H14: =IF($K14="","",IF(B14="","",B14)) | I14: =IF($K14="","",IF(C14="","",C14)) | J14: =IF($K14="","",E14) | K14: =G14 | L14: =IF(K14="","",LARGE(G9:G28,M14)) | M14: 6 | O14: =IF(R14<>"",_xlfn.RANK.EQ(R14,R9:R28,0),"") | P14: =IF(K14="","",VLOOKUP(L14,G9:J28,2,0)) | Q14: =IF(K14="","",VLOOKUP(P14,LISTAS!$F$5:$G$407,2,0)) | R14: =IF(K14="","",VLOOKUP(L14,G9:J28,4,0)) | S14: =IF($O14="","",IF($O14=1,400,IF($O14=2,340,IF($O14=3,300,IF($O14=4,280,IF($O14=5,270,IF($O14=6,260,IF($O14=7,250,IF($O14=8,240,IF($O14=9,200,IF($O14=10,200,IF($O14=11,200,IF($O14=12,200,IF($O14=13,200,IF($O14=14,200,IF($O14=15,200,IF($O14=16,200,IF($O14>16,"","")))))))))))))))))) | T14: =IF(O14="","",IF($F$7="NÃO","",IF(O14=1,400,IF(O14=2,340,IF(O14=3,300,IF(O14=4,280,IF(O14=5,270,IF(O14=6,260,IF(O14=7,250,IF(O14=8,240,IF(O14=9,200,IF(O14=10,200,IF(O14=11,200,IF(O14=12,200,IF(O14=13,200,IF(O14=14,200,IF(O14=15,200,IF(O14=16,200,IF(O14>16,"","")))))))))))))))))))
C15: =IF(B15="","",VLOOKUP(B15,LISTAS!$F$5:$I$1000,2,0)) | D15: =IF(B15="","",VLOOKUP(B15,LISTAS!$F$5:$I$204,4,0)) | G15: =IF(E15="","",E15+(ROW(E15)/10000)) | H15: =IF($K15="","",IF(B15="","",B15)) | I15: =IF($K15="","",IF(C15="","",C15)) | J15: =IF($K15="","",E15) | K15: =G15 | L15: =IF(K15="","",LARGE(G9:G28,M15)) | M15: 7 | O15: =IF(R15<>"",_xlfn.RANK.EQ(R15,R9:R28,0),"") | P15: =IF(K15="","",VLOOKUP(L15,G9:J28,2,0)) | Q15: =IF(K15="","",VLOOKUP(P15,LISTAS!$F$5:$G$407,2,0)) | R15: =IF(K15="","",VLOOKUP(L15,G9:J28,4,0)) | S15: =IF($O15="","",IF($O15=1,400,IF($O15=2,340,IF($O15=3,300,IF($O15=4,280,IF($O15=5,270,IF($O15=6,260,IF($O15=7,250,IF($O15=8,240,IF($O15=9,200,IF($O15=10,200,IF($O15=11,200,IF($O15=12,200,IF($O15=13,200,IF($O15=14,200,IF($O15=15,200,IF($O15=16,200,IF($O15>16,"","")))))))))))))))))) | T15: =IF(O15="","",IF($F$7="NÃO","",IF(O15=1,400,IF(O15=2,340,IF(O15=3,300,IF(O15=4,280,IF(O15=5,270,IF(O15=6,260,IF(O15=7,250,IF(O15=8,240,IF(O15=9,200,IF(O15=10,200,IF(O15=11,200,IF(O15=12,200,IF(O15=13,200,IF(O15=14,200,IF(O15=15,200,IF(O15=16,200,IF(O15>16,"","")))))))))))))))))))
C16: =IF(B16="","",VLOOKUP(B16,LISTAS!$F$5:$I$1000,2,0)) | D16: =IF(B16="","",VLOOKUP(B16,LISTAS!$F$5:$I$204,4,0)) | L16: =IF(K16="","",LARGE(G9:G28,M16)) | M16: 8 | O16: =IF(R16<>"",_xlfn.RANK.EQ(R16,R9:R28,0),"") | P16: =IF(K16="","",VLOOKUP(L16,G9:J28,2,0)) | Q16: =IF(K16="","",VLOOKUP(P16,LISTAS!$F$5:$G$407,2,0)) | R16: =IF(K16="","",VLOOKUP(L16,G9:J28,4,0)) | S16: =IF($O16="","",IF($O16=1,400,IF($O16=2,340,IF($O16=3,300,IF($O16=4,280,IF($O16=5,270,IF($O16=6,260,IF($O16=7,250,IF($O16=8,240,IF($O16=9,200,IF($O16=10,200,IF($O16=11,200,IF($O16=12,200,IF($O16=13,200,IF($O16=14,200,IF($O16=15,200,IF($O16=16,200,IF($O16>16,"","")))))))))))))))))) | T16: =IF(O16="","",IF($F$7="NÃO","",IF(O16=1,400,IF(O16=2,340,IF(O16=3,300,IF(O16=4,280,IF(O16=5,270,IF(O16=6,260,IF(O16=7,250,IF(O16=8,240,IF(O16=9,200,IF(O16=10,200,IF(O16=11,200,IF(O16=12,200,IF(O16=13,200,IF(O16=14,200,IF(O16=15,200,IF(O16=16,200,IF(O16>16,"","")))))))))))))))))))
C17: =IF(B17="","",VLOOKUP(B17,LISTAS!$F$5:$I$1000,2,0)) | D17: =IF(B17="","",VLOOKUP(B17,LISTAS!$F$5:$I$204,4,0)) | L17: =IF(K17="","",LARGE(G9:G28,M17)) | M17: 9 | O17: =IF(R17<>"",_xlfn.RANK.EQ(R17,R9:R28,0),"") | P17: =IF(K17="","",VLOOKUP(L17,G9:J28,2,0)) | Q17: =IF(K17="","",VLOOKUP(P17,LISTAS!$F$5:$G$407,2,0)) | R17: =IF(K17="","",VLOOKUP(L17,G9:J28,4,0)) | S17: =IF($O17="","",IF($O17=1,400,IF($O17=2,340,IF($O17=3,300,IF($O17=4,280,IF($O17=5,270,IF($O17=6,260,IF($O17=7,250,IF($O17=8,240,IF($O17=9,200,IF($O17=10,200,IF($O17=11,200,IF($O17=12,200,IF($O17=13,200,IF($O17=14,200,IF($O17=15,200,IF($O17=16,200,IF($O17>16,"","")))))))))))))))))) | T17: =IF(O17="","",IF($F$7="NÃO","",IF(O17=1,400,IF(O17=2,340,IF(O17=3,300,IF(O17=4,280,IF(O17=5,270,IF(O17=6,260,IF(O17=7,250,IF(O17=8,240,IF(O17=9,200,IF(O17=10,200,IF(O17=11,200,IF(O17=12,200,IF(O17=13,200,IF(O17=14,200,IF(O17=15,200,IF(O17=16,200,IF(O17>16,"","")))))))))))))))))))
C18: =IF(B18="","",VLOOKUP(B18,LISTAS!$F$5:$I$1000,2,0)) | D18: =IF(B18="","",VLOOKUP(B18,LISTAS!$F$5:$I$204,4,0)) | L18: =IF(K18="","",LARGE(G9:G28,M18)) | M18: 10 | O18: =IF(R18<>"",_xlfn.RANK.EQ(R18,R9:R28,0),"") | P18: =IF(K18="","",VLOOKUP(L18,G9:J28,2,0)) | Q18: =IF(K18="","",VLOOKUP(P18,LISTAS!$F$5:$G$407,2,0)) | R18: =IF(K18="","",VLOOKUP(L18,G9:J28,4,0)) | S18: =IF($O18="","",IF($O18=1,400,IF($O18=2,340,IF($O18=3,300,IF($O18=4,280,IF($O18=5,270,IF($O18=6,260,IF($O18=7,250,IF($O18=8,240,IF($O18=9,200,IF($O18=10,200,IF($O18=11,200,IF($O18=12,200,IF($O18=13,200,IF($O18=14,200,IF($O18=15,200,IF($O18=16,200,IF($O18>16,"","")))))))))))))))))) | T18: =IF(O18="","",IF($F$7="NÃO","",IF(O18=1,400,IF(O18=2,340,IF(O18=3,300,IF(O18=4,280,IF(O18=5,270,IF(O18=6,260,IF(O18=7,250,IF(O18=8,240,IF(O18=9,200,IF(O18=10,200,IF(O18=11,200,IF(O18=12,200,IF(O18=13,200,IF(O18=14,200,IF(O18=15,200,IF(O18=16,200,IF(O18>16,"","")))))))))))))))))))
C19: =IF(B19="","",VLOOKUP(B19,LISTAS!$F$5:$I$1000,2,0)) | D19: =IF(B19="","",VLOOKUP(B19,LISTAS!$F$5:$I$204,4,0)) | L19: =IF(K19="","",LARGE(G9:G28,M19)) | M19: 11 | O19: =IF(R19<>"",_xlfn.RANK.EQ(R19,R9:R28,0),"") | P19: =IF(K19="","",VLOOKUP(L19,G9:J28,2,0)) | Q19: =IF(K19="","",VLOOKUP(P19,LISTAS!$F$5:$G$407,2,0)) | R19: =IF(K19="","",VLOOKUP(L19,G9:J28,4,0)) | S19: =IF($O19="","",IF($O19=1,400,IF($O19=2,340,IF($O19=3,300,IF($O19=4,280,IF($O19=5,270,IF($O19=6,260,IF($O19=7,250,IF($O19=8,240,IF($O19=9,200,IF($O19=10,200,IF($O19=11,200,IF($O19=12,200,IF($O19=13,200,IF($O19=14,200,IF($O19=15,200,IF($O19=16,200,IF($O19>16,"","")))))))))))))))))) | T19: =IF(O19="","",IF($F$7="NÃO","",IF(O19=1,400,IF(O19=2,340,IF(O19=3,300,IF(O19=4,280,IF(O19=5,270,IF(O19=6,260,IF(O19=7,250,IF(O19=8,240,IF(O19=9,200,IF(O19=10,200,IF(O19=11,200,IF(O19=12,200,IF(O19=13,200,IF(O19=14,200,IF(O19=15,200,IF(O19=16,200,IF(O19>16,"","")))))))))))))))))))
C20: =IF(B20="","",VLOOKUP(B20,LISTAS!$F$5:$I$1000,2,0)) | D20: =IF(B20="","",VLOOKUP(B20,LISTAS!$F$5:$I$204,4,0)) | L20: =IF(K20="","",LARGE(G9:G28,M20)) | M20: 12 | O20: =IF(R20<>"",_xlfn.RANK.EQ(R20,R9:R28,0),"") | P20: =IF(K20="","",VLOOKUP(L20,G9:J28,2,0)) | Q20: =IF(K20="","",VLOOKUP(P20,LISTAS!$F$5:$G$407,2,0)) | R20: =IF(K20="","",VLOOKUP(L20,G9:J28,4,0)) | S20: =IF($O20="","",IF($O20=1,400,IF($O20=2,340,IF($O20=3,300,IF($O20=4,280,IF($O20=5,270,IF($O20=6,260,IF($O20=7,250,IF($O20=8,240,IF($O20=9,200,IF($O20=10,200,IF($O20=11,200,IF($O20=12,200,IF($O20=13,200,IF($O20=14,200,IF($O20=15,200,IF($O20=16,200,IF($O20>16,"","")))))))))))))))))) | T20: =IF(O20="","",IF($F$7="NÃO","",IF(O20=1,400,IF(O20=2,340,IF(O20=3,300,IF(O20=4,280,IF(O20=5,270,IF(O20=6,260,IF(O20=7,250,IF(O20=8,240,IF(O20=9,200,IF(O20=10,200,IF(O20=11,200,IF(O20=12,200,IF(O20=13,200,IF(O20=14,200,IF(O20=15,200,IF(O20=16,200,IF(O20>16,"","")))))))))))))))))))
C21: =IF(B21="","",VLOOKUP(B21,LISTAS!$F$5:$I$1000,2,0)) | D21: =IF(B21="","",VLOOKUP(B21,LISTAS!$F$5:$I$204,4,0)) | L21: =IF(K21="","",LARGE(G9:G28,M21)) | M21: 13 | O21: =IF(R21<>"",_xlfn.RANK.EQ(R21,R9:R28,0),"") | P21: =IF(K21="","",VLOOKUP(L21,G9:J28,2,0)) | Q21: =IF(K21="","",VLOOKUP(P21,LISTAS!$F$5:$G$407,2,0)) | R21: =IF(K21="","",VLOOKUP(L21,G9:J28,4,0)) | S21: =IF($O21="","",IF($O21=1,400,IF($O21=2,340,IF($O21=3,300,IF($O21=4,280,IF($O21=5,270,IF($O21=6,260,IF($O21=7,250,IF($O21=8,240,IF($O21=9,200,IF($O21=10,200,IF($O21=11,200,IF($O21=12,200,IF($O21=13,200,IF($O21=14,200,IF($O21=15,200,IF($O21=16,200,IF($O21>16,"","")))))))))))))))))) | T21: =IF(O21="","",IF($F$7="NÃO","",IF(O21=1,400,IF(O21=2,340,IF(O21=3,300,IF(O21=4,280,IF(O21=5,270,IF(O21=6,260,IF(O21=7,250,IF(O21=8,240,IF(O21=9,200,IF(O21=10,200,IF(O21=11,200,IF(O21=12,200,IF(O21=13,200,IF(O21=14,200,IF(O21=15,200,IF(O21=16,200,IF(O21>16,"","")))))))))))))))))))
C22: =IF(B22="","",VLOOKUP(B22,LISTAS!$F$5:$I$1000,2,0)) | D22: =IF(B22="","",VLOOKUP(B22,LISTAS!$F$5:$I$204,4,0)) | L22: =IF(K22="","",LARGE(G9:G28,M22)) | M22: 14 | O22: =IF(R22<>"",_xlfn.RANK.EQ(R22,R9:R28,0),"") | P22: =IF(K22="","",VLOOKUP(L22,G9:J28,2,0)) | Q22: =IF(K22="","",VLOOKUP(P22,LISTAS!$F$5:$G$407,2,0)) | R22: =IF(K22="","",VLOOKUP(L22,G9:J28,4,0)) | S22: =IF($O22="","",IF($O22=1,400,IF($O22=2,340,IF($O22=3,300,IF($O22=4,280,IF($O22=5,270,IF($O22=6,260,IF($O22=7,250,IF($O22=8,240,IF($O22=9,200,IF($O22=10,200,IF($O22=11,200,IF($O22=12,200,IF($O22=13,200,IF($O22=14,200,IF($O22=15,200,IF($O22=16,200,IF($O22>16,"","")))))))))))))))))) | T22: =IF(O22="","",IF($F$7="NÃO","",IF(O22=1,400,IF(O22=2,340,IF(O22=3,300,IF(O22=4,280,IF(O22=5,270,IF(O22=6,260,IF(O22=7,250,IF(O22=8,240,IF(O22=9,200,IF(O22=10,200,IF(O22=11,200,IF(O22=12,200,IF(O22=13,200,IF(O22=14,200,IF(O22=15,200,IF(O22=16,200,IF(O22>16,"","")))))))))))))))))))
C23: =IF(B23="","",VLOOKUP(B23,LISTAS!$F$5:$I$1000,2,0)) | D23: =IF(B23="","",VLOOKUP(B23,LISTAS!$F$5:$I$204,4,0)) | L23: =IF(K23="","",LARGE(G9:G28,M23)) | M23: 15 | O23: =IF(R23<>"",_xlfn.RANK.EQ(R23,R9:R28,0),"") | P23: =IF(K23="","",VLOOKUP(L23,G9:J28,2,0)) | Q23: =IF(K23="","",VLOOKUP(P23,LISTAS!$F$5:$G$407,2,0)) | R23: =IF(K23="","",VLOOKUP(L23,G9:J28,4,0)) | S23: =IF($O23="","",IF($O23=1,400,IF($O23=2,340,IF($O23=3,300,IF($O23=4,280,IF($O23=5,270,IF($O23=6,260,IF($O23=7,250,IF($O23=8,240,IF($O23=9,200,IF($O23=10,200,IF($O23=11,200,IF($O23=12,200,IF($O23=13,200,IF($O23=14,200,IF($O23=15,200,IF($O23=16,200,IF($O23>16,"","")))))))))))))))))) | T23: =IF(O23="","",IF($F$7="NÃO","",IF(O23=1,400,IF(O23=2,340,IF(O23=3,300,IF(O23=4,280,IF(O23=5,270,IF(O23=6,260,IF(O23=7,250,IF(O23=8,240,IF(O23=9,200,IF(O23=10,200,IF(O23=11,200,IF(O23=12,200,IF(O23=13,200,IF(O23=14,200,IF(O23=15,200,IF(O23=16,200,IF(O23>16,"","")))))))))))))))))))
C24: =IF(B24="","",VLOOKUP(B24,LISTAS!$F$5:$I$1000,2,0)) | D24: =IF(B24="","",VLOOKUP(B24,LISTAS!$F$5:$I$204,4,0)) | L24: =IF(K24="","",LARGE(G9:G28,M24)) | M24: 16 | O24: =IF(R24<>"",_xlfn.RANK.EQ(R24,R9:R28,0),"") | P24: =IF(K24="","",VLOOKUP(L24,G9:J28,2,0)) | Q24: =IF(K24="","",VLOOKUP(P24,LISTAS!$F$5:$G$407,2,0)) | R24: =IF(K24="","",VLOOKUP(L24,G9:J28,4,0)) | S24: =IF($O24="","",IF($O24=1,400,IF($O24=2,340,IF($O24=3,300,IF($O24=4,280,IF($O24=5,270,IF($O24=6,260,IF($O24=7,250,IF($O24=8,240,IF($O24=9,200,IF($O24=10,200,IF($O24=11,200,IF($O24=12,200,IF($O24=13,200,IF($O24=14,200,IF($O24=15,200,IF($O24=16,200,IF($O24>16,"","")))))))))))))))))) | T24: =IF(O24="","",IF($F$7="NÃO","",IF(O24=1,400,IF(O24=2,340,IF(O24=3,300,IF(O24=4,280,IF(O24=5,270,IF(O24=6,260,IF(O24=7,250,IF(O24=8,240,IF(O24=9,200,IF(O24=10,200,IF(O24=11,200,IF(O24=12,200,IF(O24=13,200,IF(O24=14,200,IF(O24=15,200,IF(O24=16,200,IF(O24>16,"","")))))))))))))))))))
C25: =IF(B25="","",VLOOKUP(B25,LISTAS!$F$5:$I$1000,2,0)) | D25: =IF(B25="","",VLOOKUP(B25,LISTAS!$F$5:$I$204,4,0)) | G25: =IF(E25="","",E25+(ROW(E25)/10000)) | H25: =IF($K25="","",IF(B25="","",B25)) | I25: =IF($K25="","",IF(C25="","",C25)) | J25: =IF($K25="","",E25) | K25: =G25 | L25: =IF(K25="","",LARGE(G9:G28,M25)) | M25: 17 | O25: =IF(R25<>"",_xlfn.RANK.EQ(R25,R9:R28,0),"") | P25: =IF(K25="","",VLOOKUP(L25,G9:J28,2,0)) | Q25: =IF(K25="","",VLOOKUP(P25,LISTAS!$F$5:$G$407,2,0)) | R25: =IF(K25="","",VLOOKUP(L25,G9:J28,4,0)) | S25: =IF($O25="","",IF($O25=1,400,IF($O25=2,340,IF($O25=3,300,IF($O25=4,280,IF($O25=5,270,IF($O25=6,260,IF($O25=7,250,IF($O25=8,240,IF($O25=9,200,IF($O25=10,200,IF($O25=11,200,IF($O25=12,200,IF($O25=13,200,IF($O25=14,200,IF($O25=15,200,IF($O25=16,200,IF($O25>16,"","")))))))))))))))))) | T25: =IF(O25="","",IF($F$7="NÃO","",IF(O25=1,400,IF(O25=2,340,IF(O25=3,300,IF(O25=4,280,IF(O25=5,270,IF(O25=6,260,IF(O25=7,250,IF(O25=8,240,IF(O25=9,200,IF(O25=10,200,IF(O25=11,200,IF(O25=12,200,IF(O25=13,200,IF(O25=14,200,IF(O25=15,200,IF(O25=16,200,IF(O25>16,"","")))))))))))))))))))
C26: =IF(B26="","",VLOOKUP(B26,LISTAS!$F$5:$I$1000,2,0)) | D26: =IF(B26="","",VLOOKUP(B26,LISTAS!$F$5:$I$204,4,0)) | G26: =IF(E26="","",E26+(ROW(E26)/10000)) | H26: =IF($K26="","",IF(B26="","",B26)) | I26: =IF($K26="","",IF(C26="","",C26)) | J26: =IF($K26="","",E26) | K26: =G26 | L26: =IF(K26="","",LARGE(G9:G28,M26)) | M26: 18 | O26: =IF(R26<>"",_xlfn.RANK.EQ(R26,R9:R28,0),"") | P26: =IF(K26="","",VLOOKUP(L26,G9:J28,2,0)) | Q26: =IF(K26="","",VLOOKUP(P26,LISTAS!$F$5:$G$407,2,0)) | R26: =IF(K26="","",VLOOKUP(L26,G9:J28,4,0)) | S26: =IF($O26="","",IF($O26=1,400,IF($O26=2,340,IF($O26=3,300,IF($O26=4,280,IF($O26=5,270,IF($O26=6,260,IF($O26=7,250,IF($O26=8,240,IF($O26=9,200,IF($O26=10,200,IF($O26=11,200,IF($O26=12,200,IF($O26=13,200,IF($O26=14,200,IF($O26=15,200,IF($O26=16,200,IF($O26>16,"","")))))))))))))))))) | T26: =IF(O26="","",IF($F$7="NÃO","",IF(O26=1,400,IF(O26=2,340,IF(O26=3,300,IF(O26=4,280,IF(O26=5,270,IF(O26=6,260,IF(O26=7,250,IF(O26=8,240,IF(O26=9,200,IF(O26=10,200,IF(O26=11,200,IF(O26=12,200,IF(O26=13,200,IF(O26=14,200,IF(O26=15,200,IF(O26=16,200,IF(O26>16,"","")))))))))))))))))))
C27: =IF(B27="","",VLOOKUP(B27,LISTAS!$F$5:$I$1000,2,0)) | D27: =IF(B27="","",VLOOKUP(B27,LISTAS!$F$5:$I$204,4,0)) | L27: =IF(K27="","",LARGE(G9:G28,M27)) | M27: 19 | O27: =IF(R27<>"",_xlfn.RANK.EQ(R27,R9:R28,0),"") | P27: =IF(K27="","",VLOOKUP(L27,G9:J28,2,0)) | Q27: =IF(K27="","",VLOOKUP(P27,LISTAS!$F$5:$G$407,2,0)) | R27: =IF(K27="","",VLOOKUP(L27,G9:J28,4,0)) | S27: =IF($O27="","",IF($O27=1,400,IF($O27=2,340,IF($O27=3,300,IF($O27=4,280,IF($O27=5,270,IF($O27=6,260,IF($O27=7,250,IF($O27=8,240,IF($O27=9,200,IF($O27=10,200,IF($O27=11,200,IF($O27=12,200,IF($O27=13,200,IF($O27=14,200,IF($O27=15,200,IF($O27=16,200,IF($O27>16,"","")))))))))))))))))) | T27: =IF(O27="","",IF($F$7="NÃO","",IF(O27=1,400,IF(O27=2,340,IF(O27=3,300,IF(O27=4,280,IF(O27=5,270,IF(O27=6,260,IF(O27=7,250,IF(O27=8,240,IF(O27=9,200,IF(O27=10,200,IF(O27=11,200,IF(O27=12,200,IF(O27=13,200,IF(O27=14,200,IF(O27=15,200,IF(O27=16,200,IF(O27>16,"","")))))))))))))))))))
C28: =IF(B28="","",VLOOKUP(B28,LISTAS!$F$5:$I$1000,2,0)) | D28: =IF(B28="","",VLOOKUP(B28,LISTAS!$F$5:$I$204,4,0)) | G28: =IF(E28="","",E28+(ROW(E28)/10000)) | H28: =IF($K28="","",IF(B28="","",B28)) | I28: =IF($K28="","",IF(C28="","",C28)) | J28: =IF($K28="","",E28) | K28: =G28 | L28: =IF(K28="","",LARGE(G9:G28,M28)) | M28: 20 | O28: =IF(R28<>"",_xlfn.RANK.EQ(R28,R9:R28,0),"") | P28: =IF(K28="","",VLOOKUP(L28,G9:J28,2,0)) | Q28: =IF(K28="","",VLOOKUP(P28,LISTAS!$F$5:$G$407,2,0)) | R28: =IF(K28="","",VLOOKUP(L28,G9:J28,4,0)) | S28: =IF($O28="","",IF($O28=1,400,IF($O28=2,340,IF($O28=3,300,IF($O28=4,280,IF($O28=5,270,IF($O28=6,260,IF($O28=7,250,IF($O28=8,240,IF($O28=9,200,IF($O28=10,200,IF($O28=11,200,IF($O28=12,200,IF($O28=13,200,IF($O28=14,200,IF($O28=15,200,IF($O28=16,200,IF($O28>16,"","")))))))))))))))))) | T28: =IF(O28="","",IF($F$7="NÃO","",IF(O28=1,400,IF(O28=2,340,IF(O28=3,300,IF(O28=4,280,IF(O28=5,270,IF(O28=6,260,IF(O28=7,250,IF(O28=8,240,IF(O28=9,200,IF(O28=10,200,IF(O28=11,200,IF(O28=12,200,IF(O28=13,200,IF(O28=14,200,IF(O28=15,200,IF(O28=16,200,IF(O28>16,"","")))))))))))))))))))
B30: SUB 11 FEMININO | O30: CLASSIFICAÇÃO FINAL
B32: NOMES | C32: ESCOLA | D32: FILIAL / TURMA | E32: NOTA | O32: CLASSIFICAÇÃO | P32: NOMES | Q32: ESCOLA | R32: TEMPO | S32: PONTUAÇÃO ALUNO | T32: PONTUAÇÃO ESCOLA
B33: BEATRIZ PASTORE MOYANO | C33: =IF(B33="","",VLOOKUP(B33,LISTAS!$F$5:$I$1000,2,0)) -> COLÉGIO ARBOS SÃO CAETANO DO SUL | D33: =IF(B33="","",VLOOKUP(B33,LISTAS!$F$5:$I$204,4,0)) -> SUB 11 | E33: 7.5 | G33: =IF(E33="","",E33+(ROW(E33)/10000)) -> 7.5033 | H33: =IF($K33="","",IF(B33="","",B33)) -> BEATRIZ PASTORE MOYANO | I33: =IF($K33="","",IF(C33="","",C33)) -> COLÉGIO ARBOS SÃO CAETANO DO SUL | J33: =IF($K33="","",E33) -> 7.5 | K33: =G33 -> 7.5033 | L33: =IF(K33="","",LARGE(G33:G52,M33)) -> 8.1039 | M33: 1 | O33: =IF(R33<>"",_xlfn.RANK.EQ(R33,R33:R52,0),"") -> 1 | P33: =IF(K33="","",VLOOKUP(L33,G33:J52,2,0)) -> JULIANA RIZZUTO TOPAL | Q33: =IF(K33="","",VLOOKUP(P33,LISTAS!$F$5:$G$407,2,0)) -> GRUPO FÊNIX DE EDUCAÇÃO | R33: =IF(K33="","",VLOOKUP(L33,G33:J52,4,0)) -> 8.1 | S33: =IF($O33="","",IF($O33=1,400,IF($O33=2,340,IF($O33=3,300,IF($O33=4,280,IF($O33=5,270,IF($O33=6,260,IF($O33=7,250,IF($O33=8,240,IF($O33=9,200,IF($O33=10,200,IF($O33=11,200,IF($O33=12,200,IF($O33=13,200,IF($O33=14,200,IF($O33=15,200,IF($O33=16,200,IF($O33>16,"","")))))))))))))))))) -> 400 | T33: =IF(O33="","",IF($F$7="NÃO","",IF(O33=1,400,IF(O33=2,340,IF(O33=3,300,IF(O33=4,280,IF(O33=5,270,IF(O33=6,260,IF(O33=7,250,IF(O33=8,240,IF(O33=9,200,IF(O33=10,200,IF(O33=11,200,IF(O33=12,200,IF(O33=13,200,IF(O33=14,200,IF(O33=15,200,IF(O33=16,200,IF(O33>16,"",""))))))))))))))))))) -> 400
