Workbook

Sheet 11F
B5: SUB 12 FEMININO | S5: SUB 12 FEMININO | U5: PONTUAÇÃO ESCOLA: | V5: SIM
B6: S É R I E O U R O | S6: S É R I E O U R O
S7: CLASSIFICAÇÃO | U7: NOMES | V7: ESCOLA | W7: PONTUAÇÃO ALUNO | X7: PONTUAÇÃO ESCOLA
B8: 1 | C8: SOPHIA, ALICE, ANA, MANUELA | D8: 1 | E8: =IF(D8<>"",D8,"") -> 1 | F8: =IF(D8<>"",IF(C8="","",C8),"") -> SOPHIA, ALICE, ANA, MANUELA | G8: =IF(E8<>"",IF(E10<>"",SMALL(E8:F10,1),""),"") -> 0 | S8: =IF(U8<>"",1,"") -> 1 | T8: =IF(S8<>"","LUGAR","") -> LUGAR | U8: =IF(P35<>"",IF(P37<>"",IF(P35=P37,"",IF(P35>P37,O35,O37)),""),"") -> SOPHIA, ALICE, ANA, MANUELA | V8: =IF(U8="","",VLOOKUP(U8,LISTAS!$F$5:$G$204,2,0)) -> ARBOS SCS | W8: =IF(S8="","",IF(S8=1,400,IF(S8=2,340,IF(S8=3,300,IF(S8=4,280,IF(S8=5,270,IF(S8=6,260,IF(S8=7,250,IF(S8=8,240,IF(S8=9,200,IF(S8=10,200,IF(S8=11,200,IF(S8=12,200,IF(S8=13,200,IF(S8=14,200,IF(S8=15,200,IF(S8=16,200,IF(S8>16,"","")))))))))))))))))) -> 400 | X8: 200
C9: =IF(C8="","",VLOOKUP(C8,LISTAS!$F$5:$G$204,2,0)) -> ARBOS SCS | S9: =IF(U9<>"",1+COUNTIF(S8,"1"),"") -> 2 | T9: =IF(S9<>"","LUGAR","") -> LUGAR | U9: =IF(P35<>"",IF(P37<>"",IF(P35=P37,"",IF(P35<P37,O35,O37)),""),"") -> LORENA, ISADORA, VALENTINA, ESTHER | V9: =IF(U9="","",VLOOKUP(U9,LISTAS!$F$5:$G$204,2,0)) -> LICEU JARDIM | W9: =IF(S9="","",IF(S9=1,400,IF(S9=2,340,IF(S9=3,300,IF(S9=4,280,IF(S9=5,270,IF(S9=6,260,IF(S9=7,250,IF(S9=8,240,IF(S9=9,200,IF(S9=10,200,IF(S9=11,200,IF(S9=12,200,IF(S9=13,200,IF(S9=14,200,IF(S9=15,200,IF(S9=16,200,IF(S9>16,"","")))))))))))))))))) -> 340 | X9: 170
B10: 16 | D10: 0 | E10: =IF(D10<>"",D10,"") -> 0 | F10: =IF(D10<>"",IF(C10="","",C10),"") | G10: =VLOOKUP(G8,E8:F10,2,0) | S10: =IF(U10<>"",1+COUNTIF(S8:S9,"1")+COUNTIF(S8:S9,"2"),"") | T10: =IF(S10<>"","LUGAR","") | U10: =IF(U8<>"",IF(K20=U8,K22,IF(K22=U8,K20,IF(K51=U8,K53,IF(K53=U8,K51)))),"") | V10: =IF(U10="","",VLOOKUP(U10,LISTAS!$F$5:$G$204,2,0)) | W10: =IF(S10="","",IF(S10=1,400,IF(S10=2,340,IF(S10=3,300,IF(S10=4,280,IF(S10=5,270,IF(S10=6,260,IF(S10=7,250,IF(S10=8,240,IF(S10=9,200,IF(S10=10,200,IF(S10=11,200,IF(S10=12,200,IF(S10=13,200,IF(S10=14,200,IF(S10=15,200,IF(S10=16,200,IF(S10>16,"","")))))))))))))))))) | X10: =IF(S10="","",IF($V$5="NÃO","",IF(S10=1,400,IF(S10=2,340,IF(S10=3,300,IF(S10=4,280,IF(S10=5,270,IF(S10=6,260,IF(S10=7,250,IF(S10=8,240,IF(S10=9,200,IF(S10=10,200,IF(S10=11,200,IF(S10=12,200,IF(S10=13,200,IF(S10=14,200,IF(S10=15,200,IF(S10=16,200,IF(S10>16,"","")))))))))))))))))))
C11: =IF(C10="","",VLOOKUP(C10,LISTAS!$F$5:$G$204,2,0)) | S11: =IF(U11<>"",1+COUNTIF(S8:S10,"1")+COUNTIF(S8:S10,"2")+COUNTIF(S8:S10,"3"),"") | T11: =IF(S11<>"","LUGAR","") | U11: =IF(U9<>"",IF(K20=U9,K22,IF(K22=U9,K20,IF(K51=U9,K53,IF(K53=U9,K51)))),"") | V11: =IF(U11="","",VLOOKUP(U11,LISTAS!$F$5:$G$204,2,0)) | W11: =IF(S11="","",IF(S11=1,400,IF(S11=2,340,IF(S11=3,300,IF(S11=4,280,IF(S11=5,270,IF(S11=6,260,IF(S11=7,250,IF(S11=8,240,IF(S11=9,200,IF(S11=10,200,IF(S11=11,200,IF(S11=12,200,IF(S11=13,200,IF(S11=14,200,IF(S11=15,200,IF(S11=16,200,IF(S11>16,"","")))))))))))))))))) | X11: =IF(S11="","",IF($V$5="NÃO","",IF(S11=1,400,IF(S11=2,340,IF(S11=3,300,IF(S11=4,280,IF(S11=5,270,IF(S11=6,260,IF(S11=7,250,IF(S11=8,240,IF(S11=9,200,IF(S11=10,200,IF(S11=11,200,IF(S11=12,200,IF(S11=13,200,IF(S11=14,200,IF(S11=15,200,IF(S11=16,200,IF(S11>16,"","")))))))))))))))))))
G12: =IF(D8<>"",IF(D10<>"",IF(D8=D10,"",IF(D8>D10,C8,C10)),""),"") -> SOPHIA, ALICE, ANA, MANUELA | H12: 1 | I12: =IF(H12<>"",H12,"") -> 1 | J12: =IF(H12<>"",IF(G12="","",G12),"") -> SOPHIA, ALICE, ANA, MANUELA | K12: =IF(I12<>"",IF(I14<>"",SMALL(I12:J14,1),""),"") -> 0 | S12: =IF(U12<>"",1+COUNTIF(S8:S11,"1")+COUNTIF(S8:S11,"2")+COUNTIF(S8:S11,"3")+COUNTIF(S8:S11,"4"),"") | T12: =IF(S12<>"","LUGAR","") | U12: =IF(U8<>"",IF(G12=U8,G14,IF(G14=U8,G12,IF(G27=U8,G29,IF(G29=U8,G27,IF(G43=U8,G45,IF(G45=U8,G43,IF(G59=U8,G61,IF(G61=U8,G59)))))))),"") | V12: =IF(U12="","",VLOOKUP(U12,LISTAS!$F$5:$G$204,2,0)) | W12: =IF(S12="","",IF(S12=1,400,IF(S12=2,340,IF(S12=3,300,IF(S12=4,280,IF(S12=5,270,IF(S12=6,260,IF(S12=7,250,IF(S12=8,240,IF(S12=9,200,IF(S12=10,200,IF(S12=11,200,IF(S12=12,200,IF(S12=13,200,IF(S12=14,200,IF(S12=15,200,IF(S12=16,200,IF(S12>16,"","")))))))))))))))))) | X12: =IF(S12="","",IF($V$5="NÃO","",IF(S12=1,400,IF(S12=2,340,IF(S12=3,300,IF(S12=4,280,IF(S12=5,270,IF(S12=6,260,IF(S12=7,250,IF(S12=8,240,IF(S12=9,200,IF(S12=10,200,IF(S12=11,200,IF(S12=12,200,IF(S12=13,200,IF(S12=14,200,IF(S12=15,200,IF(S12=16,200,IF(S12>16,"","")))))))))))))))))))
G13: =IF(G12="","",VLOOKUP(G12,LISTAS!$F$5:$G$204,2,0)) -> ARBOS SCS | S13: =IF(U13<>"",1+COUNTIF(S8:S12,"1")+COUNTIF(S8:S12,"2")+COUNTIF(S8:S12,"3")+COUNTIF(S8:S12,"4")+COUNTIF(S8:S12,"5"),"") | T13: =IF(S13<>"","LUGAR","") | U13: =IF(U9<>"",IF(G12=U9,G14,IF(G14=U9,G12,IF(G27=U9,G29,IF(G29=U9,G27,IF(G43=U9,G45,IF(G45=U9,G43,IF(G59=U9,G61,IF(G61=U9,G59)))))))),"") | V13: =IF(U13="","",VLOOKUP(U13,LISTAS!$F$5:$G$204,2,0)) | W13: =IF(S13="","",IF(S13=1,400,IF(S13=2,340,IF(S13=3,300,IF(S13=4,280,IF(S13=5,270,IF(S13=6,260,IF(S13=7,250,IF(S13=8,240,IF(S13=9,200,IF(S13=10,200,IF(S13=11,200,IF(S13=12,200,IF(S13=13,200,IF(S13=14,200,IF(S13=15,200,IF(S13=16,200,IF(S13>16,"","")))))))))))))))))) | X13: =IF(S13="","",IF($V$5="NÃO","",IF(S13=1,400,IF(S13=2,340,IF(S13=3,300,IF(S13=4,280,IF(S13=5,270,IF(S13=6,260,IF(S13=7,250,IF(S13=8,240,IF(S13=9,200,IF(S13=10,200,IF(S13=11,200,IF(S13=12,200,IF(S13=13,200,IF(S13=14,200,IF(S13=15,200,IF(S13=16,200,IF(S13>16,"","")))))))))))))))))))
G14: =IF(D16<>"",IF(D18<>"",IF(D16=D18,"",IF(D16>D18,C16,C18)),""),"") | H14: 0 | I14: =IF(H14<>"",H14,"") -> 0 | J14: =IF(H14<>"",IF(G14="","",G14),"") | K14: =VLOOKUP(K12,I12:J14,2,0) | S14: =IF(U14<>"",1+COUNTIF(S8:S13,"1")+COUNTIF(S8:S13,"2")+COUNTIF(S8:S13,"3")+COUNTIF(S8:S13,"4")+COUNTIF(S8:S13,"5")+COUNTIF(S8:S13,"6"),"") | T14: =IF(S14<>"","LUGAR","") | U14: =IF(U10<>"",IF(G12=U10,G14,IF(G14=U10,G12,IF(G27=U10,G29,IF(G29=U10,G27,IF(G43=U10,G45,IF(G45=U10,G43,IF(G59=U10,G61,IF(G61=U10,G59)))))))),"") | V14: =IF(U14="","",VLOOKUP(U14,LISTAS!$F$5:$G$204,2,0)) | W14: =IF(S14="","",IF(S14=1,400,IF(S14=2,340,IF(S14=3,300,IF(S14=4,280,IF(S14=5,270,IF(S14=6,260,IF(S14=7,250,IF(S14=8,240,IF(S14=9,200,IF(S14=10,200,IF(S14=11,200,IF(S14=12,200,IF(S14=13,200,IF(S14=14,200,IF(S14=15,200,IF(S14=16,200,IF(S14>16,"","")))))))))))))))))) | X14: =IF(S14="","",IF($V$5="NÃO","",IF(S14=1,400,IF(S14=2,340,IF(S14=3,300,IF(S14=4,280,IF(S14=5,270,IF(S14=6,260,IF(S14=7,250,IF(S14=8,240,IF(S14=9,200,IF(S14=10,200,IF(S14=11,200,IF(S14=12,200,IF(S14=13,200,IF(S14=14,200,IF(S14=15,200,IF(S14=16,200,IF(S14>16,"","")))))))))))))))))))
G15: =IF(G14="","",VLOOKUP(G14,LISTAS!$F$5:$G$204,2,0)) | S15: =IF(U15<>"",1+COUNTIF(S8:S14,"1")+COUNTIF(S8:S14,"2")+COUNTIF(S8:S14,"3")+COUNTIF(S8:S14,"4")+COUNTIF(S8:S14,"5")+COUNTIF(S8:S14,"6")+COUNTIF(S8:S14,"7"),"") | T15: =IF(S15<>"","LUGAR","") | U15: =IF(U11<>"",IF(G12=U11,G14,IF(G14=U11,G12,IF(G27=U11,G29,IF(G29=U11,G27,IF(G43=U11,G45,IF(G45=U11,G43,IF(G59=U11,G61,IF(G61=U11,G59)))))))),"") | V15: =IF(U15="","",VLOOKUP(U15,LISTAS!$F$5:$G$204,2,0)) | W15: =IF(S15="","",IF(S15=1,400,IF(S15=2,340,IF(S15=3,300,IF(S15=4,280,IF(S15=5,270,IF(S15=6,260,IF(S15=7,250,IF(S15=8,240,IF(S15=9,200,IF(S15=10,200,IF(S15=11,200,IF(S15=12,200,IF(S15=13,200,IF(S15=14,200,IF(S15=15,200,IF(S15=16,200,IF(S15>16,"","")))))))))))))))))) | X15: =IF(S15="","",IF($V$5="NÃO","",IF(S15=1,400,IF(S15=2,340,IF(S15=3,300,IF(S15=4,280,IF(S15=5,270,IF(S15=6,260,IF(S15=7,250,IF(S15=8,240,IF(S15=9,200,IF(S15=10,200,IF(S15=11,200,IF(S15=12,200,IF(S15=13,200,IF(S15=14,200,IF(S15=15,200,IF(S15=16,200,IF(S15>16,"","")))))))))))))))))))
B16: 7 | D16: 0 | E16: =IF(D16<>"",D16,"") -> 0 | F16: =IF(D16<>"",IF(C16="","",C16),"") | G16: =IF(E16<>"",IF(E18<>"",SMALL(E16:F18,1),""),"") -> 0 | S16: =IF(U16<>"",1+COUNTIF(S8:S15,"1")+COUNTIF(S8:S15,"2")+COUNTIF(S8:S15,"3")+COUNTIF(S8:S15,"4")+COUNTIF(S8:S15,"5")+COUNTIF(S8:S15,"6")+COUNTIF(S8:S15,"7")+COUNTIF(S8:S15,"8"),"") | T16: =IF(S16<>"","LUGAR","") | U16: =IF(U8<>"",IF(C8=U8,G10,IF(C10=U8,G10,IF(C16=U8,G18,IF(C18=U8,G18,IF(C23=U8,G25,IF(C25=U8,G25,IF(C31=U8,G33,IF(C33=U8,G33,IF(C39=U8,G41,IF(C41=U8,G41,IF(C47=U8,G49,IF(C49=U8,G49,IF(C55=U8,G57,IF(C57=U8,G57,IF(C63=U8,G65,IF(C65=U8,G65)))))))))))))))),"") | V16: =IF(U16="","",VLOOKUP(U16,LISTAS!$F$5:$G$204,2,0)) | W16: =IF(S16="","",IF(S16=1,400,IF(S16=2,340,IF(S16=3,300,IF(S16=4,280,IF(S16=5,270,IF(S16=6,260,IF(S16=7,250,IF(S16=8,240,IF(S16=9,200,IF(S16=10,200,IF(S16=11,200,IF(S16=12,200,IF(S16=13,200,IF(S16=14,200,IF(S16=15,200,IF(S16=16,200,IF(S16>16,"","")))))))))))))))))) | X16: =IF(S16="","",IF($V$5="NÃO","",IF(S16=1,400,IF(S16=2,340,IF(S16=3,300,IF(S16=4,280,IF(S16=5,270,IF(S16=6,260,IF(S16=7,250,IF(S16=8,240,IF(S16=9,200,IF(S16=10,200,IF(S16=11,200,IF(S16=12,200,IF(S16=13,200,IF(S16=14,200,IF(S16=15,200,IF(S16=16,200,IF(S16>16,"","")))))))))))))))))))
C17: =IF(C16="","",VLOOKUP(C16,LISTAS!$F$5:$G$204,2,0)) | S17: =IF(U17<>"",1+COUNTIF(S8:S16,"1")+COUNTIF(S8:S16,"2")+COUNTIF(S8:S16,"3")+COUNTIF(S8:S16,"4")+COUNTIF(S8:S16,"5")+COUNTIF(S8:S16,"6")+COUNTIF(S8:S16,"7")+COUNTIF(S8:S16,"8")+COUNTIF(S8:S16,"9"),"") | T17: =IF(S17<>"","LUGAR","") | U17: =IF(U9<>"",IF(C8=U9,G10,IF(C10=U9,G10,IF(C16=U9,G18,IF(C18=U9,G18,IF(C23=U9,G25,IF(C25=U9,G25,IF(C31=U9,G33,IF(C33=U9,G33,IF(C39=U9,G41,IF(C41=U9,G41,IF(C47=U9,G49,IF(C49=U9,G49,IF(C55=U9,G57,IF(C57=U9,G57,IF(C63=U9,G65,IF(C65=U9,G65)))))))))))))))),"") | V17: =IF(U17="","",VLOOKUP(U17,LISTAS!$F$5:$G$204,2,0)) | W17: =IF(S17="","",IF(S17=1,400,IF(S17=2,340,IF(S17=3,300,IF(S17=4,280,IF(S17=5,270,IF(S17=6,260,IF(S17=7,250,IF(S17=8,240,IF(S17=9,200,IF(S17=10,200,IF(S17=11,200,IF(S17=12,200,IF(S17=13,200,IF(S17=14,200,IF(S17=15,200,IF(S17=16,200,IF(S17>16,"","")))))))))))))))))) | X17: =IF(S17="","",IF($V$5="NÃO","",IF(S17=1,400,IF(S17=2,340,IF(S17=3,300,IF(S17=4,280,IF(S17=5,270,IF(S17=6,260,IF(S17=7,250,IF(S17=8,240,IF(S17=9,200,IF(S17=10,200,IF(S17=11,200,IF(S17=12,200,IF(S17=13,200,IF(S17=14,200,IF(S17=15,200,IF(S17=16,200,IF(S17>16,"","")))))))))))))))))))
B18: 9 | D18: 0 | E18: =IF(D18<>"",D18,"") -> 0 | F18: =IF(D18<>"",IF(C18="","",C18),"") | G18: =VLOOKUP(G16,E16:F18,2,0) | S18: =IF(U18<>"",1+COUNTIF(S8:S17,"1")+COUNTIF(S8:S17,"2")+COUNTIF(S8:S17,"3")+COUNTIF(S8:S17,"4")+COUNTIF(S8:S17,"5")+COUNTIF(S8:S17,"6")+COUNTIF(S8:S17,"7")+COUNTIF(S8:S17,"8")+COUNTIF(S8:S17,"9")+COUNTIF(S8:S17,"10"),"") | T18: =IF(S18<>"","LUGAR","") | U18: =IF(U10<>"",IF(C8=U10,G10,IF(C10=U10,G10,IF(C16=U10,G18,IF(C18=U10,G18,IF(C23=U10,G25,IF(C25=U10,G25,IF(C31=U10,G33,IF(C33=U10,G33,IF(C39=U10,G41,IF(C41=U10,G41,IF(C47=U10,G49,IF(C49=U10,G49,IF(C55=U10,G57,IF(C57=U10,G57,IF(C63=U10,G65,IF(C65=U10,G65)))))))))))))))),"") | V18: =IF(U18="","",VLOOKUP(U18,LISTAS!$F$5:$G$204,2,0)) | W18: =IF(S18="","",IF(S18=1,400,IF(S18=2,340,IF(S18=3,300,IF(S18=4,280,IF(S18=5,270,IF(S18=6,260,IF(S18=7,250,IF(S18=8,240,IF(S18=9,200,IF(S18=10,200,IF(S18=11,200,IF(S18=12,200,IF(S18=13,200,IF(S18=14,200,IF(S18=15,200,IF(S18=16,200,IF(S18>16,"","")))))))))))))))))) | X18: =IF(S18="","",IF($V$5="NÃO","",IF(S18=1,400,IF(S18=2,340,IF(S18=3,300,IF(S18=4,280,IF(S18=5,270,IF(S18=6,260,IF(S18=7,250,IF(S18=8,240,IF(S18=9,200,IF(S18=10,200,IF(S18=11,200,IF(S18=12,200,IF(S18=13,200,IF(S18=14,200,IF(S18=15,200,IF(S18=16,200,IF(S18>16,"","")))))))))))))))))))
C19: =IF(C18="","",VLOOKUP(C18,LISTAS!$F$5:$G$204,2,0)) | S19: =IF(U19<>"",1+COUNTIF(S8:S18,"1")+COUNTIF(S8:S18,"2")+COUNTIF(S8:S18,"3")+COUNTIF(S8:S18,"4")+COUNTIF(S8:S18,"5")+COUNTIF(S8:S18,"6")+COUNTIF(S8:S18,"7")+COUNTIF(S8:S18,"8")+COUNTIF(S8:S18,"9")+COUNTIF(S8:S18,"10")+COUNTIF(S8:S18,"11"),"") | T19: =IF(S19<>"","LUGAR","") | U19: =IF(U11<>"",IF(C8=U11,G10,IF(C10=U11,G10,IF(C16=U11,G18,IF(C18=U11,G18,IF(C23=U11,G25,IF(C25=U11,G25,IF(C31=U11,G33,IF(C33=U11,G33,IF(C39=U11,G41,IF(C41=U11,G41,IF(C47=U11,G49,IF(C49=U11,G49,IF(C55=U11,G57,IF(C57=U11,G57,IF(C63=U11,G65,IF(C65=U11,G65)))))))))))))))),"") | V19: =IF(U19="","",VLOOKUP(U19,LISTAS!$F$5:$G$204,2,0)) | W19: =IF(S19="","",IF(S19=1,400,IF(S19=2,340,IF(S19=3,300,IF(S19=4,280,IF(S19=5,270,IF(S19=6,260,IF(S19=7,250,IF(S19=8,240,IF(S19=9,200,IF(S19=10,200,IF(S19=11,200,IF(S19=12,200,IF(S19=13,200,IF(S19=14,200,IF(S19=15,200,IF(S19=16,200,IF(S19>16,"","")))))))))))))))))) | X19: =IF(S19="","",IF($V$5="NÃO","",IF(S19=1,400,IF(S19=2,340,IF(S19=3,300,IF(S19=4,280,IF(S19=5,270,IF(S19=6,260,IF(S19=7,250,IF(S19=8,240,IF(S19=9,200,IF(S19=10,200,IF(S19=11,200,IF(S19=12,200,IF(S19=13,200,IF(S19=14,200,IF(S19=15,200,IF(S19=16,200,IF(S19>16,"","")))))))))))))))))))
K20: =IF(H12<>"",IF(H14<>"",IF(H12=H14,"",IF(H12>H14,G12,G14)),""),"") -> SOPHIA, ALICE, ANA, MANUELA | L20: 1 | M20: =IF(L20<>"",L20,"") -> 1 | N20: =IF(L20<>"",IF(K20="","",K20),"") -> SOPHIA, ALICE, ANA, MANUELA | O20: =IF(M20<>"",IF(M22<>"",SMALL(M20:N22,1),""),"") -> 0 | S20: =IF(U20<>"",1+COUNTIF(S8:S19,"1")+COUNTIF(S8:S19,"2")+COUNTIF(S8:S19,"3")+COUNTIF(S8:S19,"4")+COUNTIF(S8:S19,"5")+COUNTIF(S8:S19,"6")+COUNTIF(S8:S19,"7")+COUNTIF(S8:S19,"8")+COUNTIF(S8:S19,"9")+COUNTIF(S8:S19,"10")+COUNTIF(S8:S19,"11")+COUNTIF(S8:S19,"12"),"") | T20: =IF(S20<>"","LUGAR","") | U20: =IF(U12<>"",IF(C8=U12,G10,IF(C10=U12,G10,IF(C16=U12,G18,IF(C18=U12,G18,IF(C23=U12,G25,IF(C25=U12,G25,IF(C31=U12,G33,IF(C33=U12,G33,IF(C39=U12,G41,IF(C41=U12,G41,IF(C47=U12,G49,IF(C49=U12,G49,IF(C55=U12,G57,IF(C57=U12,G57,IF(C63=U12,G65,IF(C65=U12,G65)))))))))))))))),"") | V20: =IF(U20="","",VLOOKUP(U20,LISTAS!$F$5:$G$204,2,0)) | W20: =IF(S20="","",IF(S20=1,400,IF(S20=2,340,IF(S20=3,300,IF(S20=4,280,IF(S20=5,270,IF(S20=6,260,IF(S20=7,250,IF(S20=8,240,IF(S20=9,200,IF(S20=10,200,IF(S20=11,200,IF(S20=12,200,IF(S20=13,200,IF(S20=14,200,IF(S20=15,200,IF(S20=16,200,IF(S20>16,"","")))))))))))))))))) | X20: =IF(S20="","",IF($V$5="NÃO","",IF(S20=1,400,IF(S20=2,340,IF(S20=3,300,IF(S20=4,280,IF(S20=5,270,IF(S20=6,260,IF(S20=7,250,IF(S20=8,240,IF(S20=9,200,IF(S20=10,200,IF(S20=11,200,IF(S20=12,200,IF(S20=13,200,IF(S20=14,200,IF(S20=15,200,IF(S20=16,200,IF(S20>16,"","")))))))))))))))))))
K21: =IF(K20="","",VLOOKUP(K20,LISTAS!$F$5:$G$204,2,0)) -> ARBOS SCS | S21: =IF(U21<>"",1+COUNTIF(S8:S20,"1")+COUNTIF(S8:S20,"2")+COUNTIF(S8:S20,"3")+COUNTIF(S8:S20,"4")+COUNTIF(S8:S20,"5")+COUNTIF(S8:S20,"6")+COUNTIF(S8:S20,"7")+COUNTIF(S8:S20,"8")+COUNTIF(S8:S20,"9")+COUNTIF(S8:S20,"10")+COUNTIF(S8:S20,"11")+COUNTIF(S8:S20,"12")+COUNTIF(S8:S20,"13"),"") | T21: =IF(S21<>"","LUGAR","") | U21: =IF(U13<>"",IF(C8=U13,G10,IF(C10=U13,G10,IF(C16=U13,G18,IF(C18=U13,G18,IF(C23=U13,G25,IF(C25=U13,G25,IF(C31=U13,G33,IF(C33=U13,G33,IF(C39=U13,G41,IF(C41=U13,G41,IF(C47=U13,G49,IF(C49=U13,G49,IF(C55=U13,G57,IF(C57=U13,G57,IF(C63=U13,G65,IF(C65=U13,G65)))))))))))))))),"") | V21: =IF(U21="","",VLOOKUP(U21,LISTAS!$F$5:$G$204,2,0)) | W21: =IF(S21="","",IF(S21=1,400,IF(S21=2,340,IF(S21=3,300,IF(S21=4,280,IF(S21=5,270,IF(S21=6,260,IF(S21=7,250,IF(S21=8,240,IF(S21=9,200,IF(S21=10,200,IF(S21=11,200,IF(S21=12,200,IF(S21=13,200,IF(S21=14,200,IF(S21=15,200,IF(S21=16,200,IF(S21>16,"","")))))))))))))))))) | X21: =IF(S21="","",IF($V$5="NÃO","",IF(S21=1,400,IF(S21=2,340,IF(S21=3,300,IF(S21=4,280,IF(S21=5,270,IF(S21=6,260,IF(S21=7,250,IF(S21=8,240,IF(S21=9,200,IF(S21=10,200,IF(S21=11,200,IF(S21=12,200,IF(S21=13,200,IF(S21=14,200,IF(S21=15,200,IF(S21=16,200,IF(S21>16,"","")))))))))))))))))))
K22: =IF(H27<>"",IF(H29<>"",IF(H27=H29,"",IF(H27>H29,G27,G29)),""),"") | L22: 0 | M22: =IF(L22<>"",L22,"") -> 0 | N22: =IF(L22<>"",IF(K22="","",K22),"") | O22: =VLOOKUP(O20,M20:N22,2,0) | S22: =IF(U22<>"",1+COUNTIF(S8:S21,"1")+COUNTIF(S8:S21,"2")+COUNTIF(S8:S21,"3")+COUNTIF(S8:S21,"4")+COUNTIF(S8:S21,"5")+COUNTIF(S8:S21,"6")+COUNTIF(S8:S21,"7")+COUNTIF(S8:S21,"8")+COUNTIF(S8:S21,"9")+COUNTIF(S8:S21,"10")+COUNTIF(S8:S21,"11")+COUNTIF(S8:S21,"12")+COUNTIF(S8:S21,"13")+COUNTIF(S8:S21,"14"),"") | T22: =IF(S22<>"","LUGAR","") | U22: =IF(U14<>"",IF(C8=U14,G10,IF(C10=U14,G10,IF(C16=U14,G18,IF(C18=U14,G18,IF(C23=U14,G25,IF(C25=U14,G25,IF(C31=U14,G33,IF(C33=U14,G33,IF(C39=U14,G41,IF(C41=U14,G41,IF(C47=U14,G49,IF(C49=U14,G49,IF(C55=U14,G57,IF(C57=U14,G57,IF(C63=U14,G65,IF(C65=U14,G65)))))))))))))))),"") | V22: =IF(U22="","",VLOOKUP(U22,LISTAS!$F$5:$G$204,2,0)) | W22: =IF(S22="","",IF(S22=1,400,IF(S22=2,340,IF(S22=3,300,IF(S22=4,280,IF(S22=5,270,IF(S22=6,260,IF(S22=7,250,IF(S22=8,240,IF(S22=9,200,IF(S22=10,200,IF(S22=11,200,IF(S22=12,200,IF(S22=13,200,IF(S22=14,200,IF(S22=15,200,IF(S22=16,200,IF(S22>16,"","")))))))))))))))))) | X22: =IF(S22="","",IF($V$5="NÃO","",IF(S22=1,400,IF(S22=2,340,IF(S22=3,300,IF(S22=4,280,IF(S22=5,270,IF(S22=6,260,IF(S22=7,250,IF(S22=8,240,IF(S22=9,200,IF(S22=10,200,IF(S22=11,200,IF(S22=12,200,IF(S22=13,200,IF(S22=14,200,IF(S22=15,200,IF(S22=16,200,IF(S22>16,"","")))))))))))))))))))
B23: 6 | D23: 0 | E23: =IF(D23<>"",D23,"") -> 0 | F23: =IF(D23<>"",IF(C23="","",C23),"") | G23: =IF(E23<>"",IF(E25<>"",SMALL(E23:F25,1),""),"") -> 0 | K23: =IF(K22="","",VLOOKUP(K22,LISTAS!$F$5:$G$204,2,0)) | S23: =IF(U23<>"",1+COUNTIF(S8:S22,"1")+COUNTIF(S8:S22,"2")+COUNTIF(S8:S22,"3")+COUNTIF(S8:S22,"4")+COUNTIF(S8:S22,"5")+COUNTIF(S8:S22,"6")+COUNTIF(S8:S22,"7")+COUNTIF(S8:S22,"8")+COUNTIF(S8:S22,"9")+COUNTIF(S8:S22,"10")+COUNTIF(S8:S22,"11")+COUNTIF(S8:S22,"12")+COUNTIF(S8:S22,"13")+COUNTIF(S8:S22,"14")+COUNTIF(S8:S22,"15"),"") | T23: =IF(S23<>"","LUGAR","") | U23: =IF(U15<>"",IF(C8=U15,G10,IF(C10=U15,G10,IF(C16=U15,G18,IF(C18=U15,G18,IF(C23=U15,G25,IF(C25=U15,G25,IF(C31=U15,G33,IF(C33=U15,G33,IF(C39=U15,G41,IF(C41=U15,G41,IF(C47=U15,G49,IF(C49=U15,G49,IF(C55=U15,G57,IF(C57=U15,G57,IF(C63=U15,G65,IF(C65=U15,G65)))))))))))))))),"") | V23: =IF(U23="","",VLOOKUP(U23,LISTAS!$F$5:$G$204,2,0)) | W23: =IF(S23="","",IF(S23=1,400,IF(S23=2,340,IF(S23=3,300,IF(S23=4,280,IF(S23=5,270,IF(S23=6,260,IF(S23=7,250,IF(S23=8,240,IF(S23=9,200,IF(S23=10,200,IF(S23=11,200,IF(S23=12,200,IF(S23=13,200,IF(S23=14,200,IF(S23=15,200,IF(S23=16,200,IF(S23>16,"","")))))))))))))))))) | X23: =IF(S23="","",IF($V$5="NÃO","",IF(S23=1,400,IF(S23=2,340,IF(S23=3,300,IF(S23=4,280,IF(S23=5,270,IF(S23=6,260,IF(S23=7,250,IF(S23=8,240,IF(S23=9,200,IF(S23=10,200,IF(S23=11,200,IF(S23=12,200,IF(S23=13,200,IF(S23=14,200,IF(S23=15,200,IF(S23=16,200,IF(S23>16,"","")))))))))))))))))))
C24: =IF(C23="","",VLOOKUP(C23,LISTAS!$F$5:$G$204,2,0))
B25: 11 | D25: 0 | E25: =IF(D25<>"",D25,"") -> 0 | F25: =IF(D25<>"",IF(C25="","",C25),"") | G25: =VLOOKUP(G23,E23:F25,2,0)
C26: =IF(C25="","",VLOOKUP(C25,LISTAS!$F$5:$G$204,2,0))
G27: =IF(D23<>"",IF(D25<>"",IF(D23=D25,"",IF(D23>D25,C23,C25)),""),"") | H27: 0 | I27: =IF(H27<>"",H27,"") -> 0 | J27: =IF(H27<>"",IF(G27="","",G27),"") | K27: =IF(I27<>"",IF(I29<>"",SMALL(I27:J29,1),""),"") -> 0
G28: =IF(G27="","",VLOOKUP(G27,LISTAS!$F$5:$G$204,2,0))
G29: =IF(D31<>"",IF(D33<>"",IF(D31=D33,"",IF(D31>D33,C31,C33)),""),"") | H29: 1 | I29: =IF(H29<>"",H29,"") -> 1 | J29: =IF(H29<>"",IF(G29="","",G29),"") | K29: =VLOOKUP(K27,I27:J29,2,0)
G30: =IF(G29="","",VLOOKUP(G29,LISTAS!$F$5:$G$204,2,0))
B31: 4 | D31: 0 | E31: =IF(D31<>"",D31,"") -> 0 | F31: =IF(D31<>"",IF(C31="","",C31),"") | G31: =IF(E31<>"",IF(E33<>"",SMALL(E31:F33,1),""),"") -> 0
C32: =IF(C31="","",VLOOKUP(C31,LISTAS!$F$5:$G$204,2,0))
B33: 13 | D33: 0 | E33: =IF(D33<>"",D33,"") -> 0 | F33: =IF(D33<>"",IF(C33="","",C33),"") | G33: =VLOOKUP(G31,E31:F33,2,0)
C34: =IF(C33="","",VLOOKUP(C33,LISTAS!$F$5:$G$204,2,0))
O35: =IF(L20<>"",IF(L22<>"",IF(L20=L22,"",IF(L20>L22,K20,K22)),""),"") -> SOPHIA, ALICE, ANA, MANUELA | P35: 1 | V35: =IF(U35="","",VLOOKUP(U35,LISTAS!$F$5:$G$204,2,0)) | W35: =IF(S35="","",IF(S35=1,400,IF(S35=2,340,IF(S35=3,300,IF(S35=4,280,IF(S35=5,270,IF(S35=6,260,IF(S35=7,250,IF(S35=8,240,IF(S35=9,200,IF(S35=10,200,IF(S35=11,200,IF(S35=12,200,IF(S35=13,200,IF(S35=14,200,IF(S35=15,200,IF(S35=16,200,IF(S35>16,"","")))))))))))))))))) | X35: =IF(S35="","",IF($V$5="NÃO","",IF(S35=1,400,IF(S35=2,340,IF(S35=3,300,IF(S35=4,280,IF(S35=5,270,IF(S35=6,260,IF(S35=7,250,IF(S35=8,240,IF(S35=9,200,IF(S35=10,200,IF(S35=11,200,IF(S35=12,200,IF(S35=13,200,IF(S35=14,200,IF(S35=15,200,IF(S35=16,200,IF(S35>16,"","")))))))))))))))))))
O36: =IF(O35="","",VLOOKUP(O35,LISTAS!$F$5:$G$204,2,0)) -> ARBOS SCS
O37: =IF(L51<>"",IF(L53<>"",IF(L51=L53,"",IF(L51>L53,K51,K53)),""),"") -> LORENA, ISADORA, VALENTINA, ESTHER | P37: 0 | V37: =IF(U37="","",VLOOKUP(U37,LISTAS!$F$5:$G$204,2,0)) | W37: =IF(S37="","",IF(S37=1,400,IF(S37=2,340,IF(S37=3,300,IF(S37=4,280,IF(S37=5,270,IF(S37=6,260,IF(S37=7,250,IF(S37=8,240,IF(S37=9,200,IF(S37=10,200,IF(S37=11,200,IF(S37=12,200,IF(S37=13,200,IF(S37=14,200,IF(S37=15,200,IF(S37=16,200,IF(S37>16,"","")))))))))))))))))) | X37: =IF(S37="","",IF($V$5="NÃO","",IF(S37=1,400,IF(S37=2,340,IF(S37=3,300,IF(S37=4,280,IF(S37=5,270,IF(S37=6,260,IF(S37=7,250,IF(S37=8,240,IF(S37=9,200,IF(S37=10,200,IF(S37=11,200,IF(S37=12,200,IF(S37=13,200,IF(S37=14,200,IF(S37=15,200,IF(S37=16,200,IF(S37>16,"","")))))))))))))))))))
O38: =IF(O37="","",VLOOKUP(O37,LISTAS!$F$5:$G$204,2,0)) -> LICEU JARDIM
B39: 3 | D39: 0 | E39: =IF(D39<>"",D39,"") -> 0 | F39: =IF(D39<>"",IF(C39="","",C39),"") | G39: =IF(E39<>"",IF(E41<>"",SMALL(E39:F41,1),""),"") -> 0 | V39: =IF(U39="","",VLOOKUP(U39,LISTAS!$F$5:$G$204,2,0)) | W39: =IF(S39="","",IF(S39=1,400,IF(S39=2,340,IF(S39=3,300,IF(S39=4,280,IF(S39=5,270,IF(S39=6,260,IF(S39=7,250,IF(S39=8,240,IF(S39=9,200,IF(S39=10,200,IF(S39=11,200,IF(S39=12,200,IF(S39=13,200,IF(S39=14,200,IF(S39=15,200,IF(S39=16,200,IF(S39>16,"","")))))))))))))))))) | X39: =IF(S39="","",IF($V$5="NÃO","",IF(S39=1,400,IF(S39=2,340,IF(S39=3,300,IF(S39=4,280,IF(S39=5,270,IF(S39=6,260,IF(S39=7,250,IF(S39=8,240,IF(S39=9,200,IF(S39=10,200,IF(S39=11,200,IF(S39=12,200,IF(S39=13,200,IF(S39=14,200,IF(S39=15,200,IF(S39=16,200,IF(S39>16,"","")))))))))))))))))))
C40: =IF(C39="","",VLOOKUP(C39,LISTAS!$F$5:$G$204,2,0))
B41: 14 | D41: 0 | E41: =IF(D41<>"",D41,"") -> 0 | F41: =IF(D41<>"",IF(C41="","",C41),"") | G41: =VLOOKUP(G39,E39:F41,2,0) | V41: =IF(U41="","",VLOOKUP(U41,LISTAS!$F$5:$G$204,2,0)) | W41: =IF(S41="","",IF(S41=1,400,IF(S41=2,340,IF(S41=3,300,IF(S41=4,280,IF(S41=5,270,IF(S41=6,260,IF(S41=7,250,IF(S41=8,240,IF(S41=9,200,IF(S41=10,200,IF(S41=11,200,IF(S41=12,200,IF(S41=13,200,IF(S41=14,200,IF(S41=15,200,IF(S41=16,200,IF(S41>16,"","")))))))))))))))))) | X41: =IF(S41="","",IF($V$5="NÃO","",IF(S41=1,400,IF(S41=2,340,IF(S41=3,300,IF(S41=4,280,IF(S41=5,270,IF(S41=6,260,IF(S41=7,250,IF(S41=8,240,IF(S41=9,200,IF(S41=10,200,IF(S41=11,200,IF(S41=12,200,IF(S41=13,200,IF(S41=14,200,IF(S41=15,200,IF(S41=16,200,IF(S41>16,"","")))))))))))))))))))
C42: =IF(C41="","",VLOOKUP(C41,LISTAS!$F$5:$G$204,2,0))
G43: =IF(D39<>"",IF(D41<>"",IF(D39=D41,"",IF(D39>D41,C39,C41)),""),"") | H43: 1 | I43: =IF(H43<>"",H43,"") -> 1 | J43: =IF(H43<>"",IF(G43="","",G43),"") | K43: =IF(I43<>"",IF(I45<>"",SMALL(I43:J45,1),""),"") -> 0 | V43: =IF(U43="","",VLOOKUP(U43,LISTAS!$F$5:$G$204,2,0)) | W43: =IF(S43="","",IF(S43=1,400,IF(S43=2,340,IF(S43=3,300,IF(S43=4,280,IF(S43=5,270,IF(S43=6,260,IF(S43=7,250,IF(S43=8,240,IF(S43=9,200,IF(S43=10,200,IF(S43=11,200,IF(S43=12,200,IF(S43=13,200,IF(S43=14,200,IF(S43=15,200,IF(S43=16,200,IF(S43>16,"","")))))))))))))))))) | X43: =IF(S43="","",IF($V$5="NÃO","",IF(S43=1,400,IF(S43=2,340,IF(S43=3,300,IF(S43=4,280,IF(S43=5,270,IF(S43=6,260,IF(S43=7,250,IF(S43=8,240,IF(S43=9,200,IF(S43=10,200,IF(S43=11,200,IF(S43=12,200,IF(S43=13,200,IF(S43=14,200,IF(S43=15,200,IF(S43=16,200,IF(S43>16,"","")))))))))))))))))))
G44: =IF(G43="","",VLOOKUP(G43,LISTAS!$F$5:$G$204,2,0))
G45: =IF(D47<>"",IF(D49<>"",IF(D47=D49,"",IF(D47>D49,C47,C49)),""),"") | H45: 0 | I45: =IF(H45<>"",H45,"") -> 0 | J45: =IF(H45<>"",IF(G45="","",G45),"") | K45: =VLOOKUP(K43,I43:J45,2,0) | V45: =IF(U45="","",VLOOKUP(U45,LISTAS!$F$5:$G$204,2,0)) | W45: =IF(S45="","",IF(S45=1,400,IF(S45=2,340,IF(S45=3,300,IF(S45=4,280,IF(S45=5,270,IF(S45=6,260,IF(S45=7,250,IF(S45=8,240,IF(S45=9,200,IF(S45=10,200,IF(S45=11,200,IF(S45=12,200,IF(S45=13,200,IF(S45=14,200,IF(S45=15,200,IF(S45=16,200,IF(S45>16,"","")))))))))))))))))) | X45: =IF(S45="","",IF($V$5="NÃO","",IF(S45=1,400,IF(S45=2,340,IF(S45=3,300,IF(S45=4,280,IF(S45=5,270,IF(S45=6,260,IF(S45=7,250,IF(S45=8,240,IF(S45=9,200,IF(S45=10,200,IF(S45=11,200,IF(S45=12,200,IF(S45=13,200,IF(S45=14,200,IF(S45=15,200,IF(S45=16,200,IF(S45>16,"","")))))))))))))))))))
G46: =IF(G45="","",VLOOKUP(G45,LISTAS!$F$5:$G$204,2,0))
B47: 5 | D47: 0 | E47: =IF(D47<>"",D47,"") -> 0 | F47: =IF(D47<>"",IF(C47="","",C47),"") | G47: =IF(E47<>"",IF(E49<>"",SMALL(E47:F49,1),""),"") -> 0 | V47: =IF(U47="","",VLOOKUP(U47,LISTAS!$F$5:$G$204,2,0)) | W47: =IF(S47="","",IF(S47=1,400,IF(S47=2,340,IF(S47=3,300,IF(S47=4,280,IF(S47=5,270,IF(S47=6,260,IF(S47=7,250,IF(S47=8,240,IF(S47=9,200,IF(S47=10,200,IF(S47=11,200,IF(S47=12,200,IF(S47=13,200,IF(S47=14,200,IF(S47=15,200,IF(S47=16,200,IF(S47>16,"","")))))))))))))))))) | X47: =IF(S47="","",IF($V$5="NÃO","",IF(S47=1,400,IF(S47=2,340,IF(S47=3,300,IF(S47=4,280,IF(S47=5,270,IF(S47=6,260,IF(S47=7,250,IF(S47=8,240,IF(S47=9,200,IF(S47=10,200,IF(S47=11,200,IF(S47=12,200,IF(S47=13,200,IF(S47=14,200,IF(S47=15,200,IF(S47=16,200,IF(S47>16,"","")))))))))))))))))))
C48: =IF(C47="","",VLOOKUP(C47,LISTAS!$F$5:$G$204,2,0))
B49: 12 | D49: 0 | E49: =IF(D49<>"",D49,"") -> 0 | F49: =IF(D49<>"",IF(C49="","",C49),"") | G49: =VLOOKUP(G47,E47:F49,2,0) | V49: =IF(U49="","",VLOOKUP(U49,LISTAS!$F$5:$G$204,2,0)) | W49: =IF(S49="","",IF(S49=1,400,IF(S49=2,340,IF(S49=3,300,IF(S49=4,280,IF(S49=5,270,IF(S49=6,260,IF(S49=7,250,IF(S49=8,240,IF(S49=9,200,IF(S49=10,200,IF(S49=11,200,IF(S49=12,200,IF(S49=13,200,IF(S49=14,200,IF(S49=15,200,IF(S49=16,200,IF(S49>16,"","")))))))))))))))))) | X49: =IF(S49="","",IF($V$5="NÃO","",IF(S49=1,400,IF(S49=2,340,IF(S49=3,300,IF(S49=4,280,IF(S49=5,270,IF(S49=6,260,IF(S49=7,250,IF(S49=8,240,IF(S49=9,200,IF(S49=10,200,IF(S49=11,200,IF(S49=12,200,IF(S49=13,200,IF(S49=14,200,IF(S49=15,200,IF(S49=16,200,IF(S49>16,"","")))))))))))))))))))
C50: =IF(C49="","",VLOOKUP(C49,LISTAS!$F$5:$G$204,2,0))
K51: =IF(H43<>"",IF(H45<>"",IF(H43=H45,"",IF(H43>H45,G43,G45)),""),"") | L51: 0 | M51: =IF(L51<>"",L51,"") -> 0 | N51: =IF(L51<>"",IF(K51="","",K51),"") | O51: =IF(M51<>"",IF(M53<>"",SMALL(M51:N53,1),""),"") -> 0 | V51: =IF(U51="","",VLOOKUP(U51,LISTAS!$F$5:$G$204,2,0)) | W51: =IF(S51="","",IF(S51=1,400,IF(S51=2,340,IF(S51=3,300,IF(S51=4,280,IF(S51=5,270,IF(S51=6,260,IF(S51=7,250,IF(S51=8,240,IF(S51=9,200,IF(S51=10,200,IF(S51=11,200,IF(S51=12,200,IF(S51=13,200,IF(S51=14,200,IF(S51=15,200,IF(S51=16,200,IF(S51>16,"","")))))))))))))))))) | X51: =IF(S51="","",IF($V$5="NÃO","",IF(S51=1,400,IF(S51=2,340,IF(S51=3,300,IF(S51=4,280,IF(S51=5,270,IF(S51=6,260,IF(S51=7,250,IF(S51=8,240,IF(S51=9,200,IF(S51=10,200,IF(S51=11,200,IF(S51=12,200,IF(S51=13,200,IF(S51=14,200,IF(S51=15,200,IF(S51=16,200,IF(S51>16,"","")))))))))))))))))))
K52: =IF(K51="","",VLOOKUP(K51,LISTAS!$F$5:$G$204,2,0))
K53: =IF(H59<>"",IF(H61<>"",IF(H59=H61,"",IF(H59>H61,G59,G61)),""),"") -> LORENA, ISADORA, VALENTINA, ESTHER | L53: 1 | M53: =IF(L53<>"",L53,"") -> 1 | N53: =IF(L53<>"",IF(K53="","",K53),"") -> LORENA, ISADORA, VALENTINA, ESTHER | O53: =VLOOKUP(O51,M51:N53,2,0) | V53: =IF(U53="","",VLOOKUP(U53,LISTAS!$F$5:$G$204,2,0)) | W53: =IF(S53="","",IF(S53=1,400,IF(S53=2,340,IF(S53=3,300,IF(S53=4,280,IF(S53=5,270,IF(S53=6,260,IF(S53=7,250,IF(S53=8,240,IF(S53=9,200,IF(S53=10,200,IF(S53=11,200,IF(S53=12,200,IF(S53=13,200,IF(S53=14,200,IF(S53=15,200,IF(S53=16,200,IF(S53>16,"","")))))))))))))))))) | X53: =IF(S53="","",IF($V$5="NÃO","",IF(S53=1,400,IF(S53=2,340,IF(S53=3,300,IF(S53=4,280,IF(S53=5,270,IF(S53=6,260,IF(S53=7,250,IF(S53=8,240,IF(S53=9,200,IF(S53=10,200,IF(S53=11,200,IF(S53=12,200,IF(S53=13,200,IF(S53=14,200,IF(S53=15,200,IF(S53=16,200,IF(S53>16,"","")))))))))))))))))))
K54: =IF(K53="","",VLOOKUP(K53,LISTAS!$F$5:$G$204,2,0)) -> LICEU JARDIM
B55: 8 | D55: 0 | E55: Q | F55: =IF(D55<>"",IF(C55="","",C55),"") | G55: =IF(E55<>"",IF(E57<>"",SMALL(E55:F57,1),""),"") -> 0 | V55: =IF(U55="","",VLOOKUP(U55,LISTAS!$F$5:$G$204,2,0)) | W55: =IF(S55="","",IF(S55=1,400,IF(S55=2,340,IF(S55=3,300,IF(S55=4,280,IF(S55=5,270,IF(S55=6,260,IF(S55=7,250,IF(S55=8,240,IF(S55=9,200,IF(S55=10,200,IF(S55=11,200,IF(S55=12,200,IF(S55=13,200,IF(S55=14,200,IF(S55=15,200,IF(S55=16,200,IF(S55>16,"","")))))))))))))))))) | X55: =IF(S55="","",IF($V$5="NÃO","",IF(S55=1,400,IF(S55=2,340,IF(S55=3,300,IF(S55=4,280,IF(S55=5,270,IF(S55=6,260,IF(S55=7,250,IF(S55=8,240,IF(S55=9,200,IF(S55=10,200,IF(S55=11,200,IF(S55=12,200,IF(S55=13,200,IF(S55=14,200,IF(S55=15,200,IF(S55=16,200,IF(S55>16,"","")))))))))))))))))))
C56: =IF(C55="","",VLOOKUP(C55,LISTAS!$F$5:$G$204,2,0))
B57: 10 | D57: 0 | E57: =IF(D57<>"",D57,"") -> 0 | F57: =IF(D57<>"",IF(C57="","",C57),"") | G57: =VLOOKUP(G55,E55:F57,2,0) | V57: =IF(U57="","",VLOOKUP(U57,LISTAS!$F$5:$G$204,2,0)) | W57: =IF(S57="","",IF(S57=1,400,IF(S57=2,340,IF(S57=3,300,IF(S57=4,280,IF(S57=5,270,IF(S57=6,260,IF(S57=7,250,IF(S57=8,240,IF(S57=9,200,IF(S57=10,200,IF(S57=11,200,IF(S57=12,200,IF(S57=13,200,IF(S57=14,200,IF(S57=15,200,IF(S57=16,200,IF(S57>16,"","")))))))))))))))))) | X57: =IF(S57="","",IF($V$5="NÃO","",IF(S57=1,400,IF(S57=2,340,IF(S57=3,300,IF(S57=4,280,IF(S57=5,270,IF(S57=6,260,IF(S57=7,250,IF(S57=8,240,IF(S57=9,200,IF(S57=10,200,IF(S57=11,200,IF(S57=12,200,IF(S57=13,200,IF(S57=14,200,IF(S57=15,200,IF(S57=16,200,IF(S57>16,"","")))))))))))))))))))
C58: =IF(C57="","",VLOOKUP(C57,LISTAS!$F$5:$G$204,2,0))
G59: =IF(D55<>"",IF(D57<>"",IF(D55=D57,"",IF(D55>D57,C55,C57)),""),"") | H59: 0 | I59: =IF(H59<>"",H59,"") -> 0 | J59: =IF(H59<>"",IF(G59="","",G59),"") | K59: =IF(I59<>"",IF(I61<>"",SMALL(I59:J61,1),""),"") -> 0 | V59: =IF(U59="","",VLOOKUP(U59,LISTAS!$F$5:$G$204,2,0)) | W59: =IF(S59="","",IF(S59=1,400,IF(S59=2,340,IF(S59=3,300,IF(S59=4,280,IF(S59=5,270,IF(S59=6,260,IF(S59=7,250,IF(S59=8,240,IF(S59=9,200,IF(S59=10,200,IF(S59=11,200,IF(S59=12,200,IF(S59=13,200,IF(S59=14,200,IF(S59=15,200,IF(S59=16,200,IF(S59>16,"","")))))))))))))))))) | X59: =IF(S59="","",IF($V$5="NÃO","",IF(S59=1,400,IF(S59=2,340,IF(S59=3,300,IF(S59=4,280,IF(S59=5,270,IF(S59=6,260,IF(S59=7,250,IF(S59=8,240,IF(S59=9,200,IF(S59=10,200,IF(S59=11,200,IF(S59=12,200,IF(S59=13,200,IF(S59=14,200,IF(S59=15,200,IF(S59=16,200,IF(S59>16,"","")))))))))))))))))))
G60: =IF(G59="","",VLOOKUP(G59,LISTAS!$F$5:$G$204,2,0))
G61: =IF(D63<>"",IF(D65<>"",IF(D63=D65,"",IF(D63>D65,C63,C65)),""),"") -> LORENA, ISADORA, VALENTINA, ESTHER | H61: 1 | I61: =IF(H61<>"",H61,"") -> 1 | J61: =IF(H61<>"",IF(G61="","",G61),"") -> LORENA, ISADORA, VALENTINA, ESTHER | K61: =VLOOKUP(K59,I59:J61,2,0) | V61: =IF(U61="","",VLOOKUP(U61,LISTAS!$F$5:$G$204,2,0)) | W61: =IF(S61="","",IF(S61=1,400,IF(S61=2,340,IF(S61=3,300,IF(S61=4,280,IF(S61=5,270,IF(S61=6,260,IF(S61=7,250,IF(S61=8,240,IF(S61=9,200,IF(S61=10,200,IF(S61=11,200,IF(S61=12,200,IF(S61=13,200,IF(S61=14,200,IF(S61=15,200,IF(S61=16,200,IF(S61>16,"","")))))))))))))))))) | X61: =IF(S61="","",IF($V$5="NÃO","",IF(S61=1,400,IF(S61=2,340,IF(S61=3,300,IF(S61=4,280,IF(S61=5,270,IF(S61=6,260,IF(S61=7,250,IF(S61=8,240,IF(S61=9,200,IF(S61=10,200,IF(S61=11,200,IF(S61=12,200,IF(S61=13,200,IF(S61=14,200,IF(S61=15,200,IF(S61=16,200,IF(S61>16,"","")))))))))))))))))))
G62: =IF(G61="","",VLOOKUP(G61,LISTAS!$F$5:$G$204,2,0)) -> LICEU JARDIM
B63: 2 | C63: LORENA, ISADORA, VALENTINA, ESTHER | D63: 1 | E63: =IF(D63<>"",D63,"") -> 1 | F63: =IF(D63<>"",IF(C63="","",C63),"") -> LORENA, ISADORA, VALENTINA, ESTHER | G63: =IF(E63<>"",IF(E65<>"",SMALL(E63:F65,1),""),"") -> 0 | V63: =IF(U63="","",VLOOKUP(U63,LISTAS!$F$5:$G$204,2,0)) | W63: =IF(S63="","",IF(S63=1,400,IF(S63=2,340,IF(S63=3,300,IF(S63=4,280,IF(S63=5,270,IF(S63=6,260,IF(S63=7,250,IF(S63=8,240,IF(S63=9,200,IF(S63=10,200,IF(S63=11,200,IF(S63=12,200,IF(S63=13,200,IF(S63=14,200,IF(S63=15,200,IF(S63=16,200,IF(S63>16,"","")))))))))))))))))) | X63: =IF(S63="","",IF($V$5="NÃO","",IF(S63=1,400,IF(S63=2,340,IF(S63=3,300,IF(S63=4,280,IF(S63=5,270,IF(S63=6,260,IF(S63=7,250,IF(S63=8,240,IF(S63=9,200,IF(S63=10,200,IF(S63=11,200,IF(S63=12,200,IF(S63=13,200,IF(S63=14,200,IF(S63=15,200,IF(S63=16,200,IF(S63>16,"","")))))))))))))))))))
C64: =IF(C63="","",VLOOKUP(C63,LISTAS!$F$5:$G$204,2,0)) -> LICEU JARDIM
B65: 15 | D65: 0 | E65: =IF(D65<>"",D65,"") -> 0 | F65: =IF(D65<>"",IF(C65="","",C65),"") | G65: =VLOOKUP(G63,E63:F65,2,0) | V65: =IF(U65="","",VLOOKUP(U65,LISTAS!$F$5:$G$204,2,0)) | W65: =IF(S65="","",IF(S65=1,400,IF(S65=2,340,IF(S65=3,300,IF(S65=4,280,IF(S65=5,270,IF(S65=6,260,IF(S65=7,250,IF(S65=8,240,IF(S65=9,200,IF(S65=10,200,IF(S65=11,200,IF(S65=12,200,IF(S65=13,200,IF(S65=14,200,IF(S65=15,200,IF(S65=16,200,IF(S65>16,"","")))))))))))))))))) | X65: =IF(S65="","",IF($V$5="NÃO","",IF(S65=1,400,IF(S65=2,340,IF(S65=3,300,IF(S65=4,280,IF(S65=5,270,IF(S65=6,260,IF(S65=7,250,IF(S65=8,240,IF(S65=9,200,IF(S65=10,200,IF(S65=11,200,IF(S65=12,200,IF(S65=13,200,IF(S65=14,200,IF(S65=15,200,IF(S65=16,200,IF(S65>16,"","")))))))))))))))))))
C66: =IF(C65="","",VLOOKUP(C65,LISTAS!$F$5:$G$204,2,0))
V67: =IF(U67="","",VLOOKUP(U67,LISTAS!$F$5:$G$204,2,0)) | W67: =IF(S67="","",IF(S67=1,400,IF(S67=2,340,IF(S67=3,300,IF(S67=4,280,IF(S67=5,270,IF(S67=6,260,IF(S67=7,250,IF(S67=8,240,IF(S67=9,200,IF(S67=10,200,IF(S67=11,200,IF(S67=12,200,IF(S67=13,200,IF(S67=14,200,IF(S67=15,200,IF(S67=16,200,IF(S67>16,"","")))))))))))))))))) | X67: =IF(S67="","",IF($V$5="NÃO","",IF(S67=1,400,IF(S67=2,340,IF(S67=3,300,IF(S67=4,280,IF(S67=5,270,IF(S67=6,260,IF(S67=7,250,IF(S67=8,240,IF(S67=9,200,IF(S67=10,200,IF(S67=11,200,IF(S67=12,200,IF(S67=13,200,IF(S67=14,200,IF(S67=15,200,IF(S67=16,200,IF(S67>16,"","")))))))))))))))))))
B70: S É R I E P R A T A | S70: S É R I E P R A T A
S71: CLASSIFICAÇÃO | U71: NOMES | V71: ESCOLA | W71: PONTUAÇÃO ALUNO | X71: PONTUAÇÃO ESCOLA
B72: 1 | D72: 0 | E72: =IF(D72<>"",D72,"") -> 0 | F72: =IF(D72<>"",IF(C72="","",C72),"") | G72: =IF(E72<>"",IF(E74<>"",SMALL(E72:F74,1),""),"") -> 0 | S72: =IF(U72<>"",1,"") | T72: =IF(S72<>"","LUGAR","") | U72: =IF(P100<>"",IF(P102<>"",IF(P100=P102,"",IF(P100>P102,O100,O102)),""),"") | V72: =IF(U72="","",VLOOKUP(U72,LISTAS!$F$5:$G$204,2,0)) | W72: =IF(S72="","",IF(S72=1,180,IF(S72=2,170,IF(S72=3,150,IF(S72=4,140,IF(S72=5,135,IF(S72=6,130,IF(S72=7,120,IF(S72=8,110,IF(S72=9,105,IF(S72=10,105,IF(S72=11,105,IF(S72=12,105,IF(S72=13,105,IF(S72=14,105,IF(S72=15,105,IF(S72=16,105,IF(S72>16,"","")))))))))))))))))) | X72: =IF(S72="","",IF($V$5="NÃO","",IF(S72=1,180,IF(S72=2,170,IF(S72=3,150,IF(S72=4,140,IF(S72=5,135,IF(S72=6,130,IF(S72=7,120,IF(S72=8,110,IF(S72=9,105,IF(S72=10,105,IF(S72=11,105,IF(S72=12,105,IF(S72=13,105,IF(S72=14,105,IF(S72=15,105,IF(S72=16,105,IF(S72>16,"","")))))))))))))))))))
C73: =IF(C72="","",VLOOKUP(C72,LISTAS!$F$5:$G$204,2,0)) | S73: =IF(U73<>"",1+COUNTIF(S72,"1"),"") | T73: =IF(S73<>"","LUGAR","") | U73: =IF(P100<>"",IF(P102<>"",IF(P100=P102,"",IF(P100<P102,O100,O102)),""),"") | V73: =IF(U73="","",VLOOKUP(U73,LISTAS!$F$5:$G$204,2,0)) | W73: =IF(S73="","",IF(S73=1,180,IF(S73=2,170,IF(S73=3,150,IF(S73=4,140,IF(S73=5,135,IF(S73=6,130,IF(S73=7,120,IF(S73=8,110,IF(S73=9,105,IF(S73=10,105,IF(S73=11,105,IF(S73=12,105,IF(S73=13,105,IF(S73=14,105,IF(S73=15,105,IF(S73=16,105,IF(S73>16,"","")))))))))))))))))) | X73: =IF(S73="","",IF($V$5="NÃO","",IF(S73=1,180,IF(S73=2,170,IF(S73=3,150,IF(S73=4,140,IF(S73=5,135,IF(S73=6,130,IF(S73=7,120,IF(S73=8,110,IF(S73=9,105,IF(S73=10,105,IF(S73=11,105,IF(S73=12,105,IF(S73=13,105,IF(S73=14,105,IF(S73=15,105,IF(S73=16,105,IF(S73>16,"","")))))))))))))))))))
B74: 16 | D74: 0 | E74: =IF(D74<>"",D74,"") -> 0 | F74: =IF(D74<>"",IF(C74="","",C74),"") | G74: =VLOOKUP(G72,E72:F74,2,0) | S74: =IF(U74<>"",1+COUNTIF(S72:S73,"1")+COUNTIF(S72:S73,"2"),"") | T74: =IF(S74<>"","LUGAR","") | U74: =IF(U72<>"",IF(K84=U72,K86,IF(K86=U72,K84,IF(K116=U72,K118,IF(K118=U72,K116)))),"") | V74: =IF(U74="","",VLOOKUP(U74,LISTAS!$F$5:$G$204,2,0)) | W74: =IF(S74="","",IF(S74=1,180,IF(S74=2,170,IF(S74=3,150,IF(S74=4,140,IF(S74=5,135,IF(S74=6,130,IF(S74=7,120,IF(S74=8,110,IF(S74=9,105,IF(S74=10,105,IF(S74=11,105,IF(S74=12,105,IF(S74=13,105,IF(S74=14,105,IF(S74=15,105,IF(S74=16,105,IF(S74>16,"","")))))))))))))))))) | X74: =IF(S74="","",IF($V$5="NÃO","",IF(S74=1,180,IF(S74=2,170,IF(S74=3,150,IF(S74=4,140,IF(S74=5,135,IF(S74=6,130,IF(S74=7,120,IF(S74=8,110,IF(S74=9,105,IF(S74=10,105,IF(S74=11,105,IF(S74=12,105,IF(S74=13,105,IF(S74=14,105,IF(S74=15,105,IF(S74=16,105,IF(S74>16,"","")))))))))))))))))))
C75: =IF(C74="","",VLOOKUP(C74,LISTAS!$F$5:$G$204,2,0)) | S75: =IF(U75<>"",1+COUNTIF(S72:S74,"1")+COUNTIF(S72:S74,"2")+COUNTIF(S72:S74,"3"),"") | T75: =IF(S75<>"","LUGAR","") | U75: =IF(U73<>"",IF(K84=U73,K86,IF(K86=U73,K84,IF(K116=U73,K118,IF(K118=U73,K116)))),"") | V75: =IF(U75="","",VLOOKUP(U75,LISTAS!$F$5:$G$204,2,0)) | W75: =IF(S75="","",IF(S75=1,180,IF(S75=2,170,IF(S75=3,150,IF(S75=4,140,IF(S75=5,135,IF(S75=6,130,IF(S75=7,120,IF(S75=8,110,IF(S75=9,105,IF(S75=10,105,IF(S75=11,105,IF(S75=12,105,IF(S75=13,105,IF(S75=14,105,IF(S75=15,105,IF(S75=16,105,IF(S75>16,"","")))))))))))))))))) | X75: =IF(S75="","",IF($V$5="NÃO","",IF(S75=1,180,IF(S75=2,170,IF(S75=3,150,IF(S75=4,140,IF(S75=5,135,IF(S75=6,130,IF(S75=7,120,IF(S75=8,110,IF(S75=9,105,IF(S75=10,105,IF(S75=11,105,IF(S75=12,105,IF(S75=13,105,IF(S75=14,105,IF(S75=15,105,IF(S75=16,105,IF(S75>16,"","")))))))))))))))))))
G76: =IF(D72<>"",IF(D74<>"",IF(D72=D74,"",IF(D72>D74,C72,C74)),""),"") | H76: 0 | I76: =IF(H76<>"",H76,"") -> 0 | J76: =IF(H76<>"",IF(G76="","",G76),"") | K76: =IF(I76<>"",IF(I78<>"",SMALL(I76:J78,1),""),"") -> 0 | S76: =IF(U76<>"",1+COUNTIF(S72:S75,"1")+COUNTIF(S72:S75,"2")+COUNTIF(S72:S75,"3")+COUNTIF(S72:S75,"4"),"") | T76: =IF(S76<>"","LUGAR","") | U76: =IF(U72<>"",IF(G76=U72,G78,IF(G78=U72,G76,IF(G92=U72,G94,IF(G94=U72,G92,IF(G108=U72,G110,IF(G110=U72,G108,IF(G124=U72,G126,IF(G126=U72,G124)))))))),"") | V76: =IF(U76="","",VLOOKUP(U76,LISTAS!$F$5:$G$204,2,0)) | W76: =IF(S76="","",IF(S76=1,180,IF(S76=2,170,IF(S76=3,150,IF(S76=4,140,IF(S76=5,135,IF(S76=6,130,IF(S76=7,120,IF(S76=8,110,IF(S76=9,105,IF(S76=10,105,IF(S76=11,105,IF(S76=12,105,IF(S76=13,105,IF(S76=14,105,IF(S76=15,105,IF(S76=16,105,IF(S76>16,"","")))))))))))))))))) | X76: =IF(S76="","",IF($V$5="NÃO","",IF(S76=1,180,IF(S76=2,170,IF(S76=3,150,IF(S76=4,140,IF(S76=5,135,IF(S76=6,130,IF(S76=7,120,IF(S76=8,110,IF(S76=9,105,IF(S76=10,105,IF(S76=11,105,IF(S76=12,105,IF(S76=13,105,IF(S76=14,105,IF(S76=15,105,IF(S76=16,105,IF(S76>16,"","")))))))))))))))))))
G77: =IF(G76="","",VLOOKUP(G76,LISTAS!$F$5:$G$204,2,0)) | S77: =IF(U77<>"",1+COUNTIF(S72:S76,"1")+COUNTIF(S72:S76,"2")+COUNTIF(S72:S76,"3")+COUNTIF(S72:S76,"4")+COUNTIF(S72:S76,"5"),"") | T77: =IF(S77<>"","LUGAR","") | U77: =IF(U73<>"",IF(G76=U73,G78,IF(G78=U73,G76,IF(G92=U73,G94,IF(G94=U73,G92,IF(G108=U73,G110,IF(G110=U73,G108,IF(G124=U73,G126,IF(G126=U73,G124)))))))),"") | V77: =IF(U77="","",VLOOKUP(U77,LISTAS!$F$5:$G$204,2,0)) | W77: =IF(S77="","",IF(S77=1,180,IF(S77=2,170,IF(S77=3,150,IF(S77=4,140,IF(S77=5,135,IF(S77=6,130,IF(S77=7,120,IF(S77=8,110,IF(S77=9,105,IF(S77=10,105,IF(S77=11,105,IF(S77=12,105,IF(S77=13,105,IF(S77=14,105,IF(S77=15,105,IF(S77=16,105,IF(S77>16,"","")))))))))))))))))) | X77: =IF(S77="","",IF($V$5="NÃO","",IF(S77=1,180,IF(S77=2,170,IF(S77=3,150,IF(S77=4,140,IF(S77=5,135,IF(S77=6,130,IF(S77=7,120,IF(S77=8,110,IF(S77=9,105,IF(S77=10,105,IF(S77=11,105,IF(S77=12,105,IF(S77=13,105,IF(S77=14,105,IF(S77=15,105,IF(S77=16,105,IF(S77>16,"","")))))))))))))))))))
G78: =IF(D80<>"",IF(D82<>"",IF(D80=D82,"",IF(D80>D82,C80,C82)),""),"") | H78: 0 | I78: =IF(H78<>"",H78,"") -> 0 | J78: =IF(H78<>"",IF(G78="","",G78),"") | K78: =VLOOKUP(K76,I76:J78,2,0) | S78: =IF(U78<>"",1+COUNTIF(S72:S77,"1")+COUNTIF(S72:S77,"2")+COUNTIF(S72:S77,"3")+COUNTIF(S72:S77,"4")+COUNTIF(S72:S77,"5")+COUNTIF(S72:S77,"6"),"") | T78: =IF(S78<>"","LUGAR","") | U78: =IF(U74<>"",IF(G76=U74,G78,IF(G78=U74,G76,IF(G92=U74,G94,IF(G94=U74,G92,IF(G108=U74,G110,IF(G110=U74,G108,IF(G124=U74,G126,IF(G126=U74,G124)))))))),"") | V78: =IF(U78="","",VLOOKUP(U78,LISTAS!$F$5:$G$204,2,0)) | W78: =IF(S78="","",IF(S78=1,180,IF(S78=2,170,IF(S78=3,150,IF(S78=4,140,IF(S78=5,135,IF(S78=6,130,IF(S78=7,120,IF(S78=8,110,IF(S78=9,105,IF(S78=10,105,IF(S78=11,105,IF(S78=12,105,IF(S78=13,105,IF(S78=14,105,IF(S78=15,105,IF(S78=16,105,IF(S78>16,"","")))))))))))))))))) | X78: =IF(S78="","",IF($V$5="NÃO","",IF(S78=1,180,IF(S78=2,170,IF(S78=3,150,IF(S78=4,140,IF(S78=5,135,IF(S78=6,130,IF(S78=7,120,IF(S78=8,110,IF(S78=9,105,IF(S78=10,105,IF(S78=11,105,IF(S78=12,105,IF(S78=13,105,IF(S78=14,105,IF(S78=15,105,IF(S78=16,105,IF(S78>16,"","")))))))))))))))))))
G79: =IF(G78="","",VLOOKUP(G78,LISTAS!$F$5:$G$204,2,0)) | S79: =IF(U79<>"",1+COUNTIF(S72:S78,"1")+COUNTIF(S72:S78,"2")+COUNTIF(S72:S78,"3")+COUNTIF(S72:S78,"4")+COUNTIF(S72:S78,"5")+COUNTIF(S72:S78,"6")+COUNTIF(S72:S78,"7"),"") | T79: =IF(S79<>"","LUGAR","") | U79: =IF(U75<>"",IF(G76=U75,G78,IF(G78=U75,G76,IF(G92=U75,G94,IF(G94=U75,G92,IF(G108=U75,G110,IF(G110=U75,G108,IF(G124=U75,G126,IF(G126=U75,G124)))))))),"") | V79: =IF(U79="","",VLOOKUP(U79,LISTAS!$F$5:$G$204,2,0)) | W79: =IF(S79="","",IF(S79=1,180,IF(S79=2,170,IF(S79=3,150,IF(S79=4,140,IF(S79=5,135,IF(S79=6,130,IF(S79=7,120,IF(S79=8,110,IF(S79=9,105,IF(S79=10,105,IF(S79=11,105,IF(S79=12,105,IF(S79=13,105,IF(S79=14,105,IF(S79=15,105,IF(S79=16,105,IF(S79>16,"","")))))))))))))))))) | X79: =IF(S79="","",IF($V$5="NÃO","",IF(S79=1,180,IF(S79=2,170,IF(S79=3,150,IF(S79=4,140,IF(S79=5,135,IF(S79=6,130,IF(S79=7,120,IF(S79=8,110,IF(S79=9,105,IF(S79=10,105,IF(S79=11,105,IF(S79=12,105,IF(S79=13,105,IF(S79=14,105,IF(S79=15,105,IF(S79=16,105,IF(S79>16,"","")))))))))))))))))))
B80: 7 | D80: 0 | E80: =IF(D80<>"",D80,"") -> 0 | F80: =IF(D80<>"",IF(C80="","",C80),"") | G80: =IF(E80<>"",IF(E82<>"",SMALL(E80:F82,1),""),"") -> 0 | S80: =IF(U80<>"",1+COUNTIF(S72:S79,"1")+COUNTIF(S72:S79,"2")+COUNTIF(S72:S79,"3")+COUNTIF(S72:S79,"4")+COUNTIF(S72:S79,"5")+COUNTIF(S72:S79,"6")+COUNTIF(S72:S79,"7")+COUNTIF(S72:S79,"8"),"") | T80: =IF(S80<>"","LUGAR","") | U80: =IF(U72<>"",IF(C72=U72,G74,IF(C74=U72,G74,IF(C80=U72,G82,IF(C82=U72,G82,IF(C88=U72,G90,IF(C90=U72,G90,IF(C96=U72,G98,IF(C98=U72,G98,IF(C104=U72,G106,IF(C106=U72,G106,IF(C112=U72,G114,IF(C114=U72,G114,IF(C120=U72,G122,IF(C122=U72,G122,IF(C128=U72,G130,IF(C130=U72,G130)))))))))))))))),"") | V80: =IF(U80="","",VLOOKUP(U80,LISTAS!$F$5:$G$204,2,0)) | W80: =IF(S80="","",IF(S80=1,180,IF(S80=2,170,IF(S80=3,150,IF(S80=4,140,IF(S80=5,135,IF(S80=6,130,IF(S80=7,120,IF(S80=8,110,IF(S80=9,105,IF(S80=10,105,IF(S80=11,105,IF(S80=12,105,IF(S80=13,105,IF(S80=14,105,IF(S80=15,105,IF(S80=16,105,IF(S80>16,"","")))))))))))))))))) | X80: =IF(S80="","",IF($V$5="NÃO","",IF(S80=1,180,IF(S80=2,170,IF(S80=3,150,IF(S80=4,140,IF(S80=5,135,IF(S80=6,130,IF(S80=7,120,IF(S80=8,110,IF(S80=9,105,IF(S80=10,105,IF(S80=11,105,IF(S80=12,105,IF(S80=13,105,IF(S80=14,105,IF(S80=15,105,IF(S80=16,105,IF(S80>16,"","")))))))))))))))))))
C81: =IF(C80="","",VLOOKUP(C80,LISTAS!$F$5:$G$204,2,0)) | S81: =IF(U81<>"",1+COUNTIF(S72:S80,"1")+COUNTIF(S72:S80,"2")+COUNTIF(S72:S80,"3")+COUNTIF(S72:S80,"4")+COUNTIF(S72:S80,"5")+COUNTIF(S72:S80,"6")+COUNTIF(S72:S80,"7")+COUNTIF(S72:S80,"8")+COUNTIF(S72:S80,"9"),"") | T81: =IF(S81<>"","LUGAR","") | U81: =IF(U73<>"",IF(C72=U73,G74,IF(C74=U73,G74,IF(C80=U73,G82,IF(C82=U73,G82,IF(C88=U73,G90,IF(C90=U73,G90,IF(C96=U73,G98,IF(C98=U73,G98,IF(C104=U73,G106,IF(C106=U73,G106,IF(C112=U73,G114,IF(C114=U73,G114,IF(C120=U73,G122,IF(C122=U73,G122,IF(C128=U73,G130,IF(C130=U73,G130)))))))))))))))),"") | V81: =IF(U81="","",VLOOKUP(U81,LISTAS!$F$5:$G$204,2,0)) | W81: =IF(S81="","",IF(S81=1,180,IF(S81=2,170,IF(S81=3,150,IF(S81=4,140,IF(S81=5,135,IF(S81=6,130,IF(S81=7,120,IF(S81=8,110,IF(S81=9,105,IF(S81=10,105,IF(S81=11,105,IF(S81=12,105,IF(S81=13,105,IF(S81=14,105,IF(S81=15,105,IF(S81=16,105,IF(S81>16,"","")))))))))))))))))) | X81: =IF(S81="","",IF($V$5="NÃO","",IF(S81=1,180,IF(S81=2,170,IF(S81=3,150,IF(S81=4,140,IF(S81=5,135,IF(S81=6,130,IF(S81=7,120,IF(S81=8,110,IF(S81=9,105,IF(S81=10,105,IF(S81=11,105,IF(S81=12,105,IF(S81=13,105,IF(S81=14,105,IF(S81=15,105,IF(S81=16,105,IF(S81>16,"","")))))))))))))))))))
B82: 9 | D82: 0 | E82: =IF(D82<>"",D82,"") -> 0 | F82: =IF(D82<>"",IF(C82="","",C82),"") | G82: =VLOOKUP(G80,E80:F82,2,0) | S82: =IF(U82<>"",1+COUNTIF(S72:S81,"1")+COUNTIF(S72:S81,"2")+COUNTIF(S72:S81,"3")+COUNTIF(S72:S81,"4")+COUNTIF(S72:S81,"5")+COUNTIF(S72:S81,"6")+COUNTIF(S72:S81,"7")+COUNTIF(S72:S81,"8")+COUNTIF(S72:S81,"9")+COUNTIF(S72:S81,"10"),"") | T82: =IF(S82<>"","LUGAR","") | U82: =IF(U74<>"",IF(C72=U74,G74,IF(C74=U74,G74,IF(C80=U74,G82,IF(C82=U74,G82,IF(C88=U74,G90,IF(C90=U74,G90,IF(C96=U74,G98,IF(C98=U74,G98,IF(C104=U74,G106,IF(C106=U74,G106,IF(C112=U74,G114,IF(C114=U74,G114,IF(C120=U74,G122,IF(C122=U74,G122,IF(C128=U74,G130,IF(C130=U74,G130)))))))))))))))),"") | V82: =IF(U82="","",VLOOKUP(U82,LISTAS!$F$5:$G$204,2,0)) | W82: =IF(S82="","",IF(S82=1,180,IF(S82=2,170,IF(S82=3,150,IF(S82=4,140,IF(S82=5,135,IF(S82=6,130,IF(S82=7,120,IF(S82=8,110,IF(S82=9,105,IF(S82=10,105,IF(S82=11,105,IF(S82=12,105,IF(S82=13,105,IF(S82=14,105,IF(S82=15,105,IF(S82=16,105,IF(S82>16,"","")))))))))))))))))) | X82: =IF(S82="","",IF($V$5="NÃO","",IF(S82=1,180,IF(S82=2,170,IF(S82=3,150,IF(S82=4,140,IF(S82=5,135,IF(S82=6,130,IF(S82=7,120,IF(S82=8,110,IF(S82=9,105,IF(S82=10,105,IF(S82=11,105,IF(S82=12,105,IF(S82=13,105,IF(S82=14,105,IF(S82=15,105,IF(S82=16,105,IF(S82>16,"","")))))))))))))))))))
S83: =IF(U83<>"",1+COUNTIF(S72:S82,"1")+COUNTIF(S72:S82,"2")+COUNTIF(S72:S82,"3")+COUNTIF(S72:S82,"4")+COUNTIF(S72:S82,"5")+COUNTIF(S72:S82,"6")+COUNTIF(S72:S82,"7")+COUNTIF(S72:S82,"8")+COUNTIF(S72:S82,"9")+COUNTIF(S72:S82,"10")+COUNTIF(S72:S82,"11"),"") | T83: =IF(S83<>"","LUGAR","") | U83: =IF(U75<>"",IF(C72=U75,G74,IF(C74=U75,G74,IF(C80=U75,G82,IF(C82=U75,G82,IF(C88=U75,G90,IF(C90=U75,G90,IF(C96=U75,G98,IF(C98=U75,G98,IF(C104=U75,G106,IF(C106=U75,G106,IF(C112=U75,G114,IF(C114=U75,G114,IF(C120=U75,G122,IF(C122=U75,G122,IF(C128=U75,G130,IF(C130=U75,G130)))))))))))))))),"") | V83: =IF(U83="","",VLOOKUP(U83,LISTAS!$F$5:$G$204,2,0)) | W83: =IF(S83="","",IF(S83=1,180,IF(S83=2,170,IF(S83=3,150,IF(S83=4,140,IF(S83=5,135,IF(S83=6,130,IF(S83=7,120,IF(S83=8,110,IF(S83=9,105,IF(S83=10,105,IF(S83=11,105,IF(S83=12,105,IF(S83=13,105,IF(S83=14,105,IF(S83=15,105,IF(S83=16,105,IF(S83>16,"","")))))))))))))))))) | X83: =IF(S83="","",IF($V$5="NÃO","",IF(S83=1,180,IF(S83=2,170,IF(S83=3,150,IF(S83=4,140,IF(S83=5,135,IF(S83=6,130,IF(S83=7,120,IF(S83=8,110,IF(S83=9,105,IF(S83=10,105,IF(S83=11,105,IF(S83=12,105,IF(S83=13,105,IF(S83=14,105,IF(S83=15,105,IF(S83=16,105,IF(S83>16,"","")))))))))))))))))))
K84: =IF(H76<>"",IF(H78<>"",IF(H76=H78,"",IF(H76>H78,G76,G78)),""),"") | L84: 0 | M84: =IF(L84<>"",L84,"") -> 0 | N84: =IF(L84<>"",IF(K84="","",K84),"") | O84: =IF(M84<>"",IF(M86<>"",SMALL(M84:N86,1),""),"") -> 0 | S84: =IF(U84<>"",1+COUNTIF(S72:S83,"1")+COUNTIF(S72:S83,"2")+COUNTIF(S72:S83,"3")+COUNTIF(S72:S83,"4")+COUNTIF(S72:S83,"5")+COUNTIF(S72:S83,"6")+COUNTIF(S72:S83,"7")+COUNTIF(S72:S83,"8")+COUNTIF(S72:S83,"9")+COUNTIF(S72:S83,"10")+COUNTIF(S72:S83,"11")+COUNTIF(S72:S83,"12"),"") | T84: =IF(S84<>"","LUGAR","") | U84: =IF(U76<>"",IF(C72=U76,G74,IF(C74=U76,G74,IF(C80=U76,G82,IF(C82=U76,G82,IF(C88=U76,G90,IF(C90=U76,G90,IF(C96=U76,G98,IF(C98=U76,G98,IF(C104=U76,G106,IF(C106=U76,G106,IF(C112=U76,G114,IF(C114=U76,G114,IF(C120=U76,G122,IF(C122=U76,G122,IF(C128=U76,G130,IF(C130=U76,G130)))))))))))))))),"") | V84: =IF(U84="","",VLOOKUP(U84,LISTAS!$F$5:$G$204,2,0)) | W84: =IF(S84="","",IF(S84=1,180,IF(S84=2,170,IF(S84=3,150,IF(S84=4,140,IF(S84=5,135,IF(S84=6,130,IF(S84=7,120,IF(S84=8,110,IF(S84=9,105,IF(S84=10,105,IF(S84=11,105,IF(S84=12,105,IF(S84=13,105,IF(S84=14,105,IF(S84=15,105,IF(S84=16,105,IF(S84>16,"","")))))))))))))))))) | X84: =IF(S84="","",IF($V$5="NÃO","",IF(S84=1,180,IF(S84=2,170,IF(S84=3,150,IF(S84=4,140,IF(S84=5,135,IF(S84=6,130,IF(S84=7,120,IF(S84=8,110,IF(S84=9,105,IF(S84=10,105,IF(S84=11,105,IF(S84=12,105,IF(S84=13,105,IF(S84=14,105,IF(S84=15,105,IF(S84=16,105,IF(S84>16,"","")))))))))))))))))))
K85: =IF(K84="","",VLOOKUP(K84,LISTAS!$F$5:$G$204,2,0)) | S85: =IF(U85<>"",1+COUNTIF(S72:S84,"1")+COUNTIF(S72:S84,"2")+COUNTIF(S72:S84,"3")+COUNTIF(S72:S84,"4")+COUNTIF(S72:S84,"5")+COUNTIF(S72:S84,"6")+COUNTIF(S72:S84,"7")+COUNTIF(S72:S84,"8")+COUNTIF(S72:S84,"9")+COUNTIF(S72:S84,"10")+COUNTIF(S72:S84,"11")+COUNTIF(S72:S84,"12")+COUNTIF(S72:S84,"13"),"") | T85: =IF(S85<>"","LUGAR","") | U85: =IF(U77<>"",IF(C72=U77,G74,IF(C74=U77,G74,IF(C80=U77,G82,IF(C82=U77,G82,IF(C88=U77,G90,IF(C90=U77,G90,IF(C96=U77,G98,IF(C98=U77,G98,IF(C104=U77,G106,IF(C106=U77,G106,IF(C112=U77,G114,IF(C114=U77,G114,IF(C120=U77,G122,IF(C122=U77,G122,IF(C128=U77,G130,IF(C130=U77,G130)))))))))))))))),"") | V85: =IF(U85="","",VLOOKUP(U85,LISTAS!$F$5:$G$204,2,0)) | W85: =IF(S85="","",IF(S85=1,180,IF(S85=2,170,IF(S85=3,150,IF(S85=4,140,IF(S85=5,135,IF(S85=6,130,IF(S85=7,120,IF(S85=8,110,IF(S85=9,105,IF(S85=10,105,IF(S85=11,105,IF(S85=12,105,IF(S85=13,105,IF(S85=14,105,IF(S85=15,105,IF(S85=16,105,IF(S85>16,"","")))))))))))))))))) | X85: =IF(S85="","",IF($V$5="NÃO","",IF(S85=1,180,IF(S85=2,170,IF(S85=3,150,IF(S85=4,140,IF(S85=5,135,IF(S85=6,130,IF(S85=7,120,IF(S85=8,110,IF(S85=9,105,IF(S85=10,105,IF(S85=11,105,IF(S85=12,105,IF(S85=13,105,IF(S85=14,105,IF(S85=15,105,IF(S85=16,105,IF(S85>16,"","")))))))))))))))))))
K86: =IF(H92<>"",IF(H94<>"",IF(H92=H94,"",IF(H92>H94,G92,G94)),""),"") | L86: 0 | M86: =IF(L86<>"",L86,"") -> 0 | N86: =IF(L86<>"",IF(K86="","",K86),"") | O86: =VLOOKUP(O84,M84:N86,2,0) | S86: =IF(U86<>"",1+COUNTIF(S72:S85,"1")+COUNTIF(S72:S85,"2")+COUNTIF(S72:S85,"3")+COUNTIF(S72:S85,"4")+COUNTIF(S72:S85,"5")+COUNTIF(S72:S85,"6")+COUNTIF(S72:S85,"7")+COUNTIF(S72:S85,"8")+COUNTIF(S72:S85,"9")+COUNTIF(S72:S85,"10")+COUNTIF(S72:S85,"11")+COUNTIF(S72:S85,"12")+COUNTIF(S72:S85,"13")+COUNTIF(S72:S85,"14"),"") | T86: =IF(S86<>"","LUGAR","") | U86: =IF(U78<>"",IF(C72=U78,G74,IF(C74=U78,G74,IF(C80=U78,G82,IF(C82=U78,G82,IF(C88=U78,G90,IF(C90=U78,G90,IF(C96=U78,G98,IF(C98=U78,G98,IF(C104=U78,G106,IF(C106=U78,G106,IF(C112=U78,G114,IF(C114=U78,G114,IF(C120=U78,G122,IF(C122=U78,G122,IF(C128=U78,G130,IF(C130=U78,G130)))))))))))))))),"") | V86: =IF(U86="","",VLOOKUP(U86,LISTAS!$F$5:$G$204,2,0)) | W86: =IF(S86="","",IF(S86=1,180,IF(S86=2,170,IF(S86=3,150,IF(S86=4,140,IF(S86=5,135,IF(S86=6,130,IF(S86=7,120,IF(S86=8,110,IF(S86=9,105,IF(S86=10,105,IF(S86=11,105,IF(S86=12,105,IF(S86=13,105,IF(S86=14,105,IF(S86=15,105,IF(S86=16,105,IF(S86>16,"","")))))))))))))))))) | X86: =IF(S86="","",IF($V$5="NÃO","",IF(S86=1,180,IF(S86=2,170,IF(S86=3,150,IF(S86=4,140,IF(S86=5,135,IF(S86=6,130,IF(S86=7,120,IF(S86=8,110,IF(S86=9,105,IF(S86=10,105,IF(S86=11,105,IF(S86=12,105,IF(S86=13,105,IF(S86=14,105,IF(S86=15,105,IF(S86=16,105,IF(S86>16,"","")))))))))))))))))))
K87: =IF(K86="","",VLOOKUP(K86,LISTAS!$F$5:$G$204,2,0)) | S87: =IF(U87<>"",1+COUNTIF(S72:S86,"1")+COUNTIF(S72:S86,"2")+COUNTIF(S72:S86,"3")+COUNTIF(S72:S86,"4")+COUNTIF(S72:S86,"5")+COUNTIF(S72:S86,"6")+COUNTIF(S72:S86,"7")+COUNTIF(S72:S86,"8")+COUNTIF(S72:S86,"9")+COUNTIF(S72:S86,"10")+COUNTIF(S72:S86,"11")+COUNTIF(S72:S86,"12")+COUNTIF(S72:S86,"13")+COUNTIF(S72:S86,"14")+COUNTIF(S72:S86,"15"),"") | T87: =IF(S87<>"","LUGAR","") | U87: =IF(U79<>"",IF(C72=U79,G74,IF(C74=U79,G74,IF(C80=U79,G82,IF(C82=U79,G82,IF(C88=U79,G90,IF(C90=U79,G90,IF(C96=U79,G98,IF(C98=U79,G98,IF(C104=U79,G106,IF(C106=U79,G106,IF(C112=U79,G114,IF(C114=U79,G114,IF(C120=U79,G122,IF(C122=U79,G122,IF(C128=U79,G130,IF(C130=U79,G130)))))))))))))))),"") | V87: =IF(U87="","",VLOOKUP(U87,LISTAS!$F$5:$G$204,2,0)) | W87: =IF(S87="","",IF(S87=1,180,IF(S87=2,170,IF(S87=3,150,IF(S87=4,140,IF(S87=5,135,IF(S87=6,130,IF(S87=7,120,IF(S87=8,110,IF(S87=9,105,IF(S87=10,105,IF(S87=11,105,IF(S87=12,105,IF(S87=13,105,IF(S87=14,105,IF(S87=15,105,IF(S87=16,105,IF(S87>16,"","")))))))))))))))))) | X87: =IF(S87="","",IF($V$5="NÃO","",IF(S87=1,180,IF(S87=2,170,IF(S87=3,150,IF(S87=4,140,IF(S87=5,135,IF(S87=6,130,IF(S87=7,120,IF(S87=8,110,IF(S87=9,105,IF(S87=10,105,IF(S87=11,105,IF(S87=12,105,IF(S87=13,105,IF(S87=14,105,IF(S87=15,105,IF(S87=16,105,IF(S87>16,"","")))))))))))))))))))
B88: 6 | D88: 0 | E88: =IF(D88<>"",D88,"") -> 0 | F88: =IF(D88<>"",IF(C88="","",C88),"") | G88: =IF(E88<>"",IF(E90<>"",SMALL(E88:F90,1),""),"") -> 0
C89: =IF(C88="","",VLOOKUP(C88,LISTAS!$F$5:$G$204,2,0)) | V89: =IF(U89="","",VLOOKUP(U89,LISTAS!$F$5:$G$204,2,0)) | W89: =IF(S89="","",IF(S89=1,180,IF(S89=2,170,IF(S89=3,150,IF(S89=4,140,IF(S89=5,135,IF(S89=6,130,IF(S89=7,120,IF(S89=8,110,IF(S89=9,105,IF(S89=10,105,IF(S89=11,105,IF(S89=12,105,IF(S89=13,105,IF(S89=14,105,IF(S89=15,105,IF(S89=16,105,IF(S89>16,"","")))))))))))))))))) | X89: =IF(S89="","",IF($V$5="NÃO","",IF(S89=1,180,IF(S89=2,170,IF(S89=3,150,IF(S89=4,140,IF(S89=5,135,IF(S89=6,130,IF(S89=7,120,IF(S89=8,110,IF(S89=9,105,IF(S89=10,105,IF(S89=11,105,IF(S89=12,105,IF(S89=13,105,IF(S89=14,105,IF(S89=15,105,IF(S89=16,105,IF(S89>16,"","")))))))))))))))))))
B90: 11 | D90: 0 | E90: =IF(D90<>"",D90,"") -> 0 | F90: =IF(D90<>"",IF(C90="","",C90),"") | G90: =VLOOKUP(G88,E88:F90,2,0)
C91: =IF(C90="","",VLOOKUP(C90,LISTAS!$F$5:$G$204,2,0))
G92: =IF(D88<>"",IF(D90<>"",IF(D88=D90,"",IF(D88>D90,C88,C90)),""),"") | H92: 0 | I92: =IF(H92<>"",H92,"") -> 0 | J92: =IF(H92<>"",IF(G92="","",G92),"") | K92: =IF(I92<>"",IF(I94<>"",SMALL(I92:J94,1),""),"") -> 0
G93: =IF(G92="","",VLOOKUP(G92,LISTAS!$F$5:$G$204,2,0))
G94: =IF(D96<>"",IF(D98<>"",IF(D96=D98,"",IF(D96>D98,C96,C98)),""),"") | H94: 0 | I94: =IF(H94<>"",H94,"") -> 0 | J94: =IF(H94<>"",IF(G94="","",G94),"") | K94: =VLOOKUP(K92,I92:J94,2,0) | M94: 0
G95: =IF(G94="","",VLOOKUP(G94,LISTAS!$F$5:$G$204,2,0))
B96: 4 | D96: 0 | E96: =IF(D96<>"",D96,"") -> 0 | F96: =IF(D96<>"",IF(C96="","",C96),"") | G96: =IF(E96<>"",IF(E98<>"",SMALL(E96:F98,1),""),"") -> 0
C97: =IF(C96="","",VLOOKUP(C96,LISTAS!$F$5:$G$204,2,0))
B98: 13 | D98: 0 | E98: =IF(D98<>"",D98,"") -> 0 | F98: =IF(D98<>"",IF(C98="","",C98),"") | G98: =VLOOKUP(G96,E96:F98,2,0)
C99: =IF(C98="","",VLOOKUP(C98,LISTAS!$F$5:$G$204,2,0))
O100: =IF(L84<>"",IF(L86<>"",IF(L84=L86,"",IF(L84>L86,K84,K86)),""),"") | P100: 0
O101: =IF(O100="","",VLOOKUP(O100,LISTAS!$F$5:$G$204,2,0))
O102: =IF(L116<>"",IF(L118<>"",IF(L116=L118,"",IF(L116>L118,K116,K118)),""),"") | P102: 0
O103: =IF(O102="","",VLOOKUP(O102,LISTAS!$F$5:$G$204,2,0))
B104: 3 | D104: 0 | E104: =IF(D104<>"",D104,"") -> 0 | F104: =IF(D104<>"",IF(C104="","",C104),"") | G104: =IF(E104<>"",IF(E106<>"",SMALL(E104:F106,1),""),"") -> 0
C105: =IF(C104="","",VLOOKUP(C104,LISTAS!$F$5:$G$204,2,0))
B106: 14 | D106: 0 | E106: =IF(D106<>"",D106,"") -> 0 | F106: =IF(D106<>"",IF(C106="","",C106),"") | G106: =VLOOKUP(G104,E104:F106,2,0) | V106: =IF(U106="","",VLOOKUP(U106,LISTAS!$F$5:$G$204,2,0)) | W106: =IF(S106="","",IF(S106=1,180,IF(S106=2,170,IF(S106=3,150,IF(S106=4,140,IF(S106=5,135,IF(S106=6,130,IF(S106=7,120,IF(S106=8,110,IF(S106=9,105,IF(S106=10,105,IF(S106=11,105,IF(S106=12,105,IF(S106=13,105,IF(S106=14,105,IF(S106=15,105,IF(S106=16,105,IF(S106>16,"","")))))))))))))))))) | X106: =IF(S106="","",IF($V$5="NÃO","",IF(S106=1,180,IF(S106=2,170,IF(S106=3,150,IF(S106=4,140,IF(S106=5,135,IF(S106=6,130,IF(S106=7,120,IF(S106=8,110,IF(S106=9,105,IF(S106=10,105,IF(S106=11,105,IF(S106=12,105,IF(S106=13,105,IF(S106=14,105,IF(S106=15,105,IF(S106=16,105,IF(S106>16,"","")))))))))))))))))))
...

Sheet 11M
B5: SUB 12 MASCULINO | S5: SUB 12 MASCULINO | U5: PONTUAÇÃO ESCOLA: | V5: SIM
B6: S É R I E O U R O | S6: S É R I E O U R O
S7: CLASSIFICAÇÃO | U7: NOMES | V7: ESCOLA | W7: PONTUAÇÃO ALUNO | X7: PONTUAÇÃO ESCOLA
B8: 1 | D8: 0 | E8: =IF(D8<>"",D8,"") -> 0 | F8: =IF(D8<>"",IF(C8="","",C8),"") | G8: =IF(E8<>"",IF(E10<>"",SMALL(E8:F10,1),""),"") -> 0 | S8: =IF(U8<>"",1,"") -> 1 | T8: =IF(S8<>"","LUGAR","") -> LUGAR | U8: =IF(P36<>"",IF(P38<>"",IF(P36=P38,"",IF(P36>P38,O36,O38)),""),"") -> CRISTIANO, VITOR, JOÃO, LORENZO | V8: =IF(U8="","",VLOOKUP(U8,LISTAS!$F$5:$G$204,2,0)) -> LICEU JARDIM | W8: =IF(S8="","",IF(S8=1,400,IF(S8=2,340,IF(S8=3,300,IF(S8=4,280,IF(S8=5,270,IF(S8=6,260,IF(S8=7,250,IF(S8=8,240,IF(S8=9,200,IF(S8=10,200,IF(S8=11,200,IF(S8=12,200,IF(S8=13,200,IF(S8=14,200,IF(S8=15,200,IF(S8=16,200,IF(S8>16,"","")))))))))))))))))) -> 400 | X8: =IF(S8="","",IF($V$5="NÃO","",IF(S8=1,400,IF(S8=2,340,IF(S8=3,300,IF(S8=4,280,IF(S8=5,270,IF(S8=6,260,IF(S8=7,250,IF(S8=8,240,IF(S8=9,200,IF(S8=10,200,IF(S8=11,200,IF(S8=12,200,IF(S8=13,200,IF(S8=14,200,IF(S8=15,200,IF(S8=16,200,IF(S8>16,"",""))))))))))))))))))) -> 400
C9: =IF(C8="","",VLOOKUP(C8,LISTAS!$F$5:$G$204,2,0)) | S9: =IF(U9<>"",1+COUNTIF(S8,"1"),"") -> 2 | T9: =IF(S9<>"","LUGAR","") -> LUGAR | U9: =IF(P36<>"",IF(P38<>"",IF(P36=P38,"",IF(P36<P38,O36,O38)),""),"") -> LORENZO, GAEL, RICARDO | V9: =IF(U9="","",VLOOKUP(U9,LISTAS!$F$5:$G$204,2,0)) -> ARBOS SCS | W9: =IF(S9="","",IF(S9=1,400,IF(S9=2,340,IF(S9=3,300,IF(S9=4,280,IF(S9=5,270,IF(S9=6,260,IF(S9=7,250,IF(S9=8,240,IF(S9=9,200,IF(S9=10,200,IF(S9=11,200,IF(S9=12,200,IF(S9=13,200,IF(S9=14,200,IF(S9=15,200,IF(S9=16,200,IF(S9>16,"","")))))))))))))))))) -> 340 | X9: =IF(S9="","",IF($V$5="NÃO","",IF(S9=1,400,IF(S9=2,340,IF(S9=3,300,IF(S9=4,280,IF(S9=5,270,IF(S9=6,260,IF(S9=7,250,IF(S9=8,240,IF(S9=9,200,IF(S9=10,200,IF(S9=11,200,IF(S9=12,200,IF(S9=13,200,IF(S9=14,200,IF(S9=15,200,IF(S9=16,200,IF(S9>16,"",""))))))))))))))))))) -> 340
B10: 16 | C10: HEITOR, LORENZO, MURILO | D10: 1 | E10: =IF(D10<>"",D10,"") -> 1 | F10: =IF(D10<>"",IF(C10="","",C10),"") -> HEITOR, LORENZO, MURILO | G10: =VLOOKUP(G8,E8:F10,2,0) | S10: =IF(U10<>"",1+COUNTIF(S8:S9,"1")+COUNTIF(S8:S9,"2"),"") -> 3 | T10: =IF(S10<>"","LUGAR","") -> LUGAR | U10: =IF(U8<>"",IF(K20=U8,K22,IF(K22=U8,K20,IF(K52=U8,K54,IF(K54=U8,K52)))),"") -> MIGUEL, ENZO, GABRIEL, RAFAEL | V10: =IF(U10="","",VLOOKUP(U10,LISTAS!$F$5:$G$204,2,0)) -> STAGIUM - DIAD | W10: =IF(S10="","",IF(S10=1,400,IF(S10=2,340,IF(S10=3,300,IF(S10=4,280,IF(S10=5,270,IF(S10=6,260,IF(S10=7,250,IF(S10=8,240,IF(S10=9,200,IF(S10=10,200,IF(S10=11,200,IF(S10=12,200,IF(S10=13,200,IF(S10=14,200,IF(S10=15,200,IF(S10=16,200,IF(S10>16,"","")))))))))))))))))) -> 300 | X10: =IF(S10="","",IF($V$5="NÃO","",IF(S10=1,400,IF(S10=2,340,IF(S10=3,300,IF(S10=4,280,IF(S10=5,270,IF(S10=6,260,IF(S10=7,250,IF(S10=8,240,IF(S10=9,200,IF(S10=10,200,IF(S10=11,200,IF(S10=12,200,IF(S10=13,200,IF(S10=14,200,IF(S10=15,200,IF(S10=16,200,IF(S10>16,"",""))))))))))))))))))) -> 300
C11: =IF(C10="","",VLOOKUP(C10,LISTAS!$F$5:$G$204,2,0)) -> ARBOS S.A | S11: =IF(U11<>"",1+COUNTIF(S8:S10,"1")+COUNTIF(S8:S10,"2")+COUNTIF(S8:S10,"3"),"") -> 4 | T11: =IF(S11<>"","LUGAR","") -> LUGAR | U11: =IF(U9<>"",IF(K20=U9,K22,IF(K22=U9,K20,IF(K52=U9,K54,IF(K54=U9,K52)))),"") -> GUILHERME, GUILHERME, MATHEUS | V11: =IF(U11="","",VLOOKUP(U11,LISTAS!$F$5:$G$204,2,0)) -> ARBOS S.A | W11: =IF(S11="","",IF(S11=1,400,IF(S11=2,340,IF(S11=3,300,IF(S11=4,280,IF(S11=5,270,IF(S11=6,260,IF(S11=7,250,IF(S11=8,240,IF(S11=9,200,IF(S11=10,200,IF(S11=11,200,IF(S11=12,200,IF(S11=13,200,IF(S11=14,200,IF(S11=15,200,IF(S11=16,200,IF(S11>16,"","")))))))))))))))))) -> 280 | X11: =IF(S11="","",IF($V$5="NÃO","",IF(S11=1,400,IF(S11=2,340,IF(S11=3,300,IF(S11=4,280,IF(S11=5,270,IF(S11=6,260,IF(S11=7,250,IF(S11=8,240,IF(S11=9,200,IF(S11=10,200,IF(S11=11,200,IF(S11=12,200,IF(S11=13,200,IF(S11=14,200,IF(S11=15,200,IF(S11=16,200,IF(S11>16,"",""))))))))))))))))))) -> 280
G12: =IF(D8<>"",IF(D10<>"",IF(D8=D10,"",IF(D8>D10,C8,C10)),""),"") -> HEITOR, LORENZO, MURILO | H12: 0 | I12: =IF(H12<>"",H12,"") -> 0 | J12: =IF(H12<>"",IF(G12="","",G12),"") -> HEITOR, LORENZO, MURILO | K12: =IF(I12<>"",IF(I14<>"",SMALL(I12:J14,1),""),"") -> 0 | S12: =IF(U12<>"",1+COUNTIF(S8:S11,"1")+COUNTIF(S8:S11,"2")+COUNTIF(S8:S11,"3")+COUNTIF(S8:S11,"4"),"") -> 5 | T12: =IF(S12<>"","LUGAR","") -> LUGAR | U12: =IF(U8<>"",IF(G12=U8,G14,IF(G14=U8,G12,IF(G28=U8,G30,IF(G30=U8,G28,IF(G44=U8,G46,IF(G46=U8,G44,IF(G60=U8,G62,IF(G62=U8,G60)))))))),"") -> HEITOR, LORENZO, MURILO | V12: =IF(U12="","",VLOOKUP(U12,LISTAS!$F$5:$G$204,2,0)) -> ARBOS S.A | W12: =IF(S12="","",IF(S12=1,400,IF(S12=2,340,IF(S12=3,300,IF(S12=4,280,IF(S12=5,270,IF(S12=6,260,IF(S12=7,250,IF(S12=8,240,IF(S12=9,200,IF(S12=10,200,IF(S12=11,200,IF(S12=12,200,IF(S12=13,200,IF(S12=14,200,IF(S12=15,200,IF(S12=16,200,IF(S12>16,"","")))))))))))))))))) -> 270 | X12: =IF(S12="","",IF($V$5="NÃO","",IF(S12=1,400,IF(S12=2,340,IF(S12=3,300,IF(S12=4,280,IF(S12=5,270,IF(S12=6,260,IF(S12=7,250,IF(S12=8,240,IF(S12=9,200,IF(S12=10,200,IF(S12=11,200,IF(S12=12,200,IF(S12=13,200,IF(S12=14,200,IF(S12=15,200,IF(S12=16,200,IF(S12>16,"",""))))))))))))))))))) -> 270
G13: =IF(G12="","",VLOOKUP(G12,LISTAS!$F$5:$G$204,2,0)) -> ARBOS S.A | S13: =IF(U13<>"",1+COUNTIF(S8:S12,"1")+COUNTIF(S8:S12,"2")+COUNTIF(S8:S12,"3")+COUNTIF(S8:S12,"4")+COUNTIF(S8:S12,"5"),"") | T13: =IF(S13<>"","LUGAR","") | U13: =IF(U9<>"",IF(G12=U9,G14,IF(G14=U9,G12,IF(G28=U9,G30,IF(G30=U9,G28,IF(G44=U9,G46,IF(G46=U9,G44,IF(G60=U9,G62,IF(G62=U9,G60)))))))),"") | V13: =IF(U13="","",VLOOKUP(U13,LISTAS!$F$5:$G$204,2,0)) | W13: =IF(S13="","",IF(S13=1,400,IF(S13=2,340,IF(S13=3,300,IF(S13=4,280,IF(S13=5,270,IF(S13=6,260,IF(S13=7,250,IF(S13=8,240,IF(S13=9,200,IF(S13=10,200,IF(S13=11,200,IF(S13=12,200,IF(S13=13,200,IF(S13=14,200,IF(S13=15,200,IF(S13=16,200,IF(S13>16,"","")))))))))))))))))) | X13: =IF(S13="","",IF($V$5="NÃO","",IF(S13=1,400,IF(S13=2,340,IF(S13=3,300,IF(S13=4,280,IF(S13=5,270,IF(S13=6,260,IF(S13=7,250,IF(S13=8,240,IF(S13=9,200,IF(S13=10,200,IF(S13=11,200,IF(S13=12,200,IF(S13=13,200,IF(S13=14,200,IF(S13=15,200,IF(S13=16,200,IF(S13>16,"","")))))))))))))))))))
G14: =IF(D16<>"",IF(D18<>"",IF(D16=D18,"",IF(D16>D18,C16,C18)),""),"") -> CRISTIANO, VITOR, JOÃO, LORENZO | H14: 1 | I14: =IF(H14<>"",H14,"") -> 1 | J14: =IF(H14<>"",IF(G14="","",G14),"") -> CRISTIANO, VITOR, JOÃO, LORENZO | K14: =VLOOKUP(K12,I12:J14,2,0) -> HEITOR, LORENZO, MURILO | S14: =IF(U14<>"",1+COUNTIF(S8:S13,"1")+COUNTIF(S8:S13,"2")+COUNTIF(S8:S13,"3")+COUNTIF(S8:S13,"4")+COUNTIF(S8:S13,"5")+COUNTIF(S8:S13,"6"),"") -> 6 | T14: =IF(S14<>"","LUGAR","") -> LUGAR | U14: =IF(U10<>"",IF(G12=U10,G14,IF(G14=U10,G12,IF(G28=U10,G30,IF(G30=U10,G28,IF(G44=U10,G46,IF(G46=U10,G44,IF(G60=U10,G62,IF(G62=U10,G60)))))))),"") -> HENRIQUE, LORENZO, LUCAS, VINICIUS | V14: =IF(U14="","",VLOOKUP(U14,LISTAS!$F$5:$G$204,2,0)) -> LICEU JARDIM | W14: =IF(S14="","",IF(S14=1,400,IF(S14=2,340,IF(S14=3,300,IF(S14=4,280,IF(S14=5,270,IF(S14=6,260,IF(S14=7,250,IF(S14=8,240,IF(S14=9,200,IF(S14=10,200,IF(S14=11,200,IF(S14=12,200,IF(S14=13,200,IF(S14=14,200,IF(S14=15,200,IF(S14=16,200,IF(S14>16,"","")))))))))))))))))) -> 260 | X14: =IF(S14="","",IF($V$5="NÃO","",IF(S14=1,400,IF(S14=2,340,IF(S14=3,300,IF(S14=4,280,IF(S14=5,270,IF(S14=6,260,IF(S14=7,250,IF(S14=8,240,IF(S14=9,200,IF(S14=10,200,IF(S14=11,200,IF(S14=12,200,IF(S14=13,200,IF(S14=14,200,IF(S14=15,200,IF(S14=16,200,IF(S14>16,"",""))))))))))))))))))) -> 260
G15: =IF(G14="","",VLOOKUP(G14,LISTAS!$F$5:$G$204,2,0)) -> LICEU JARDIM | S15: =IF(U15<>"",1+COUNTIF(S8:S14,"1")+COUNTIF(S8:S14,"2")+COUNTIF(S8:S14,"3")+COUNTIF(S8:S14,"4")+COUNTIF(S8:S14,"5")+COUNTIF(S8:S14,"6")+COUNTIF(S8:S14,"7"),"") -> 7 | T15: =IF(S15<>"","LUGAR","") -> LUGAR | U15: =IF(U11<>"",IF(G12=U11,G14,IF(G14=U11,G12,IF(G28=U11,G30,IF(G30=U11,G28,IF(G44=U11,G46,IF(G46=U11,G44,IF(G60=U11,G62,IF(G62=U11,G60)))))))),"") -> LORENZO, RAFAEL, LEONARDO | V15: =IF(U15="","",VLOOKUP(U15,LISTAS!$F$5:$G$204,2,0)) -> VILLARE - SCS | W15: =IF(S15="","",IF(S15=1,400,IF(S15=2,340,IF(S15=3,300,IF(S15=4,280,IF(S15=5,270,IF(S15=6,260,IF(S15=7,250,IF(S15=8,240,IF(S15=9,200,IF(S15=10,200,IF(S15=11,200,IF(S15=12,200,IF(S15=13,200,IF(S15=14,200,IF(S15=15,200,IF(S15=16,200,IF(S15>16,"","")))))))))))))))))) -> 250 | X15: =IF(S15="","",IF($V$5="NÃO","",IF(S15=1,400,IF(S15=2,340,IF(S15=3,300,IF(S15=4,280,IF(S15=5,270,IF(S15=6,260,IF(S15=7,250,IF(S15=8,240,IF(S15=9,200,IF(S15=10,200,IF(S15=11,200,IF(S15=12,200,IF(S15=13,200,IF(S15=14,200,IF(S15=15,200,IF(S15=16,200,IF(S15>16,"",""))))))))))))))))))) -> 250
B16: 7 | C16: CRISTIANO, VITOR, JOÃO, LORENZO | D16: 1 | E16: =IF(D16<>"",D16,"") -> 1 | F16: =IF(D16<>"",IF(C16="","",C16),"") -> CRISTIANO, VITOR, JOÃO, LORENZO | G16: =IF(E16<>"",IF(E18<>"",SMALL(E16:F18,1),""),"") -> 0 | S16: =IF(U16<>"",1+COUNTIF(S8:S15,"1")+COUNTIF(S8:S15,"2")+COUNTIF(S8:S15,"3")+COUNTIF(S8:S15,"4")+COUNTIF(S8:S15,"5")+COUNTIF(S8:S15,"6")+COUNTIF(S8:S15,"7")+COUNTIF(S8:S15,"8"),"") | T16: =IF(S16<>"","LUGAR","") | U16: =IF(U8<>"",IF(C8=U8,G10,IF(C10=U8,G10,IF(C16=U8,G18,IF(C18=U8,G18,IF(C24=U8,G26,IF(C26=U8,G26,IF(C32=U8,G34,IF(C34=U8,G34,IF(C40=U8,G42,IF(C42=U8,G42,IF(C48=U8,G50,IF(C50=U8,G50,IF(C56=U8,G58,IF(C58=U8,G58,IF(C64=U8,G66,IF(C66=U8,G66)))))))))))))))),"") | V16: =IF(U16="","",VLOOKUP(U16,LISTAS!$F$5:$G$204,2,0)) | W16: =IF(S16="","",IF(S16=1,400,IF(S16=2,340,IF(S16=3,300,IF(S16=4,280,IF(S16=5,270,IF(S16=6,260,IF(S16=7,250,IF(S16=8,240,IF(S16=9,200,IF(S16=10,200,IF(S16=11,200,IF(S16=12,200,IF(S16=13,200,IF(S16=14,200,IF(S16=15,200,IF(S16=16,200,IF(S16>16,"","")))))))))))))))))) | X16: =IF(S16="","",IF($V$5="NÃO","",IF(S16=1,400,IF(S16=2,340,IF(S16=3,300,IF(S16=4,280,IF(S16=5,270,IF(S16=6,260,IF(S16=7,250,IF(S16=8,240,IF(S16=9,200,IF(S16=10,200,IF(S16=11,200,IF(S16=12,200,IF(S16=13,200,IF(S16=14,200,IF(S16=15,200,IF(S16=16,200,IF(S16>16,"","")))))))))))))))))))
C17: =IF(C16="","",VLOOKUP(C16,LISTAS!$F$5:$G$204,2,0)) -> LICEU JARDIM | S17: =IF(U17<>"",1+COUNTIF(S8:S16,"1")+COUNTIF(S8:S16,"2")+COUNTIF(S8:S16,"3")+COUNTIF(S8:S16,"4")+COUNTIF(S8:S16,"5")+COUNTIF(S8:S16,"6")+COUNTIF(S8:S16,"7")+COUNTIF(S8:S16,"8")+COUNTIF(S8:S16,"9"),"") | T17: =IF(S17<>"","LUGAR","") | U17: =IF(U9<>"",IF(C8=U9,G10,IF(C10=U9,G10,IF(C16=U9,G18,IF(C18=U9,G18,IF(C24=U9,G26,IF(C26=U9,G26,IF(C32=U9,G34,IF(C34=U9,G34,IF(C40=U9,G42,IF(C42=U9,G42,IF(C48=U9,G50,IF(C50=U9,G50,IF(C56=U9,G58,IF(C58=U9,G58,IF(C64=U9,G66,IF(C66=U9,G66)))))))))))))))),"") | V17: =IF(U17="","",VLOOKUP(U17,LISTAS!$F$5:$G$204,2,0)) | W17: =IF(S17="","",IF(S17=1,400,IF(S17=2,340,IF(S17=3,300,IF(S17=4,280,IF(S17=5,270,IF(S17=6,260,IF(S17=7,250,IF(S17=8,240,IF(S17=9,200,IF(S17=10,200,IF(S17=11,200,IF(S17=12,200,IF(S17=13,200,IF(S17=14,200,IF(S17=15,200,IF(S17=16,200,IF(S17>16,"","")))))))))))))))))) | X17: =IF(S17="","",IF($V$5="NÃO","",IF(S17=1,400,IF(S17=2,340,IF(S17=3,300,IF(S17=4,280,IF(S17=5,270,IF(S17=6,260,IF(S17=7,250,IF(S17=8,240,IF(S17=9,200,IF(S17=10,200,IF(S17=11,200,IF(S17=12,200,IF(S17=13,200,IF(S17=14,200,IF(S17=15,200,IF(S17=16,200,IF(S17>16,"","")))))))))))))))))))
B18: 9 | D18: 0 | E18: =IF(D18<>"",D18,"") -> 0 | F18: =IF(D18<>"",IF(C18="","",C18),"") | G18: =VLOOKUP(G16,E16:F18,2,0) | S18: =IF(U18<>"",1+COUNTIF(S8:S17,"1")+COUNTIF(S8:S17,"2")+COUNTIF(S8:S17,"3")+COUNTIF(S8:S17,"4")+COUNTIF(S8:S17,"5")+COUNTIF(S8:S17,"6")+COUNTIF(S8:S17,"7")+COUNTIF(S8:S17,"8")+COUNTIF(S8:S17,"9")+COUNTIF(S8:S17,"10"),"") | T18: =IF(S18<>"","LUGAR","") | U18: =IF(U10<>"",IF(C8=U10,G10,IF(C10=U10,G10,IF(C16=U10,G18,IF(C18=U10,G18,IF(C24=U10,G26,IF(C26=U10,G26,IF(C32=U10,G34,IF(C34=U10,G34,IF(C40=U10,G42,IF(C42=U10,G42,IF(C48=U10,G50,IF(C50=U10,G50,IF(C56=U10,G58,IF(C58=U10,G58,IF(C64=U10,G66,IF(C66=U10,G66)))))))))))))))),"") | V18: =IF(U18="","",VLOOKUP(U18,LISTAS!$F$5:$G$204,2,0)) | W18: =IF(S18="","",IF(S18=1,400,IF(S18=2,340,IF(S18=3,300,IF(S18=4,280,IF(S18=5,270,IF(S18=6,260,IF(S18=7,250,IF(S18=8,240,IF(S18=9,200,IF(S18=10,200,IF(S18=11,200,IF(S18=12,200,IF(S18=13,200,IF(S18=14,200,IF(S18=15,200,IF(S18=16,200,IF(S18>16,"","")))))))))))))))))) | X18: =IF(S18="","",IF($V$5="NÃO","",IF(S18=1,400,IF(S18=2,340,IF(S18=3,300,IF(S18=4,280,IF(S18=5,270,IF(S18=6,260,IF(S18=7,250,IF(S18=8,240,IF(S18=9,200,IF(S18=10,200,IF(S18=11,200,IF(S18=12,200,IF(S18=13,200,IF(S18=14,200,IF(S18=15,200,IF(S18=16,200,IF(S18>16,"","")))))))))))))))))))
C19: =IF(C18="","",VLOOKUP(C18,LISTAS!$F$5:$G$204,2,0)) | S19: =IF(U19<>"",1+COUNTIF(S8:S18,"1")+COUNTIF(S8:S18,"2")+COUNTIF(S8:S18,"3")+COUNTIF(S8:S18,"4")+COUNTIF(S8:S18,"5")+COUNTIF(S8:S18,"6")+COUNTIF(S8:S18,"7")+COUNTIF(S8:S18,"8")+COUNTIF(S8:S18,"9")+COUNTIF(S8:S18,"10")+COUNTIF(S8:S18,"11"),"") | T19: =IF(S19<>"","LUGAR","") | U19: =IF(U11<>"",IF(C8=U11,G10,IF(C10=U11,G10,IF(C16=U11,G18,IF(C18=U11,G18,IF(C24=U11,G26,IF(C26=U11,G26,IF(C32=U11,G34,IF(C34=U11,G34,IF(C40=U11,G42,IF(C42=U11,G42,IF(C48=U11,G50,IF(C50=U11,G50,IF(C56=U11,G58,IF(C58=U11,G58,IF(C64=U11,G66,IF(C66=U11,G66)))))))))))))))),"") | V19: =IF(U19="","",VLOOKUP(U19,LISTAS!$F$5:$G$204,2,0)) | W19: =IF(S19="","",IF(S19=1,400,IF(S19=2,340,IF(S19=3,300,IF(S19=4,280,IF(S19=5,270,IF(S19=6,260,IF(S19=7,250,IF(S19=8,240,IF(S19=9,200,IF(S19=10,200,IF(S19=11,200,IF(S19=12,200,IF(S19=13,200,IF(S19=14,200,IF(S19=15,200,IF(S19=16,200,IF(S19>16,"","")))))))))))))))))) | X19: =IF(S19="","",IF($V$5="NÃO","",IF(S19=1,400,IF(S19=2,340,IF(S19=3,300,IF(S19=4,280,IF(S19=5,270,IF(S19=6,260,IF(S19=7,250,IF(S19=8,240,IF(S19=9,200,IF(S19=10,200,IF(S19=11,200,IF(S19=12,200,IF(S19=13,200,IF(S19=14,200,IF(S19=15,200,IF(S19=16,200,IF(S19>16,"","")))))))))))))))))))
K20: =IF(H12<>"",IF(H14<>"",IF(H12=H14,"",IF(H12>H14,G12,G14)),""),"") -> CRISTIANO, VITOR, JOÃO, LORENZO | L20: 1 | M20: =IF(L20<>"",L20,"") -> 1 | N20: =IF(L20<>"",IF(K20="","",K20),"") -> CRISTIANO, VITOR, JOÃO, LORENZO | O20: =IF(M20<>"",IF(M22<>"",SMALL(M20:N22,1),""),"") -> 0 | S20: =IF(U20<>"",1+COUNTIF(S8:S19,"1")+COUNTIF(S8:S19,"2")+COUNTIF(S8:S19,"3")+COUNTIF(S8:S19,"4")+COUNTIF(S8:S19,"5")+COUNTIF(S8:S19,"6")+COUNTIF(S8:S19,"7")+COUNTIF(S8:S19,"8")+COUNTIF(S8:S19,"9")+COUNTIF(S8:S19,"10")+COUNTIF(S8:S19,"11")+COUNTIF(S8:S19,"12"),"") | T20: =IF(S20<>"","LUGAR","") | U20: =IF(U12<>"",IF(C8=U12,G10,IF(C10=U12,G10,IF(C16=U12,G18,IF(C18=U12,G18,IF(C24=U12,G26,IF(C26=U12,G26,IF(C32=U12,G34,IF(C34=U12,G34,IF(C40=U12,G42,IF(C42=U12,G42,IF(C48=U12,G50,IF(C50=U12,G50,IF(C56=U12,G58,IF(C58=U12,G58,IF(C64=U12,G66,IF(C66=U12,G66)))))))))))))))),"") | V20: =IF(U20="","",VLOOKUP(U20,LISTAS!$F$5:$G$204,2,0)) | W20: =IF(S20="","",IF(S20=1,400,IF(S20=2,340,IF(S20=3,300,IF(S20=4,280,IF(S20=5,270,IF(S20=6,260,IF(S20=7,250,IF(S20=8,240,IF(S20=9,200,IF(S20=10,200,IF(S20=11,200,IF(S20=12,200,IF(S20=13,200,IF(S20=14,200,IF(S20=15,200,IF(S20=16,200,IF(S20>16,"","")))))))))))))))))) | X20: =IF(S20="","",IF($V$5="NÃO","",IF(S20=1,400,IF(S20=2,340,IF(S20=3,300,IF(S20=4,280,IF(S20=5,270,IF(S20=6,260,IF(S20=7,250,IF(S20=8,240,IF(S20=9,200,IF(S20=10,200,IF(S20=11,200,IF(S20=12,200,IF(S20=13,200,IF(S20=14,200,IF(S20=15,200,IF(S20=16,200,IF(S20>16,"","")))))))))))))))))))
K21: =IF(K20="","",VLOOKUP(K20,LISTAS!$F$5:$G$204,2,0)) -> LICEU JARDIM | S21: =IF(U21<>"",1+COUNTIF(S8:S20,"1")+COUNTIF(S8:S20,"2")+COUNTIF(S8:S20,"3")+COUNTIF(S8:S20,"4")+COUNTIF(S8:S20,"5")+COUNTIF(S8:S20,"6")+COUNTIF(S8:S20,"7")+COUNTIF(S8:S20,"8")+COUNTIF(S8:S20,"9")+COUNTIF(S8:S20,"10")+COUNTIF(S8:S20,"11")+COUNTIF(S8:S20,"12")+COUNTIF(S8:S20,"13"),"") | T21: =IF(S21<>"","LUGAR","") | U21: =IF(U13<>"",IF(C8=U13,G10,IF(C10=U13,G10,IF(C16=U13,G18,IF(C18=U13,G18,IF(C24=U13,G26,IF(C26=U13,G26,IF(C32=U13,G34,IF(C34=U13,G34,IF(C40=U13,G42,IF(C42=U13,G42,IF(C48=U13,G50,IF(C50=U13,G50,IF(C56=U13,G58,IF(C58=U13,G58,IF(C64=U13,G66,IF(C66=U13,G66)))))))))))))))),"") | V21: =IF(U21="","",VLOOKUP(U21,LISTAS!$F$5:$G$204,2,0)) | W21: =IF(S21="","",IF(S21=1,400,IF(S21=2,340,IF(S21=3,300,IF(S21=4,280,IF(S21=5,270,IF(S21=6,260,IF(S21=7,250,IF(S21=8,240,IF(S21=9,200,IF(S21=10,200,IF(S21=11,200,IF(S21=12,200,IF(S21=13,200,IF(S21=14,200,IF(S21=15,200,IF(S21=16,200,IF(S21>16,"","")))))))))))))))))) | X21: =IF(S21="","",IF($V$5="NÃO","",IF(S21=1,400,IF(S21=2,340,IF(S21=3,300,IF(S21=4,280,IF(S21=5,270,IF(S21=6,260,IF(S21=7,250,IF(S21=8,240,IF(S21=9,200,IF(S21=10,200,IF(S21=11,200,IF(S21=12,200,IF(S21=13,200,IF(S21=14,200,IF(S21=15,200,IF(S21=16,200,IF(S21>16,"","")))))))))))))))))))
K22: =IF(H28<>"",IF(H30<>"",IF(H28=H30,"",IF(H28>H30,G28,G30)),""),"") -> MIGUEL, ENZO, GABRIEL, RAFAEL | L22: 0 | M22: =IF(L22<>"",L22,"") -> 0 | N22: =IF(L22<>"",IF(K22="","",K22),"") -> MIGUEL, ENZO, GABRIEL, RAFAEL | O22: =VLOOKUP(O20,M20:N22,2,0) -> MIGUEL, ENZO, GABRIEL, RAFAEL | S22: =IF(U22<>"",1+COUNTIF(S8:S21,"1")+COUNTIF(S8:S21,"2")+COUNTIF(S8:S21,"3")+COUNTIF(S8:S21,"4")+COUNTIF(S8:S21,"5")+COUNTIF(S8:S21,"6")+COUNTIF(S8:S21,"7")+COUNTIF(S8:S21,"8")+COUNTIF(S8:S21,"9")+COUNTIF(S8:S21,"10")+COUNTIF(S8:S21,"11")+COUNTIF(S8:S21,"12")+COUNTIF(S8:S21,"13")+COUNTIF(S8:S21,"14"),"") | T22: =IF(S22<>"","LUGAR","") | U22: =IF(U14<>"",IF(C8=U14,G10,IF(C10=U14,G10,IF(C16=U14,G18,IF(C18=U14,G18,IF(C24=U14,G26,IF(C26=U14,G26,IF(C32=U14,G34,IF(C34=U14,G34,IF(C40=U14,G42,IF(C42=U14,G42,IF(C48=U14,G50,IF(C50=U14,G50,IF(C56=U14,G58,IF(C58=U14,G58,IF(C64=U14,G66,IF(C66=U14,G66)))))))))))))))),"") | V22: =IF(U22="","",VLOOKUP(U22,LISTAS!$F$5:$G$204,2,0)) | W22: =IF(S22="","",IF(S22=1,400,IF(S22=2,340,IF(S22=3,300,IF(S22=4,280,IF(S22=5,270,IF(S22=6,260,IF(S22=7,250,IF(S22=8,240,IF(S22=9,200,IF(S22=10,200,IF(S22=11,200,IF(S22=12,200,IF(S22=13,200,IF(S22=14,200,IF(S22=15,200,IF(S22=16,200,IF(S22>16,"","")))))))))))))))))) | X22: =IF(S22="","",IF($V$5="NÃO","",IF(S22=1,400,IF(S22=2,340,IF(S22=3,300,IF(S22=4,280,IF(S22=5,270,IF(S22=6,260,IF(S22=7,250,IF(S22=8,240,IF(S22=9,200,IF(S22=10,200,IF(S22=11,200,IF(S22=12,200,IF(S22=13,200,IF(S22=14,200,IF(S22=15,200,IF(S22=16,200,IF(S22>16,"","")))))))))))))))))))
K23: =IF(K22="","",VLOOKUP(K22,LISTAS!$F$5:$G$204,2,0)) -> STAGIUM - DIAD | S23: =IF(U23<>"",1+COUNTIF(S8:S22,"1")+COUNTIF(S8:S22,"2")+COUNTIF(S8:S22,"3")+COUNTIF(S8:S22,"4")+COUNTIF(S8:S22,"5")+COUNTIF(S8:S22,"6")+COUNTIF(S8:S22,"7")+COUNTIF(S8:S22,"8")+COUNTIF(S8:S22,"9")+COUNTIF(S8:S22,"10")+COUNTIF(S8:S22,"11")+COUNTIF(S8:S22,"12")+COUNTIF(S8:S22,"13")+COUNTIF(S8:S22,"14")+COUNTIF(S8:S22,"15"),"") | T23: =IF(S23<>"","LUGAR","") | U23: =IF(U15<>"",IF(C8=U15,G10,IF(C10=U15,G10,IF(C16=U15,G18,IF(C18=U15,G18,IF(C24=U15,G26,IF(C26=U15,G26,IF(C32=U15,G34,IF(C34=U15,G34,IF(C40=U15,G42,IF(C42=U15,G42,IF(C48=U15,G50,IF(C50=U15,G50,IF(C56=U15,G58,IF(C58=U15,G58,IF(C64=U15,G66,IF(C66=U15,G66)))))))))))))))),"") | V23: =IF(U23="","",VLOOKUP(U23,LISTAS!$F$5:$G$204,2,0)) | W23: =IF(S23="","",IF(S23=1,400,IF(S23=2,340,IF(S23=3,300,IF(S23=4,280,IF(S23=5,270,IF(S23=6,260,IF(S23=7,250,IF(S23=8,240,IF(S23=9,200,IF(S23=10,200,IF(S23=11,200,IF(S23=12,200,IF(S23=13,200,IF(S23=14,200,IF(S23=15,200,IF(S23=16,200,IF(S23>16,"","")))))))))))))))))) | X23: =IF(S23="","",IF($V$5="NÃO","",IF(S23=1,400,IF(S23=2,340,IF(S23=3,300,IF(S23=4,280,IF(S23=5,270,IF(S23=6,260,IF(S23=7,250,IF(S23=8,240,IF(S23=9,200,IF(S23=10,200,IF(S23=11,200,IF(S23=12,200,IF(S23=13,200,IF(S23=14,200,IF(S23=15,200,IF(S23=16,200,IF(S23>16,"","")))))))))))))))))))
B24: 6 | C24: HENRIQUE, LORENZO, LUCAS, VINICIUS | D24: 1 | E24: =IF(D24<>"",D24,"") -> 1 | F24: =IF(D24<>"",IF(C24="","",C24),"") -> HENRIQUE, LORENZO, LUCAS, VINICIUS | G24: =IF(E24<>"",IF(E26<>"",SMALL(E24:F26,1),""),"") -> 0
C25: =IF(C24="","",VLOOKUP(C24,LISTAS!$F$5:$G$204,2,0)) -> LICEU JARDIM
B26: 11 | D26: 0 | E26: =IF(D26<>"",D26,"") -> 0 | F26: =IF(D26<>"",IF(C26="","",C26),"") | G26: =VLOOKUP(G24,E24:F26,2,0)
C27: =IF(C26="","",VLOOKUP(C26,LISTAS!$F$5:$G$204,2,0))
G28: =IF(D24<>"",IF(D26<>"",IF(D24=D26,"",IF(D24>D26,C24,C26)),""),"") -> HENRIQUE, LORENZO, LUCAS, VINICIUS | H28: 0 | I28: =IF(H28<>"",H28,"") -> 0 | J28: =IF(H28<>"",IF(G28="","",G28),"") -> HENRIQUE, LORENZO, LUCAS, VINICIUS | K28: =IF(I28<>"",IF(I30<>"",SMALL(I28:J30,1),""),"") -> 0
G29: =IF(G28="","",VLOOKUP(G28,LISTAS!$F$5:$G$204,2,0)) -> LICEU JARDIM
G30: =IF(D32<>"",IF(D34<>"",IF(D32=D34,"",IF(D32>D34,C32,C34)),""),"") -> MIGUEL, ENZO, GABRIEL, RAFAEL | H30: 1 | I30: =IF(H30<>"",H30,"") -> 1 | J30: =IF(H30<>"",IF(G30="","",G30),"") -> MIGUEL, ENZO, GABRIEL, RAFAEL | K30: =VLOOKUP(K28,I28:J30,2,0) -> HENRIQUE, LORENZO, LUCAS, VINICIUS
G31: =IF(G30="","",VLOOKUP(G30,LISTAS!$F$5:$G$204,2,0)) -> STAGIUM - DIAD
B32: 4 | C32: MIGUEL, ENZO, GABRIEL, RAFAEL | D32: 1 | E32: =IF(D32<>"",D32,"") -> 1 | F32: =IF(D32<>"",IF(C32="","",C32),"") -> MIGUEL, ENZO, GABRIEL, RAFAEL | G32: =IF(E32<>"",IF(E34<>"",SMALL(E32:F34,1),""),"") -> 0
C33: =IF(C32="","",VLOOKUP(C32,LISTAS!$F$5:$G$204,2,0)) -> STAGIUM - DIAD
B34: 13 | D34: 0 | E34: =IF(D34<>"",D34,"") -> 0 | F34: =IF(D34<>"",IF(C34="","",C34),"") | G34: =VLOOKUP(G32,E32:F34,2,0)
C35: =IF(C34="","",VLOOKUP(C34,LISTAS!$F$5:$G$204,2,0))
O36: =IF(L20<>"",IF(L22<>"",IF(L20=L22,"",IF(L20>L22,K20,K22)),""),"") -> CRISTIANO, VITOR, JOÃO, LORENZO | P36: 1
O37: =IF(O36="","",VLOOKUP(O36,LISTAS!$F$5:$G$204,2,0)) -> LICEU JARDIM
O38: =IF(L52<>"",IF(L54<>"",IF(L52=L54,"",IF(L52>L54,K52,K54)),""),"") -> LORENZO, GAEL, RICARDO | P38: 0
O39: =IF(O38="","",VLOOKUP(O38,LISTAS!$F$5:$G$204,2,0)) -> ARBOS SCS
B40: 3 | D40: 0 | E40: =IF(D40<>"",D40,"") -> 0 | F40: =IF(D40<>"",IF(C40="","",C40),"") | G40: =IF(E40<>"",IF(E42<>"",SMALL(E40:F42,1),""),"") -> 0 | V40: =IF(U40="","",VLOOKUP(U40,LISTAS!$F$5:$G$204,2,0)) | W40: =IF(S40="","",IF(S40=1,400,IF(S40=2,340,IF(S40=3,300,IF(S40=4,280,IF(S40=5,270,IF(S40=6,260,IF(S40=7,250,IF(S40=8,240,IF(S40=9,200,IF(S40=10,200,IF(S40=11,200,IF(S40=12,200,IF(S40=13,200,IF(S40=14,200,IF(S40=15,200,IF(S40=16,200,IF(S40>16,"","")))))))))))))))))) | X40: =IF(S40="","",IF($V$5="NÃO","",IF(S40=1,400,IF(S40=2,340,IF(S40=3,300,IF(S40=4,280,IF(S40=5,270,IF(S40=6,260,IF(S40=7,250,IF(S40=8,240,IF(S40=9,200,IF(S40=10,200,IF(S40=11,200,IF(S40=12,200,IF(S40=13,200,IF(S40=14,200,IF(S40=15,200,IF(S40=16,200,IF(S40>16,"","")))))))))))))))))))
C41: =IF(C40="","",VLOOKUP(C40,LISTAS!$F$5:$G$204,2,0))
B42: 14 | C42: GUILHERME, GUILHERME, MATHEUS | D42: 1 | E42: =IF(D42<>"",D42,"") -> 1 | F42: =IF(D42<>"",IF(C42="","",C42),"") -> GUILHERME, GUILHERME, MATHEUS | G42: =VLOOKUP(G40,E40:F42,2,0) | V42: =IF(U42="","",VLOOKUP(U42,LISTAS!$F$5:$G$204,2,0)) | W42: =IF(S42="","",IF(S42=1,400,IF(S42=2,340,IF(S42=3,300,IF(S42=4,280,IF(S42=5,270,IF(S42=6,260,IF(S42=7,250,IF(S42=8,240,IF(S42=9,200,IF(S42=10,200,IF(S42=11,200,IF(S42=12,200,IF(S42=13,200,IF(S42=14,200,IF(S42=15,200,IF(S42=16,200,IF(S42>16,"","")))))))))))))))))) | X42: =IF(S42="","",IF($V$5="NÃO","",IF(S42=1,400,IF(S42=2,340,IF(S42=3,300,IF(S42=4,280,IF(S42=5,270,IF(S42=6,260,IF(S42=7,250,IF(S42=8,240,IF(S42=9,200,IF(S42=10,200,IF(S42=11,200,IF(S42=12,200,IF(S42=13,200,IF(S42=14,200,IF(S42=15,200,IF(S42=16,200,IF(S42>16,"","")))))))))))))))))))
C43: =IF(C42="","",VLOOKUP(C42,LISTAS!$F$5:$G$204,2,0)) -> ARBOS S.A
G44: =IF(D40<>"",IF(D42<>"",IF(D40=D42,"",IF(D40>D42,C40,C42)),""),"") -> GUILHERME, GUILHERME, MATHEUS | H44: 1 | I44: =IF(H44<>"",H44,"") -> 1 | J44: =IF(H44<>"",IF(G44="","",G44),"") -> GUILHERME, GUILHERME, MATHEUS | K44: =IF(I44<>"",IF(I46<>"",SMALL(I44:J46,1),""),"") -> 0 | V44: =IF(U44="","",VLOOKUP(U44,LISTAS!$F$5:$G$204,2,0)) | W44: =IF(S44="","",IF(S44=1,400,IF(S44=2,340,IF(S44=3,300,IF(S44=4,280,IF(S44=5,270,IF(S44=6,260,IF(S44=7,250,IF(S44=8,240,IF(S44=9,200,IF(S44=10,200,IF(S44=11,200,IF(S44=12,200,IF(S44=13,200,IF(S44=14,200,IF(S44=15,200,IF(S44=16,200,IF(S44>16,"","")))))))))))))))))) | X44: =IF(S44="","",IF($V$5="NÃO","",IF(S44=1,400,IF(S44=2,340,IF(S44=3,300,IF(S44=4,280,IF(S44=5,270,IF(S44=6,260,IF(S44=7,250,IF(S44=8,240,IF(S44=9,200,IF(S44=10,200,IF(S44=11,200,IF(S44=12,200,IF(S44=13,200,IF(S44=14,200,IF(S44=15,200,IF(S44=16,200,IF(S44>16,"","")))))))))))))))))))
G45: =IF(G44="","",VLOOKUP(G44,LISTAS!$F$5:$G$204,2,0)) -> ARBOS S.A
G46: =IF(D48<>"",IF(D50<>"",IF(D48=D50,"",IF(D48>D50,C48,C50)),""),"") -> LORENZO, RAFAEL, LEONARDO | H46: 0 | I46: =IF(H46<>"",H46,"") -> 0 | J46: =IF(H46<>"",IF(G46="","",G46),"") -> LORENZO, RAFAEL, LEONARDO | K46: =VLOOKUP(K44,I44:J46,2,0) -> LORENZO, RAFAEL, LEONARDO | V46: =IF(U46="","",VLOOKUP(U46,LISTAS!$F$5:$G$204,2,0)) | W46: =IF(S46="","",IF(S46=1,400,IF(S46=2,340,IF(S46=3,300,IF(S46=4,280,IF(S46=5,270,IF(S46=6,260,IF(S46=7,250,IF(S46=8,240,IF(S46=9,200,IF(S46=10,200,IF(S46=11,200,IF(S46=12,200,IF(S46=13,200,IF(S46=14,200,IF(S46=15,200,IF(S46=16,200,IF(S46>16,"","")))))))))))))))))) | X46: =IF(S46="","",IF($V$5="NÃO","",IF(S46=1,400,IF(S46=2,340,IF(S46=3,300,IF(S46=4,280,IF(S46=5,270,IF(S46=6,260,IF(S46=7,250,IF(S46=8,240,IF(S46=9,200,IF(S46=10,200,IF(S46=11,200,IF(S46=12,200,IF(S46=13,200,IF(S46=14,200,IF(S46=15,200,IF(S46=16,200,IF(S46>16,"","")))))))))))))))))))
G47: =IF(G46="","",VLOOKUP(G46,LISTAS!$F$5:$G$204,2,0)) -> VILLARE - SCS
B48: 5 | C48: LORENZO, RAFAEL, LEONARDO | D48: 1 | E48: =IF(D48<>"",D48,"") -> 1 | F48: =IF(D48<>"",IF(C48="","",C48),"") -> LORENZO, RAFAEL, LEONARDO | G48: =IF(E48<>"",IF(E50<>"",SMALL(E48:F50,1),""),"") -> 0 | V48: =IF(U48="","",VLOOKUP(U48,LISTAS!$F$5:$G$204,2,0)) | W48: =IF(S48="","",IF(S48=1,400,IF(S48=2,340,IF(S48=3,300,IF(S48=4,280,IF(S48=5,270,IF(S48=6,260,IF(S48=7,250,IF(S48=8,240,IF(S48=9,200,IF(S48=10,200,IF(S48=11,200,IF(S48=12,200,IF(S48=13,200,IF(S48=14,200,IF(S48=15,200,IF(S48=16,200,IF(S48>16,"","")))))))))))))))))) | X48: =IF(S48="","",IF($V$5="NÃO","",IF(S48=1,400,IF(S48=2,340,IF(S48=3,300,IF(S48=4,280,IF(S48=5,270,IF(S48=6,260,IF(S48=7,250,IF(S48=8,240,IF(S48=9,200,IF(S48=10,200,IF(S48=11,200,IF(S48=12,200,IF(S48=13,200,IF(S48=14,200,IF(S48=15,200,IF(S48=16,200,IF(S48>16,"","")))))))))))))))))))
C49: =IF(C48="","",VLOOKUP(C48,LISTAS!$F$5:$G$204,2,0)) -> VILLARE - SCS
B50: 12 | D50: 0 | E50: =IF(D50<>"",D50,"") -> 0 | F50: =IF(D50<>"",IF(C50="","",C50),"") | G50: =VLOOKUP(G48,E48:F50,2,0) | V50: =IF(U50="","",VLOOKUP(U50,LISTAS!$F$5:$G$204,2,0)) | W50: =IF(S50="","",IF(S50=1,400,IF(S50=2,340,IF(S50=3,300,IF(S50=4,280,IF(S50=5,270,IF(S50=6,260,IF(S50=7,250,IF(S50=8,240,IF(S50=9,200,IF(S50=10,200,IF(S50=11,200,IF(S50=12,200,IF(S50=13,200,IF(S50=14,200,IF(S50=15,200,IF(S50=16,200,IF(S50>16,"","")))))))))))))))))) | X50: =IF(S50="","",IF($V$5="NÃO","",IF(S50=1,400,IF(S50=2,340,IF(S50=3,300,IF(S50=4,280,IF(S50=5,270,IF(S50=6,260,IF(S50=7,250,IF(S50=8,240,IF(S50=9,200,IF(S50=10,200,IF(S50=11,200,IF(S50=12,200,IF(S50=13,200,IF(S50=14,200,IF(S50=15,200,IF(S50=16,200,IF(S50>16,"","")))))))))))))))))))
C51: =IF(C50="","",VLOOKUP(C50,LISTAS!$F$5:$G$204,2,0))
K52: =IF(H44<>"",IF(H46<>"",IF(H44=H46,"",IF(H44>H46,G44,G46)),""),"") -> GUILHERME, GUILHERME, MATHEUS | L52: 0 | M52: =IF(L52<>"",L52,"") -> 0 | N52: =IF(L52<>"",IF(K52="","",K52),"") -> GUILHERME, GUILHERME, MATHEUS | O52: =IF(M52<>"",IF(M54<>"",SMALL(M52:N54,1),""),"") -> 0 | V52: =IF(U52="","",VLOOKUP(U52,LISTAS!$F$5:$G$204,2,0)) | W52: =IF(S52="","",IF(S52=1,400,IF(S52=2,340,IF(S52=3,300,IF(S52=4,280,IF(S52=5,270,IF(S52=6,260,IF(S52=7,250,IF(S52=8,240,IF(S52=9,200,IF(S52=10,200,IF(S52=11,200,IF(S52=12,200,IF(S52=13,200,IF(S52=14,200,IF(S52=15,200,IF(S52=16,200,IF(S52>16,"","")))))))))))))))))) | X52: =IF(S52="","",IF($V$5="NÃO","",IF(S52=1,400,IF(S52=2,340,IF(S52=3,300,IF(S52=4,280,IF(S52=5,270,IF(S52=6,260,IF(S52=7,250,IF(S52=8,240,IF(S52=9,200,IF(S52=10,200,IF(S52=11,200,IF(S52=12,200,IF(S52=13,200,IF(S52=14,200,IF(S52=15,200,IF(S52=16,200,IF(S52>16,"","")))))))))))))))))))
K53: =IF(K52="","",VLOOKUP(K52,LISTAS!$F$5:$G$204,2,0)) -> ARBOS S.A
K54: =IF(H60<>"",IF(H62<>"",IF(H60=H62,"",IF(H60>H62,G60,G62)),""),"") -> LORENZO, GAEL, RICARDO | L54: 1 | M54: =IF(L54<>"",L54,"") -> 1 | N54: =IF(L54<>"",IF(K54="","",K54),"") -> LORENZO, GAEL, RICARDO | O54: =VLOOKUP(O52,M52:N54,2,0) -> GUILHERME, GUILHERME, MATHEUS | V54: =IF(U54="","",VLOOKUP(U54,LISTAS!$F$5:$G$204,2,0)) | W54: =IF(S54="","",IF(S54=1,400,IF(S54=2,340,IF(S54=3,300,IF(S54=4,280,IF(S54=5,270,IF(S54=6,260,IF(S54=7,250,IF(S54=8,240,IF(S54=9,200,IF(S54=10,200,IF(S54=11,200,IF(S54=12,200,IF(S54=13,200,IF(S54=14,200,IF(S54=15,200,IF(S54=16,200,IF(S54>16,"","")))))))))))))))))) | X54: =IF(S54="","",IF($V$5="NÃO","",IF(S54=1,400,IF(S54=2,340,IF(S54=3,300,IF(S54=4,280,IF(S54=5,270,IF(S54=6,260,IF(S54=7,250,IF(S54=8,240,IF(S54=9,200,IF(S54=10,200,IF(S54=11,200,IF(S54=12,200,IF(S54=13,200,IF(S54=14,200,IF(S54=15,200,IF(S54=16,200,IF(S54>16,"","")))))))))))))))))))
K55: =IF(K54="","",VLOOKUP(K54,LISTAS!$F$5:$G$204,2,0)) -> ARBOS SCS
B56: 8 | D56: 0 | E56: Q | F56: =IF(D56<>"",IF(C56="","",C56),"") | G56: =IF(E56<>"",IF(E58<>"",SMALL(E56:F58,1),""),"") -> 0 | V56: =IF(U56="","",VLOOKUP(U56,LISTAS!$F$5:$G$204,2,0)) | W56: =IF(S56="","",IF(S56=1,400,IF(S56=2,340,IF(S56=3,300,IF(S56=4,280,IF(S56=5,270,IF(S56=6,260,IF(S56=7,250,IF(S56=8,240,IF(S56=9,200,IF(S56=10,200,IF(S56=11,200,IF(S56=12,200,IF(S56=13,200,IF(S56=14,200,IF(S56=15,200,IF(S56=16,200,IF(S56>16,"","")))))))))))))))))) | X56: =IF(S56="","",IF($V$5="NÃO","",IF(S56=1,400,IF(S56=2,340,IF(S56=3,300,IF(S56=4,280,IF(S56=5,270,IF(S56=6,260,IF(S56=7,250,IF(S56=8,240,IF(S56=9,200,IF(S56=10,200,IF(S56=11,200,IF(S56=12,200,IF(S56=13,200,IF(S56=14,200,IF(S56=15,200,IF(S56=16,200,IF(S56>16,"","")))))))))))))))))))
C57: =IF(C56="","",VLOOKUP(C56,LISTAS!$F$5:$G$204,2,0))
B58: 10 | D58: 0 | E58: =IF(D58<>"",D58,"") -> 0 | F58: =IF(D58<>"",IF(C58="","",C58),"") | G58: =VLOOKUP(G56,E56:F58,2,0) | V58: =IF(U58="","",VLOOKUP(U58,LISTAS!$F$5:$G$204,2,0)) | W58: =IF(S58="","",IF(S58=1,400,IF(S58=2,340,IF(S58=3,300,IF(S58=4,280,IF(S58=5,270,IF(S58=6,260,IF(S58=7,250,IF(S58=8,240,IF(S58=9,200,IF(S58=10,200,IF(S58=11,200,IF(S58=12,200,IF(S58=13,200,IF(S58=14,200,IF(S58=15,200,IF(S58=16,200,IF(S58>16,"","")))))))))))))))))) | X58: =IF(S58="","",IF($V$5="NÃO","",IF(S58=1,400,IF(S58=2,340,IF(S58=3,300,IF(S58=4,280,IF(S58=5,270,IF(S58=6,260,IF(S58=7,250,IF(S58=8,240,IF(S58=9,200,IF(S58=10,200,IF(S58=11,200,IF(S58=12,200,IF(S58=13,200,IF(S58=14,200,IF(S58=15,200,IF(S58=16,200,IF(S58>16,"","")))))))))))))))))))
C59: =IF(C58="","",VLOOKUP(C58,LISTAS!$F$5:$G$204,2,0))
G60: =IF(D56<>"",IF(D58<>"",IF(D56=D58,"",IF(D56>D58,C56,C58)),""),"") | H60: 0 | I60: =IF(H60<>"",H60,"") -> 0 | J60: =IF(H60<>"",IF(G60="","",G60),"") | K60: =IF(I60<>"",IF(I62<>"",SMALL(I60:J62,1),""),"") -> 0 | V60: =IF(U60="","",VLOOKUP(U60,LISTAS!$F$5:$G$204,2,0)) | W60: =IF(S60="","",IF(S60=1,400,IF(S60=2,340,IF(S60=3,300,IF(S60=4,280,IF(S60=5,270,IF(S60=6,260,IF(S60=7,250,IF(S60=8,240,IF(S60=9,200,IF(S60=10,200,IF(S60=11,200,IF(S60=12,200,IF(S60=13,200,IF(S60=14,200,IF(S60=15,200,IF(S60=16,200,IF(S60>16,"","")))))))))))))))))) | X60: =IF(S60="","",IF($V$5="NÃO","",IF(S60=1,400,IF(S60=2,340,IF(S60=3,300,IF(S60=4,280,IF(S60=5,270,IF(S60=6,260,IF(S60=7,250,IF(S60=8,240,IF(S60=9,200,IF(S60=10,200,IF(S60=11,200,IF(S60=12,200,IF(S60=13,200,IF(S60=14,200,IF(S60=15,200,IF(S60=16,200,IF(S60>16,"","")))))))))))))))))))
G61: =IF(G60="","",VLOOKUP(G60,LISTAS!$F$5:$G$204,2,0))
G62: =IF(D64<>"",IF(D66<>"",IF(D64=D66,"",IF(D64>D66,C64,C66)),""),"") -> LORENZO, GAEL, RICARDO | H62: 1 | I62: =IF(H62<>"",H62,"") -> 1 | J62: =IF(H62<>"",IF(G62="","",G62),"") -> LORENZO, GAEL, RICARDO | K62: =VLOOKUP(K60,I60:J62,2,0) | V62: =IF(U62="","",VLOOKUP(U62,LISTAS!$F$5:$G$204,2,0)) | W62: =IF(S62="","",IF(S62=1,400,IF(S62=2,340,IF(S62=3,300,IF(S62=4,280,IF(S62=5,270,IF(S62=6,260,IF(S62=7,250,IF(S62=8,240,IF(S62=9,200,IF(S62=10,200,IF(S62=11,200,IF(S62=12,200,IF(S62=13,200,IF(S62=14,200,IF(S62=15,200,IF(S62=16,200,IF(S62>16,"","")))))))))))))))))) | X62: =IF(S62="","",IF($V$5="NÃO","",IF(S62=1,400,IF(S62=2,340,IF(S62=3,300,IF(S62=4,280,IF(S62=5,270,IF(S62=6,260,IF(S62=7,250,IF(S62=8,240,IF(S62=9,200,IF(S62=10,200,IF(S62=11,200,IF(S62=12,200,IF(S62=13,200,IF(S62=14,200,IF(S62=15,200,IF(S62=16,200,IF(S62>16,"","")))))))))))))))))))
G63: =IF(G62="","",VLOOKUP(G62,LISTAS!$F$5:$G$204,2,0)) -> ARBOS SCS
B64: 2 | C64: LORENZO, GAEL, RICARDO | D64: 1 | E64: =IF(D64<>"",D64,"") -> 1 | F64: =IF(D64<>"",IF(C64="","",C64),"") -> LORENZO, GAEL, RICARDO | G64: =IF(E64<>"",IF(E66<>"",SMALL(E64:F66,1),""),"") -> 0 | V64: =IF(U64="","",VLOOKUP(U64,LISTAS!$F$5:$G$204,2,0)) | W64: =IF(S64="","",IF(S64=1,400,IF(S64=2,340,IF(S64=3,300,IF(S64=4,280,IF(S64=5,270,IF(S64=6,260,IF(S64=7,250,IF(S64=8,240,IF(S64=9,200,IF(S64=10,200,IF(S64=11,200,IF(S64=12,200,IF(S64=13,200,IF(S64=14,200,IF(S64=15,200,IF(S64=16,200,IF(S64>16,"","")))))))))))))))))) | X64: =IF(S64="","",IF($V$5="NÃO","",IF(S64=1,400,IF(S64=2,340,IF(S64=3,300,IF(S64=4,280,IF(S64=5,270,IF(S64=6,260,IF(S64=7,250,IF(S64=8,240,IF(S64=9,200,IF(S64=10,200,IF(S64=11,200,IF(S64=12,200,IF(S64=13,200,IF(S64=14,200,IF(S64=15,200,IF(S64=16,200,IF(S64>16,"","")))))))))))))))))))
C65: =IF(C64="","",VLOOKUP(C64,LISTAS!$F$5:$G$204,2,0)) -> ARBOS SCS
B66: 15 | D66: 0 | E66: =IF(D66<>"",D66,"") -> 0 | F66: =IF(D66<>"",IF(C66="","",C66),"") | G66: =VLOOKUP(G64,E64:F66,2,0) | V66: =IF(U66="","",VLOOKUP(U66,LISTAS!$F$5:$G$204,2,0)) | W66: =IF(S66="","",IF(S66=1,400,IF(S66=2,340,IF(S66=3,300,IF(S66=4,280,IF(S66=5,270,IF(S66=6,260,IF(S66=7,250,IF(S66=8,240,IF(S66=9,200,IF(S66=10,200,IF(S66=11,200,IF(S66=12,200,IF(S66=13,200,IF(S66=14,200,IF(S66=15,200,IF(S66=16,200,IF(S66>16,"","")))))))))))))))))) | X66: =IF(S66="","",IF($V$5="NÃO","",IF(S66=1,400,IF(S66=2,340,IF(S66=3,300,IF(S66=4,280,IF(S66=5,270,IF(S66=6,260,IF(S66=7,250,IF(S66=8,240,IF(S66=9,200,IF(S66=10,200,IF(S66=11,200,IF(S66=12,200,IF(S66=13,200,IF(S66=14,200,IF(S66=15,200,IF(S66=16,200,IF(S66>16,"","")))))))))))))))))))
C67: =IF(C66="","",VLOOKUP(C66,LISTAS!$F$5:$G$204,2,0))
V68: =IF(U68="","",VLOOKUP(U68,LISTAS!$F$5:$G$204,2,0)) | W68: =IF(S68="","",IF(S68=1,400,IF(S68=2,340,IF(S68=3,300,IF(S68=4,280,IF(S68=5,270,IF(S68=6,260,IF(S68=7,250,IF(S68=8,240,IF(S68=9,200,IF(S68=10,200,IF(S68=11,200,IF(S68=12,200,IF(S68=13,200,IF(S68=14,200,IF(S68=15,200,IF(S68=16,200,IF(S68>16,"","")))))))))))))))))) | X68: =IF(S68="","",IF($V$5="NÃO","",IF(S68=1,400,IF(S68=2,340,IF(S68=3,300,IF(S68=4,280,IF(S68=5,270,IF(S68=6,260,IF(S68=7,250,IF(S68=8,240,IF(S68=9,200,IF(S68=10,200,IF(S68=11,200,IF(S68=12,200,IF(S68=13,200,IF(S68=14,200,IF(S68=15,200,IF(S68=16,200,IF(S68>16,"","")))))))))))))))))))
B71: S É R I E P R A T A | S71: S É R I E P R A T A
S72: CLASSIFICAÇÃO | U72: NOMES | V72: ESCOLA | W72: PONTUAÇÃO ALUNO | X72: PONTUAÇÃO ESCOLA
B73: 1 | C73: LUCAS, HEITOR, PEDRO | D73: 1 | E73: =IF(D73<>"",D73,"") -> 1 | F73: =IF(D73<>"",IF(C73="","",C73),"") -> LUCAS, HEITOR, PEDRO | G73: =IF(E73<>"",IF(E75<>"",SMALL(E73:F75,1),""),"") -> 0 | S73: =IF(U73<>"",1,"") -> 1 | T73: =IF(S73<>"","LUGAR","") -> LUGAR | U73: =IF(P101<>"",IF(P103<>"",IF(P101=P103,"",IF(P101>P103,O101,O103)),""),"") -> LUCAS, HEITOR, PEDRO | V73: =IF(U73="","",VLOOKUP(U73,LISTAS!$F$5:$G$204,2,0)) -> ARBOS SBC | W73: =IF(S73="","",IF(S73=1,400,IF(S73=2,340,IF(S73=3,300,IF(S73=4,280,IF(S73=5,270,IF(S73=6,260,IF(S73=7,250,IF(S73=8,240,IF(S73=9,200,IF(S73=10,200,IF(S73=11,200,IF(S73=12,200,IF(S73=13,200,IF(S73=14,200,IF(S73=15,200,IF(S73=16,200,IF(S73>16,"","")))))))))))))))))) -> 400 | X73: =IF(S73="","",IF($V$5="NÃO","",IF(S73=1,180,IF(S73=2,170,IF(S73=3,150,IF(S73=4,140,IF(S73=5,135,IF(S73=6,130,IF(S73=7,120,IF(S73=8,110,IF(S73=9,105,IF(S73=10,105,IF(S73=11,105,IF(S73=12,105,IF(S73=13,105,IF(S73=14,105,IF(S73=15,105,IF(S73=16,105,IF(S73>16,"",""))))))))))))))))))) -> 180
C74: =IF(C73="","",VLOOKUP(C73,LISTAS!$F$5:$G$204,2,0)) -> ARBOS SBC | S74: =IF(U74<>"",1+COUNTIF(S73,"1"),"") -> 2 | T74: =IF(S74<>"","LUGAR","") -> LUGAR | U74: =IF(P101<>"",IF(P103<>"",IF(P101=P103,"",IF(P101<P103,O101,O103)),""),"") -> LORENZO, RAFAEL, LEONARDO | V74: =IF(U74="","",VLOOKUP(U74,LISTAS!$F$5:$G$204,2,0)) -> VILLARE - SCS | W74: =IF(S74="","",IF(S74=1,400,IF(S74=2,340,IF(S74=3,300,IF(S74=4,280,IF(S74=5,270,IF(S74=6,260,IF(S74=7,250,IF(S74=8,240,IF(S74=9,200,IF(S74=10,200,IF(S74=11,200,IF(S74=12,200,IF(S74=13,200,IF(S74=14,200,IF(S74=15,200,IF(S74=16,200,IF(S74>16,"","")))))))))))))))))) -> 340 | X74: =IF(S74="","",IF($V$5="NÃO","",IF(S74=1,180,IF(S74=2,170,IF(S74=3,150,IF(S74=4,140,IF(S74=5,135,IF(S74=6,130,IF(S74=7,120,IF(S74=8,110,IF(S74=9,105,IF(S74=10,105,IF(S74=11,105,IF(S74=12,105,IF(S74=13,105,IF(S74=14,105,IF(S74=15,105,IF(S74=16,105,IF(S74>16,"",""))))))))))))))))))) -> 170
B75: 16 | D75: 0 | E75: =IF(D75<>"",D75,"") -> 0 | F75: =IF(D75<>"",IF(C75="","",C75),"") | G75: =VLOOKUP(G73,E73:F75,2,0) | S75: =IF(U75<>"",1+COUNTIF(S73:S74,"1")+COUNTIF(S73:S74,"2"),"") -> 3 | T75: =IF(S75<>"","LUGAR","") -> LUGAR | U75: =IF(U73<>"",IF(K85=U73,K87,IF(K87=U73,K85,IF(K117=U73,K119,IF(K119=U73,K117)))),"") -> MATHEUS, JOÃO, LUCAS | V75: =IF(U75="","",VLOOKUP(U75,LISTAS!$F$5:$G$204,2,0)) -> VILLARE - SCS | W75: =IF(S75="","",IF(S75=1,400,IF(S75=2,340,IF(S75=3,300,IF(S75=4,280,IF(S75=5,270,IF(S75=6,260,IF(S75=7,250,IF(S75=8,240,IF(S75=9,200,IF(S75=10,200,IF(S75=11,200,IF(S75=12,200,IF(S75=13,200,IF(S75=14,200,IF(S75=15,200,IF(S75=16,200,IF(S75>16,"","")))))))))))))))))) -> 300 | X75: =IF(S75="","",IF($V$5="NÃO","",IF(S75=1,180,IF(S75=2,170,IF(S75=3,150,IF(S75=4,140,IF(S75=5,135,IF(S75=6,130,IF(S75=7,120,IF(S75=8,110,IF(S75=9,105,IF(S75=10,105,IF(S75=11,105,IF(S75=12,105,IF(S75=13,105,IF(S75=14,105,IF(S75=15,105,IF(S75=16,105,IF(S75>16,"",""))))))))))))))))))) -> 150
C76: =IF(C75="","",VLOOKUP(C75,LISTAS!$F$5:$G$204,2,0)) | S76: =IF(U76<>"",1+COUNTIF(S73:S75,"1")+COUNTIF(S73:S75,"2")+COUNTIF(S73:S75,"3"),"") -> 4 | T76: =IF(S76<>"","LUGAR","") -> LUGAR | U76: =IF(U74<>"",IF(K85=U74,K87,IF(K87=U74,K85,IF(K117=U74,K119,IF(K119=U74,K117)))),"") -> HENRIQUE, JOÃO, LEANDRO | V76: =IF(U76="","",VLOOKUP(U76,LISTAS!$F$5:$G$204,2,0)) -> ARBOS S.A | W76: =IF(S76="","",IF(S76=1,400,IF(S76=2,340,IF(S76=3,300,IF(S76=4,280,IF(S76=5,270,IF(S76=6,260,IF(S76=7,250,IF(S76=8,240,IF(S76=9,200,IF(S76=10,200,IF(S76=11,200,IF(S76=12,200,IF(S76=13,200,IF(S76=14,200,IF(S76=15,200,IF(S76=16,200,IF(S76>16,"","")))))))))))))))))) -> 280 | X76: =IF(S76="","",IF($V$5="NÃO","",IF(S76=1,180,IF(S76=2,170,IF(S76=3,150,IF(S76=4,140,IF(S76=5,135,IF(S76=6,130,IF(S76=7,120,IF(S76=8,110,IF(S76=9,105,IF(S76=10,105,IF(S76=11,105,IF(S76=12,105,IF(S76=13,105,IF(S76=14,105,IF(S76=15,105,IF(S76=16,105,IF(S76>16,"",""))))))))))))))))))) -> 140
G77: =IF(D73<>"",IF(D75<>"",IF(D73=D75,"",IF(D73>D75,C73,C75)),""),"") -> LUCAS, HEITOR, PEDRO | H77: 1 | I77: =IF(H77<>"",H77,"") -> 1 | J77: =IF(H77<>"",IF(G77="","",G77),"") -> LUCAS, HEITOR, PEDRO | K77: =IF(I77<>"",IF(I79<>"",SMALL(I77:J79,1),""),"") -> 0 | S77: =IF(U77<>"",1+COUNTIF(S73:S76,"1")+COUNTIF(S73:S76,"2")+COUNTIF(S73:S76,"3")+COUNTIF(S73:S76,"4"),"") | T77: =IF(S77<>"","LUGAR","") | U77: =IF(U73<>"",IF(G77=U73,G79,IF(G79=U73,G77,IF(G93=U73,G95,IF(G95=U73,G93,IF(G109=U73,G111,IF(G111=U73,G109,IF(G125=U73,G127,IF(G127=U73,G125)))))))),"") | V77: =IF(U77="","",VLOOKUP(U77,LISTAS!$F$5:$G$204,2,0)) | W77: =IF(S77="","",IF(S77=1,400,IF(S77=2,340,IF(S77=3,300,IF(S77=4,280,IF(S77=5,270,IF(S77=6,260,IF(S77=7,250,IF(S77=8,240,IF(S77=9,200,IF(S77=10,200,IF(S77=11,200,IF(S77=12,200,IF(S77=13,200,IF(S77=14,200,IF(S77=15,200,IF(S77=16,200,IF(S77>16,"","")))))))))))))))))) | X77: =IF(S77="","",IF($V$5="NÃO","",IF(S77=1,180,IF(S77=2,170,IF(S77=3,150,IF(S77=4,140,IF(S77=5,135,IF(S77=6,130,IF(S77=7,120,IF(S77=8,110,IF(S77=9,105,IF(S77=10,105,IF(S77=11,105,IF(S77=12,105,IF(S77=13,105,IF(S77=14,105,IF(S77=15,105,IF(S77=16,105,IF(S77>16,"","")))))))))))))))))))
G78: =IF(G77="","",VLOOKUP(G77,LISTAS!$F$5:$G$204,2,0)) -> ARBOS SBC | S78: =IF(U78<>"",1+COUNTIF(S73:S77,"1")+COUNTIF(S73:S77,"2")+COUNTIF(S73:S77,"3")+COUNTIF(S73:S77,"4")+COUNTIF(S73:S77,"5"),"") | T78: =IF(S78<>"","LUGAR","") | U78: =IF(U74<>"",IF(G77=U74,G79,IF(G79=U74,G77,IF(G93=U74,G95,IF(G95=U74,G93,IF(G109=U74,G111,IF(G111=U74,G109,IF(G125=U74,G127,IF(G127=U74,G125)))))))),"") | V78: =IF(U78="","",VLOOKUP(U78,LISTAS!$F$5:$G$204,2,0)) | W78: =IF(S78="","",IF(S78=1,400,IF(S78=2,340,IF(S78=3,300,IF(S78=4,280,IF(S78=5,270,IF(S78=6,260,IF(S78=7,250,IF(S78=8,240,IF(S78=9,200,IF(S78=10,200,IF(S78=11,200,IF(S78=12,200,IF(S78=13,200,IF(S78=14,200,IF(S78=15,200,IF(S78=16,200,IF(S78>16,"","")))))))))))))))))) | X78: =IF(S78="","",IF($V$5="NÃO","",IF(S78=1,180,IF(S78=2,170,IF(S78=3,150,IF(S78=4,140,IF(S78=5,135,IF(S78=6,130,IF(S78=7,120,IF(S78=8,110,IF(S78=9,105,IF(S78=10,105,IF(S78=11,105,IF(S78=12,105,IF(S78=13,105,IF(S78=14,105,IF(S78=15,105,IF(S78=16,105,IF(S78>16,"","")))))))))))))))))))
G79: =IF(D81<>"",IF(D83<>"",IF(D81=D83,"",IF(D81>D83,C81,C83)),""),"") | H79: 0 | I79: =IF(H79<>"",H79,"") -> 0 | J79: =IF(H79<>"",IF(G79="","",G79),"") | K79: =VLOOKUP(K77,I77:J79,2,0) | S79: =IF(U79<>"",1+COUNTIF(S73:S78,"1")+COUNTIF(S73:S78,"2")+COUNTIF(S73:S78,"3")+COUNTIF(S73:S78,"4")+COUNTIF(S73:S78,"5")+COUNTIF(S73:S78,"6"),"") -> 5 | T79: =IF(S79<>"","LUGAR","") -> LUGAR | U79: =IF(U75<>"",IF(G77=U75,G79,IF(G79=U75,G77,IF(G93=U75,G95,IF(G95=U75,G93,IF(G109=U75,G111,IF(G111=U75,G109,IF(G125=U75,G127,IF(G127=U75,G125)))))))),"") -> LUIS, GUILHERME, LEONARDO, ENZO | V79: =IF(U79="","",VLOOKUP(U79,LISTAS!$F$5:$G$204,2,0)) -> ARBOS SBC | W79: =IF(S79="","",IF(S79=1,400,IF(S79=2,340,IF(S79=3,300,IF(S79=4,280,IF(S79=5,270,IF(S79=6,260,IF(S79=7,250,IF(S79=8,240,IF(S79=9,200,IF(S79=10,200,IF(S79=11,200,IF(S79=12,200,IF(S79=13,200,IF(S79=14,200,IF(S79=15,200,IF(S79=16,200,IF(S79>16,"","")))))))))))))))))) -> 270 | X79: =IF(S79="","",IF($V$5="NÃO","",IF(S79=1,180,IF(S79=2,170,IF(S79=3,150,IF(S79=4,140,IF(S79=5,135,IF(S79=6,130,IF(S79=7,120,IF(S79=8,110,IF(S79=9,105,IF(S79=10,105,IF(S79=11,105,IF(S79=12,105,IF(S79=13,105,IF(S79=14,105,IF(S79=15,105,IF(S79=16,105,IF(S79>16,"",""))))))))))))))))))) -> 135
G80: =IF(G79="","",VLOOKUP(G79,LISTAS!$F$5:$G$204,2,0)) | S80: =IF(U80<>"",1+COUNTIF(S73:S79,"1")+COUNTIF(S73:S79,"2")+COUNTIF(S73:S79,"3")+COUNTIF(S73:S79,"4")+COUNTIF(S73:S79,"5")+COUNTIF(S73:S79,"6")+COUNTIF(S73:S79,"7"),"") | T80: =IF(S80<>"","LUGAR","") | U80: =IF(U76<>"",IF(G77=U76,G79,IF(G79=U76,G77,IF(G93=U76,G95,IF(G95=U76,G93,IF(G109=U76,G111,IF(G111=U76,G109,IF(G125=U76,G127,IF(G127=U76,G125)))))))),"") | V80: =IF(U80="","",VLOOKUP(U80,LISTAS!$F$5:$G$204,2,0)) | W80: =IF(S80="","",IF(S80=1,400,IF(S80=2,340,IF(S80=3,300,IF(S80=4,280,IF(S80=5,270,IF(S80=6,260,IF(S80=7,250,IF(S80=8,240,IF(S80=9,200,IF(S80=10,200,IF(S80=11,200,IF(S80=12,200,IF(S80=13,200,IF(S80=14,200,IF(S80=15,200,IF(S80=16,200,IF(S80>16,"","")))))))))))))))))) | X80: =IF(S80="","",IF($V$5="NÃO","",IF(S80=1,180,IF(S80=2,170,IF(S80=3,150,IF(S80=4,140,IF(S80=5,135,IF(S80=6,130,IF(S80=7,120,IF(S80=8,110,IF(S80=9,105,IF(S80=10,105,IF(S80=11,105,IF(S80=12,105,IF(S80=13,105,IF(S80=14,105,IF(S80=15,105,IF(S80=16,105,IF(S80>16,"","")))))))))))))))))))
B81: 7 | D81: 0 | E81: =IF(D81<>"",D81,"") -> 0 | F81: =IF(D81<>"",IF(C81="","",C81),"") | G81: =IF(E81<>"",IF(E83<>"",SMALL(E81:F83,1),""),"") -> 0 | S81: =IF(U81<>"",1+COUNTIF(S73:S80,"1")+COUNTIF(S73:S80,"2")+COUNTIF(S73:S80,"3")+COUNTIF(S73:S80,"4")+COUNTIF(S73:S80,"5")+COUNTIF(S73:S80,"6")+COUNTIF(S73:S80,"7")+COUNTIF(S73:S80,"8"),"") | T81: =IF(S81<>"","LUGAR","") | U81: =IF(U73<>"",IF(C73=U73,G75,IF(C75=U73,G75,IF(C81=U73,G83,IF(C83=U73,G83,IF(C89=U73,G91,IF(C91=U73,G91,IF(C97=U73,G99,IF(C99=U73,G99,IF(C105=U73,G107,IF(C107=U73,G107,IF(C113=U73,G115,IF(C115=U73,G115,IF(C121=U73,G123,IF(C123=U73,G123,IF(C129=U73,G131,IF(C131=U73,G131)))))))))))))))),"") | V81: =IF(U81="","",VLOOKUP(U81,LISTAS!$F$5:$G$204,2,0)) | W81: =IF(S81="","",IF(S81=1,400,IF(S81=2,340,IF(S81=3,300,IF(S81=4,280,IF(S81=5,270,IF(S81=6,260,IF(S81=7,250,IF(S81=8,240,IF(S81=9,200,IF(S81=10,200,IF(S81=11,200,IF(S81=12,200,IF(S81=13,200,IF(S81=14,200,IF(S81=15,200,IF(S81=16,200,IF(S81>16,"","")))))))))))))))))) | X81: =IF(S81="","",IF($V$5="NÃO","",IF(S81=1,180,IF(S81=2,170,IF(S81=3,150,IF(S81=4,140,IF(S81=5,135,IF(S81=6,130,IF(S81=7,120,IF(S81=8,110,IF(S81=9,105,IF(S81=10,105,IF(S81=11,105,IF(S81=12,105,IF(S81=13,105,IF(S81=14,105,IF(S81=15,105,IF(S81=16,105,IF(S81>16,"","")))))))))))))))))))
C82: =IF(C81="","",VLOOKUP(C81,LISTAS!$F$5:$G$204,2,0)) | S82: =IF(U82<>"",1+COUNTIF(S73:S81,"1")+COUNTIF(S73:S81,"2")+COUNTIF(S73:S81,"3")+COUNTIF(S73:S81,"4")+COUNTIF(S73:S81,"5")+COUNTIF(S73:S81,"6")+COUNTIF(S73:S81,"7")+COUNTIF(S73:S81,"8")+COUNTIF(S73:S81,"9"),"") | T82: =IF(S82<>"","LUGAR","") | U82: =IF(U74<>"",IF(C73=U74,G75,IF(C75=U74,G75,IF(C81=U74,G83,IF(C83=U74,G83,IF(C89=U74,G91,IF(C91=U74,G91,IF(C97=U74,G99,IF(C99=U74,G99,IF(C105=U74,G107,IF(C107=U74,G107,IF(C113=U74,G115,IF(C115=U74,G115,IF(C121=U74,G123,IF(C123=U74,G123,IF(C129=U74,G131,IF(C131=U74,G131)))))))))))))))),"") | V82: =IF(U82="","",VLOOKUP(U82,LISTAS!$F$5:$G$204,2,0)) | W82: =IF(S82="","",IF(S82=1,400,IF(S82=2,340,IF(S82=3,300,IF(S82=4,280,IF(S82=5,270,IF(S82=6,260,IF(S82=7,250,IF(S82=8,240,IF(S82=9,200,IF(S82=10,200,IF(S82=11,200,IF(S82=12,200,IF(S82=13,200,IF(S82=14,200,IF(S82=15,200,IF(S82=16,200,IF(S82>16,"","")))))))))))))))))) | X82: =IF(S82="","",IF($V$5="NÃO","",IF(S82=1,180,IF(S82=2,170,IF(S82=3,150,IF(S82=4,140,IF(S82=5,135,IF(S82=6,130,IF(S82=7,120,IF(S82=8,110,IF(S82=9,105,IF(S82=10,105,IF(S82=11,105,IF(S82=12,105,IF(S82=13,105,IF(S82=14,105,IF(S82=15,105,IF(S82=16,105,IF(S82>16,"","")))))))))))))))))))
B83: 9 | D83: 0 | E83: =IF(D83<>"",D83,"") -> 0 | F83: =IF(D83<>"",IF(C83="","",C83),"") | G83: =VLOOKUP(G81,E81:F83,2,0) | S83: =IF(U83<>"",1+COUNTIF(S73:S82,"1")+COUNTIF(S73:S82,"2")+COUNTIF(S73:S82,"3")+COUNTIF(S73:S82,"4")+COUNTIF(S73:S82,"5")+COUNTIF(S73:S82,"6")+COUNTIF(S73:S82,"7")+COUNTIF(S73:S82,"8")+COUNTIF(S73:S82,"9")+COUNTIF(S73:S82,"10"),"") | T83: =IF(S83<>"","LUGAR","") | U83: =IF(U75<>"",IF(C73=U75,G75,IF(C75=U75,G75,IF(C81=U75,G83,IF(C83=U75,G83,IF(C89=U75,G91,IF(C91=U75,G91,IF(C97=U75,G99,IF(C99=U75,G99,IF(C105=U75,G107,IF(C107=U75,G107,IF(C113=U75,G115,IF(C115=U75,G115,IF(C121=U75,G123,IF(C123=U75,G123,IF(C129=U75,G131,IF(C131=U75,G131)))))))))))))))),"") | V83: =IF(U83="","",VLOOKUP(U83,LISTAS!$F$5:$G$204,2,0)) | W83: =IF(S83="","",IF(S83=1,400,IF(S83=2,340,IF(S83=3,300,IF(S83=4,280,IF(S83=5,270,IF(S83=6,260,IF(S83=7,250,IF(S83=8,240,IF(S83=9,200,IF(S83=10,200,IF(S83=11,200,IF(S83=12,200,IF(S83=13,200,IF(S83=14,200,IF(S83=15,200,IF(S83=16,200,IF(S83>16,"","")))))))))))))))))) | X83: =IF(S83="","",IF($V$5="NÃO","",IF(S83=1,180,IF(S83=2,170,IF(S83=3,150,IF(S83=4,140,IF(S83=5,135,IF(S83=6,130,IF(S83=7,120,IF(S83=8,110,IF(S83=9,105,IF(S83=10,105,IF(S83=11,105,IF(S83=12,105,IF(S83=13,105,IF(S83=14,105,IF(S83=15,105,IF(S83=16,105,IF(S83>16,"","")))))))))))))))))))
C84: =IF(C83="","",VLOOKUP(C83,LISTAS!$F$5:$G$204,2,0)) | S84: =IF(U84<>"",1+COUNTIF(S73:S83,"1")+COUNTIF(S73:S83,"2")+COUNTIF(S73:S83,"3")+COUNTIF(S73:S83,"4")+COUNTIF(S73:S83,"5")+COUNTIF(S73:S83,"6")+COUNTIF(S73:S83,"7")+COUNTIF(S73:S83,"8")+COUNTIF(S73:S83,"9")+COUNTIF(S73:S83,"10")+COUNTIF(S73:S83,"11"),"") | T84: =IF(S84<>"","LUGAR","") | U84: =IF(U76<>"",IF(C73=U76,G75,IF(C75=U76,G75,IF(C81=U76,G83,IF(C83=U76,G83,IF(C89=U76,G91,IF(C91=U76,G91,IF(C97=U76,G99,IF(C99=U76,G99,IF(C105=U76,G107,IF(C107=U76,G107,IF(C113=U76,G115,IF(C115=U76,G115,IF(C121=U76,G123,IF(C123=U76,G123,IF(C129=U76,G131,IF(C131=U76,G131)))))))))))))))),"") | V84: =IF(U84="","",VLOOKUP(U84,LISTAS!$F$5:$G$204,2,0)) | W84: =IF(S84="","",IF(S84=1,400,IF(S84=2,340,IF(S84=3,300,IF(S84=4,280,IF(S84=5,270,IF(S84=6,260,IF(S84=7,250,IF(S84=8,240,IF(S84=9,200,IF(S84=10,200,IF(S84=11,200,IF(S84=12,200,IF(S84=13,200,IF(S84=14,200,IF(S84=15,200,IF(S84=16,200,IF(S84>16,"","")))))))))))))))))) | X84: =IF(S84="","",IF($V$5="NÃO","",IF(S84=1,180,IF(S84=2,170,IF(S84=3,150,IF(S84=4,140,IF(S84=5,135,IF(S84=6,130,IF(S84=7,120,IF(S84=8,110,IF(S84=9,105,IF(S84=10,105,IF(S84=11,105,IF(S84=12,105,IF(S84=13,105,IF(S84=14,105,IF(S84=15,105,IF(S84=16,105,IF(S84>16,"","")))))))))))))))))))
K85: =IF(H77<>"",IF(H79<>"",IF(H77=H79,"",IF(H77>H79,G77,G79)),""),"") -> LUCAS, HEITOR, PEDRO | L85: 1 | M85: =IF(L85<>"",L85,"") -> 1 | N85: =IF(L85<>"",IF(K85="","",K85),"") -> LUCAS, HEITOR, PEDRO | O85: =IF(M85<>"",IF(M87<>"",SMALL(M85:N87,1),""),"") -> 0 | S85: =IF(U85<>"",1+COUNTIF(S73:S84,"1")+COUNTIF(S73:S84,"2")+COUNTIF(S73:S84,"3")+COUNTIF(S73:S84,"4")+COUNTIF(S73:S84,"5")+COUNTIF(S73:S84,"6")+COUNTIF(S73:S84,"7")+COUNTIF(S73:S84,"8")+COUNTIF(S73:S84,"9")+COUNTIF(S73:S84,"10")+COUNTIF(S73:S84,"11")+COUNTIF(S73:S84,"12"),"") | T85: =IF(S85<>"","LUGAR","") | U85: =IF(U77<>"",IF(C73=U77,G75,IF(C75=U77,G75,IF(C81=U77,G83,IF(C83=U77,G83,IF(C89=U77,G91,IF(C91=U77,G91,IF(C97=U77,G99,IF(C99=U77,G99,IF(C105=U77,G107,IF(C107=U77,G107,IF(C113=U77,G115,IF(C115=U77,G115,IF(C121=U77,G123,IF(C123=U77,G123,IF(C129=U77,G131,IF(C131=U77,G131)))))))))))))))),"") | V85: =IF(U85="","",VLOOKUP(U85,LISTAS!$F$5:$G$204,2,0)) | W85: =IF(S85="","",IF(S85=1,400,IF(S85=2,340,IF(S85=3,300,IF(S85=4,280,IF(S85=5,270,IF(S85=6,260,IF(S85=7,250,IF(S85=8,240,IF(S85=9,200,IF(S85=10,200,IF(S85=11,200,IF(S85=12,200,IF(S85=13,200,IF(S85=14,200,IF(S85=15,200,IF(S85=16,200,IF(S85>16,"","")))))))))))))))))) | X85: =IF(S85="","",IF($V$5="NÃO","",IF(S85=1,180,IF(S85=2,170,IF(S85=3,150,IF(S85=4,140,IF(S85=5,135,IF(S85=6,130,IF(S85=7,120,IF(S85=8,110,IF(S85=9,105,IF(S85=10,105,IF(S85=11,105,IF(S85=12,105,IF(S85=13,105,IF(S85=14,105,IF(S85=15,105,IF(S85=16,105,IF(S85>16,"","")))))))))))))))))))
K86: =IF(K85="","",VLOOKUP(K85,LISTAS!$F$5:$G$204,2,0)) -> ARBOS SBC | S86: =IF(U86<>"",1+COUNTIF(S73:S85,"1")+COUNTIF(S73:S85,"2")+COUNTIF(S73:S85,"3")+COUNTIF(S73:S85,"4")+COUNTIF(S73:S85,"5")+COUNTIF(S73:S85,"6")+COUNTIF(S73:S85,"7")+COUNTIF(S73:S85,"8")+COUNTIF(S73:S85,"9")+COUNTIF(S73:S85,"10")+COUNTIF(S73:S85,"11")+COUNTIF(S73:S85,"12")+COUNTIF(S73:S85,"13"),"") | T86: =IF(S86<>"","LUGAR","") | U86: =IF(U78<>"",IF(C73=U78,G75,IF(C75=U78,G75,IF(C81=U78,G83,IF(C83=U78,G83,IF(C89=U78,G91,IF(C91=U78,G91,IF(C97=U78,G99,IF(C99=U78,G99,IF(C105=U78,G107,IF(C107=U78,G107,IF(C113=U78,G115,IF(C115=U78,G115,IF(C121=U78,G123,IF(C123=U78,G123,IF(C129=U78,G131,IF(C131=U78,G131)))))))))))))))),"") | V86: =IF(U86="","",VLOOKUP(U86,LISTAS!$F$5:$G$204,2,0)) | W86: =IF(S86="","",IF(S86=1,400,IF(S86=2,340,IF(S86=3,300,IF(S86=4,280,IF(S86=5,270,IF(S86=6,260,IF(S86=7,250,IF(S86=8,240,IF(S86=9,200,IF(S86=10,200,IF(S86=11,200,IF(S86=12,200,IF(S86=13,200,IF(S86=14,200,IF(S86=15,200,IF(S86=16,200,IF(S86>16,"","")))))))))))))))))) | X86: =IF(S86="","",IF($V$5="NÃO","",IF(S86=1,180,IF(S86=2,170,IF(S86=3,150,IF(S86=4,140,IF(S86=5,135,IF(S86=6,130,IF(S86=7,120,IF(S86=8,110,IF(S86=9,105,IF(S86=10,105,IF(S86=11,105,IF(S86=12,105,IF(S86=13,105,IF(S86=14,105,IF(S86=15,105,IF(S86=16,105,IF(S86>16,"","")))))))))))))))))))
K87: =IF(H93<>"",IF(H95<>"",IF(H93=H95,"",IF(H93>H95,G93,G95)),""),"") -> MATHEUS, JOÃO, LUCAS | L87: 0 | M87: =IF(L87<>"",L87,"") -> 0 | N87: =IF(L87<>"",IF(K87="","",K87),"") -> MATHEUS, JOÃO, LUCAS | O87: =VLOOKUP(O85,M85:N87,2,0) -> MATHEUS, JOÃO, LUCAS | S87: =IF(U87<>"",1+COUNTIF(S73:S86,"1")+COUNTIF(S73:S86,"2")+COUNTIF(S73:S86,"3")+COUNTIF(S73:S86,"4")+COUNTIF(S73:S86,"5")+COUNTIF(S73:S86,"6")+COUNTIF(S73:S86,"7")+COUNTIF(S73:S86,"8")+COUNTIF(S73:S86,"9")+COUNTIF(S73:S86,"10")+COUNTIF(S73:S86,"11")+COUNTIF(S73:S86,"12")+COUNTIF(S73:S86,"13")+COUNTIF(S73:S86,"14"),"") | T87: =IF(S87<>"","LUGAR","") | U87: =IF(U79<>"",IF(C73=U79,G75,IF(C75=U79,G75,IF(C81=U79,G83,IF(C83=U79,G83,IF(C89=U79,G91,IF(C91=U79,G91,IF(C97=U79,G99,IF(C99=U79,G99,IF(C105=U79,G107,IF(C107=U79,G107,IF(C113=U79,G115,IF(C115=U79,G115,IF(C121=U79,G123,IF(C123=U79,G123,IF(C129=U79,G131,IF(C131=U79,G131)))))))))))))))),"") | V87: =IF(U87="","",VLOOKUP(U87,LISTAS!$F$5:$G$204,2,0)) | W87: =IF(S87="","",IF(S87=1,400,IF(S87=2,340,IF(S87=3,300,IF(S87=4,280,IF(S87=5,270,IF(S87=6,260,IF(S87=7,250,IF(S87=8,240,IF(S87=9,200,IF(S87=10,200,IF(S87=11,200,IF(S87=12,200,IF(S87=13,200,IF(S87=14,200,IF(S87=15,200,IF(S87=16,200,IF(S87>16,"","")))))))))))))))))) | X87: =IF(S87="","",IF($V$5="NÃO","",IF(S87=1,180,IF(S87=2,170,IF(S87=3,150,IF(S87=4,140,IF(S87=5,135,IF(S87=6,130,IF(S87=7,120,IF(S87=8,110,IF(S87=9,105,IF(S87=10,105,IF(S87=11,105,IF(S87=12,105,IF(S87=13,105,IF(S87=14,105,IF(S87=15,105,IF(S87=16,105,IF(S87>16,"","")))))))))))))))))))
K88: =IF(K87="","",VLOOKUP(K87,LISTAS!$F$5:$G$204,2,0)) -> VILLARE - SCS | S88: =IF(U88<>"",1+COUNTIF(S73:S87,"1")+COUNTIF(S73:S87,"2")+COUNTIF(S73:S87,"3")+COUNTIF(S73:S87,"4")+COUNTIF(S73:S87,"5")+COUNTIF(S73:S87,"6")+COUNTIF(S73:S87,"7")+COUNTIF(S73:S87,"8")+COUNTIF(S73:S87,"9")+COUNTIF(S73:S87,"10")+COUNTIF(S73:S87,"11")+COUNTIF(S73:S87,"12")+COUNTIF(S73:S87,"13")+COUNTIF(S73:S87,"14")+COUNTIF(S73:S87,"15"),"") | T88: =IF(S88<>"","LUGAR","") | U88: =IF(U80<>"",IF(C73=U80,G75,IF(C75=U80,G75,IF(C81=U80,G83,IF(C83=U80,G83,IF(C89=U80,G91,IF(C91=U80,G91,IF(C97=U80,G99,IF(C99=U80,G99,IF(C105=U80,G107,IF(C107=U80,G107,IF(C113=U80,G115,IF(C115=U80,G115,IF(C121=U80,G123,IF(C123=U80,G123,IF(C129=U80,G131,IF(C131=U80,G131)))))))))))))))),"") | V88: =IF(U88="","",VLOOKUP(U88,LISTAS!$F$5:$G$204,2,0)) | W88: =IF(S88="","",IF(S88=1,400,IF(S88=2,340,IF(S88=3,300,IF(S88=4,280,IF(S88=5,270,IF(S88=6,260,IF(S88=7,250,IF(S88=8,240,IF(S88=9,200,IF(S88=10,200,IF(S88=11,200,IF(S88=12,200,IF(S88=13,200,IF(S88=14,200,IF(S88=15,200,IF(S88=16,200,IF(S88>16,"","")))))))))))))))))) | X88: =IF(S88="","",IF($V$5="NÃO","",IF(S88=1,180,IF(S88=2,170,IF(S88=3,150,IF(S88=4,140,IF(S88=5,135,IF(S88=6,130,IF(S88=7,120,IF(S88=8,110,IF(S88=9,105,IF(S88=10,105,IF(S88=11,105,IF(S88=12,105,IF(S88=13,105,IF(S88=14,105,IF(S88=15,105,IF(S88=16,105,IF(S88>16,"","")))))))))))))))))))
B89: 6 | C89: LUIS, GUILHERME, LEONARDO, ENZO | D89: 1 | E89: =IF(D89<>"",D89,"") -> 1 | F89: =IF(D89<>"",IF(C89="","",C89),"") -> LUIS, GUILHERME, LEONARDO, ENZO | G89: =IF(E89<>"",IF(E91<>"",SMALL(E89:F91,1),""),"") -> 0
C90: =IF(C89="","",VLOOKUP(C89,LISTAS!$F$5:$G$204,2,0)) -> ARBOS SBC
B91: 11 | D91: 0 | E91: =IF(D91<>"",D91,"") -> 0 | F91: =IF(D91<>"",IF(C91="","",C91),"") | G91: =VLOOKUP(G89,E89:F91,2,0)
C92: =IF(C91="","",VLOOKUP(C91,LISTAS!$F$5:$G$204,2,0))
G93: =IF(D89<>"",IF(D91<>"",IF(D89=D91,"",IF(D89>D91,C89,C91)),""),"") -> LUIS, GUILHERME, LEONARDO, ENZO | H93: 0 | I93: =IF(H93<>"",H93,"") -> 0 | J93: =IF(H93<>"",IF(G93="","",G93),"") -> LUIS, GUILHERME, LEONARDO, ENZO | K93: =IF(I93<>"",IF(I95<>"",SMALL(I93:J95,1),""),"") -> 0
G94: =IF(G93="","",VLOOKUP(G93,LISTAS!$F$5:$G$204,2,0)) -> ARBOS SBC
G95: =IF(D97<>"",IF(D99<>"",IF(D97=D99,"",IF(D97>D99,C97,C99)),""),"") -> MATHEUS, JOÃO, LUCAS | H95: 1 | I95: =IF(H95<>"",H95,"") -> 1 | J95: =IF(H95<>"",IF(G95="","",G95),"") -> MATHEUS, JOÃO, LUCAS | K95: =VLOOKUP(K93,I93:J95,2,0) -> LUIS, GUILHERME, LEONARDO, ENZO
G96: =IF(G95="","",VLOOKUP(G95,LISTAS!$F$5:$G$204,2,0)) -> VILLARE - SCS
B97: 4 | C97: MATHEUS, JOÃO, LUCAS | D97: 1 | E97: =IF(D97<>"",D97,"") -> 1 | F97: =IF(D97<>"",IF(C97="","",C97),"") -> MATHEUS, JOÃO, LUCAS | G97: =IF(E97<>"",IF(E99<>"",SMALL(E97:F99,1),""),"") -> 0
C98: =IF(C97="","",VLOOKUP(C97,LISTAS!$F$5:$G$204,2,0)) -> VILLARE - SCS
B99: 13 | D99: 0 | E99: =IF(D99<>"",D99,"") -> 0 | F99: =IF(D99<>"",IF(C99="","",C99),"") | G99: =VLOOKUP(G97,E97:F99,2,0)
C100: =IF(C99="","",VLOOKUP(C99,LISTAS!$F$5:$G$204,2,0))
O101: =IF(L85<>"",IF(L87<>"",IF(L85=L87,"",IF(L85>L87,K85,K87)),""),"") -> LUCAS, HEITOR, PEDRO | P101: 1
O102: =IF(O101="","",VLOOKUP(O101,LISTAS!$F$5:$G$204,2,0)) -> ARBOS SBC
O103: =IF(L117<>"",IF(L119<>"",IF(L117=L119,"",IF(L117>L119,K117,K119)),""),"") -> LORENZO, RAFAEL, LEONARDO | P103: 0
O104: =IF(O103="","",VLOOKUP(O103,LISTAS!$F$5:$G$204,2,0)) -> VILLARE - SCS
B105: 3 | C105: LORENZO, RAFAEL, LEONARDO | D105: 1 | E105: =IF(D105<>"",D105,"") -> 1 | F105: =IF(D105<>"",IF(C105="","",C105),"") -> LORENZO, RAFAEL, LEONARDO | G105: =IF(E105<>"",IF(E107<>"",SMALL(E105:F107,1),""),"") -> 0 | V105: =IF(U105="","",VLOOKUP(U105,LISTAS!$F$5:$G$204,2,0)) | W105: =IF(S105="","",IF(S105=1,400,IF(S105=2,340,IF(S105=3,300,IF(S105=4,280,IF(S105=5,270,IF(S105=6,260,IF(S105=7,250,IF(S105=8,240,IF(S105=9,200,IF(S105=10,200,IF(S105=11,200,IF(S105=12,200,IF(S105=13,200,IF(S105=14,200,IF(S105=15,200,IF(S105=16,200,IF(S105>16,"","")))))))))))))))))) | X105: =IF(S105="","",IF($V$5="NÃO","",IF(S105=1,400,IF(S105=2,340,IF(S105=3,300,IF(S105=4,280,IF(S105=5,270,IF(S105=6,260,IF(S105=7,250,IF(S105=8,240,IF(S105=9,200,IF(S105=10,200,IF(S105=11,200,IF(S105=12,200,IF(S105=13,200,IF(S105=14,200,IF(S105=15,200,IF(S105=16,200,IF(S105>16,"","")))))))))))))))))))
C106: =IF(C105="","",VLOOKUP(C105,LISTAS!$F$5:$G$204,2,0)) -> VILLARE - SCS
...

Sheet 13F
B5: SUB 14 FEMININO | S5: SUB 14 FEMININO | U5: PONTUAÇÃO ESCOLA: | V5: SIM
B6: S É R I E O U R O | S6: S É R I E O U R O
S7: CLASSIFICAÇÃO | U7: NOMES | V7: ESCOLA | W7: PONTUAÇÃO ALUNO | X7: PONTUAÇÃO ESCOLA
B8: 1 | C8: RAYANE, ISADORA, BIANCA | D8: 1 | E8: =IF(D8<>"",D8,"") -> 1 | F8: =IF(D8<>"",IF(C8="","",C8),"") -> RAYANE, ISADORA, BIANCA | G8: =IF(E8<>"",IF(E10<>"",SMALL(E8:F10,1),""),"") -> 0 | S8: =IF(U8<>"",1,"") -> 1 | T8: =IF(S8<>"","LUGAR","") -> LUGAR | U8: =IF(P35<>"",IF(P37<>"",IF(P35=P37,"",IF(P35>P37,O35,O37)),""),"") -> RAYANE, ISADORA, BIANCA | V8: =IF(U8="","",VLOOKUP(U8,LISTAS!$F$5:$G$204,2,0)) -> SÃO JOSÉ - S.A | W8: =IF(S8="","",IF(S8=1,400,IF(S8=2,340,IF(S8=3,300,IF(S8=4,280,IF(S8=5,270,IF(S8=6,260,IF(S8=7,250,IF(S8=8,240,IF(S8=9,200,IF(S8=10,200,IF(S8=11,200,IF(S8=12,200,IF(S8=13,200,IF(S8=14,200,IF(S8=15,200,IF(S8=16,200,IF(S8>16,"","")))))))))))))))))) -> 400 | X8: =IF(S8="","",IF($V$5="NÃO","",IF(S8=1,400,IF(S8=2,340,IF(S8=3,300,IF(S8=4,280,IF(S8=5,270,IF(S8=6,260,IF(S8=7,250,IF(S8=8,240,IF(S8=9,200,IF(S8=10,200,IF(S8=11,200,IF(S8=12,200,IF(S8=13,200,IF(S8=14,200,IF(S8=15,200,IF(S8=16,200,IF(S8>16,"",""))))))))))))))))))) -> 400
C9: =IF(C8="","",VLOOKUP(C8,LISTAS!$F$5:$G$204,2,0)) -> SÃO JOSÉ - S.A | S9: =IF(U9<>"",1+COUNTIF(S8,"1"),"") -> 2 | T9: =IF(S9<>"","LUGAR","") -> LUGAR | U9: =IF(P35<>"",IF(P37<>"",IF(P35=P37,"",IF(P35<P37,O35,O37)),""),"") -> LORENA, BARBARA, FERNANDA, MANUELA | V9: =IF(U9="","",VLOOKUP(U9,LISTAS!$F$5:$G$204,2,0)) -> SÃO JOSÉ - S.A | W9: =IF(S9="","",IF(S9=1,400,IF(S9=2,340,IF(S9=3,300,IF(S9=4,280,IF(S9=5,270,IF(S9=6,260,IF(S9=7,250,IF(S9=8,240,IF(S9=9,200,IF(S9=10,200,IF(S9=11,200,IF(S9=12,200,IF(S9=13,200,IF(S9=14,200,IF(S9=15,200,IF(S9=16,200,IF(S9>16,"","")))))))))))))))))) -> 340 | X9: =IF(S9="","",IF($V$5="NÃO","",IF(S9=1,400,IF(S9=2,340,IF(S9=3,300,IF(S9=4,280,IF(S9=5,270,IF(S9=6,260,IF(S9=7,250,IF(S9=8,240,IF(S9=9,200,IF(S9=10,200,IF(S9=11,200,IF(S9=12,200,IF(S9=13,200,IF(S9=14,200,IF(S9=15,200,IF(S9=16,200,IF(S9>16,"",""))))))))))))))))))) -> 340
B10: 16 | D10: 0 | E10: =IF(D10<>"",D10,"") -> 0 | F10: =IF(D10<>"",IF(C10="","",C10),"") | G10: =VLOOKUP(G8,E8:F10,2,0) | S10: =IF(U10<>"",1+COUNTIF(S8:S9,"1")+COUNTIF(S8:S9,"2"),"") | T10: =IF(S10<>"","LUGAR","") | U10: =IF(U8<>"",IF(K20=U8,K22,IF(K22=U8,K20,IF(K51=U8,K53,IF(K53=U8,K51)))),"") | V10: =IF(U10="","",VLOOKUP(U10,LISTAS!$F$5:$G$204,2,0)) | W10: =IF(S10="","",IF(S10=1,400,IF(S10=2,340,IF(S10=3,300,IF(S10=4,280,IF(S10=5,270,IF(S10=6,260,IF(S10=7,250,IF(S10=8,240,IF(S10=9,200,IF(S10=10,200,IF(S10=11,200,IF(S10=12,200,IF(S10=13,200,IF(S10=14,200,IF(S10=15,200,IF(S10=16,200,IF(S10>16,"","")))))))))))))))))) | X10: =IF(S10="","",IF($V$5="NÃO","",IF(S10=1,400,IF(S10=2,340,IF(S10=3,300,IF(S10=4,280,IF(S10=5,270,IF(S10=6,260,IF(S10=7,250,IF(S10=8,240,IF(S10=9,200,IF(S10=10,200,IF(S10=11,200,IF(S10=12,200,IF(S10=13,200,IF(S10=14,200,IF(S10=15,200,IF(S10=16,200,IF(S10>16,"","")))))))))))))))))))
C11: =IF(C10="","",VLOOKUP(C10,LISTAS!$F$5:$G$204,2,0)) | S11: =IF(U11<>"",1+COUNTIF(S8:S10,"1")+COUNTIF(S8:S10,"2")+COUNTIF(S8:S10,"3"),"") -> 3 | T11: =IF(S11<>"","LUGAR","") -> LUGAR | U11: =IF(U9<>"",IF(K20=U9,K22,IF(K22=U9,K20,IF(K51=U9,K53,IF(K53=U9,K51)))),"") -> ANA, BEATRIZ, MANUELA, MARIA | V11: =IF(U11="","",VLOOKUP(U11,LISTAS!$F$5:$G$204,2,0)) -> VILLARE - SCS | W11: =IF(S11="","",IF(S11=1,400,IF(S11=2,340,IF(S11=3,300,IF(S11=4,280,IF(S11=5,270,IF(S11=6,260,IF(S11=7,250,IF(S11=8,240,IF(S11=9,200,IF(S11=10,200,IF(S11=11,200,IF(S11=12,200,IF(S11=13,200,IF(S11=14,200,IF(S11=15,200,IF(S11=16,200,IF(S11>16,"","")))))))))))))))))) -> 300 | X11: =IF(S11="","",IF($V$5="NÃO","",IF(S11=1,400,IF(S11=2,340,IF(S11=3,300,IF(S11=4,280,IF(S11=5,270,IF(S11=6,260,IF(S11=7,250,IF(S11=8,240,IF(S11=9,200,IF(S11=10,200,IF(S11=11,200,IF(S11=12,200,IF(S11=13,200,IF(S11=14,200,IF(S11=15,200,IF(S11=16,200,IF(S11>16,"",""))))))))))))))))))) -> 300
G12: =IF(D8<>"",IF(D10<>"",IF(D8=D10,"",IF(D8>D10,C8,C10)),""),"") -> RAYANE, ISADORA, BIANCA | H12: 1 | I12: =IF(H12<>"",H12,"") -> 1 | J12: =IF(H12<>"",IF(G12="","",G12),"") -> RAYANE, ISADORA, BIANCA | K12: =IF(I12<>"",IF(I14<>"",SMALL(I12:J14,1),""),"") -> 0 | S12: =IF(U12<>"",1+COUNTIF(S8:S11,"1")+COUNTIF(S8:S11,"2")+COUNTIF(S8:S11,"3")+COUNTIF(S8:S11,"4"),"") | T12: =IF(S12<>"","LUGAR","") | U12: =IF(U8<>"",IF(G12=U8,G14,IF(G14=U8,G12,IF(G27=U8,G29,IF(G29=U8,G27,IF(G43=U8,G45,IF(G45=U8,G43,IF(G59=U8,G61,IF(G61=U8,G59)))))))),"") | V12: =IF(U12="","",VLOOKUP(U12,LISTAS!$F$5:$G$204,2,0)) | W12: =IF(S12="","",IF(S12=1,400,IF(S12=2,340,IF(S12=3,300,IF(S12=4,280,IF(S12=5,270,IF(S12=6,260,IF(S12=7,250,IF(S12=8,240,IF(S12=9,200,IF(S12=10,200,IF(S12=11,200,IF(S12=12,200,IF(S12=13,200,IF(S12=14,200,IF(S12=15,200,IF(S12=16,200,IF(S12>16,"","")))))))))))))))))) | X12: =IF(S12="","",IF($V$5="NÃO","",IF(S12=1,400,IF(S12=2,340,IF(S12=3,300,IF(S12=4,280,IF(S12=5,270,IF(S12=6,260,IF(S12=7,250,IF(S12=8,240,IF(S12=9,200,IF(S12=10,200,IF(S12=11,200,IF(S12=12,200,IF(S12=13,200,IF(S12=14,200,IF(S12=15,200,IF(S12=16,200,IF(S12>16,"","")))))))))))))))))))
G13: =IF(G12="","",VLOOKUP(G12,LISTAS!$F$5:$G$204,2,0)) -> SÃO JOSÉ - S.A | S13: =IF(U13<>"",1+COUNTIF(S8:S12,"1")+COUNTIF(S8:S12,"2")+COUNTIF(S8:S12,"3")+COUNTIF(S8:S12,"4")+COUNTIF(S8:S12,"5"),"") | T13: =IF(S13<>"","LUGAR","") | U13: =IF(U9<>"",IF(G12=U9,G14,IF(G14=U9,G12,IF(G27=U9,G29,IF(G29=U9,G27,IF(G43=U9,G45,IF(G45=U9,G43,IF(G59=U9,G61,IF(G61=U9,G59)))))))),"") | V13: =IF(U13="","",VLOOKUP(U13,LISTAS!$F$5:$G$204,2,0)) | W13: =IF(S13="","",IF(S13=1,400,IF(S13=2,340,IF(S13=3,300,IF(S13=4,280,IF(S13=5,270,IF(S13=6,260,IF(S13=7,250,IF(S13=8,240,IF(S13=9,200,IF(S13=10,200,IF(S13=11,200,IF(S13=12,200,IF(S13=13,200,IF(S13=14,200,IF(S13=15,200,IF(S13=16,200,IF(S13>16,"","")))))))))))))))))) | X13: =IF(S13="","",IF($V$5="NÃO","",IF(S13=1,400,IF(S13=2,340,IF(S13=3,300,IF(S13=4,280,IF(S13=5,270,IF(S13=6,260,IF(S13=7,250,IF(S13=8,240,IF(S13=9,200,IF(S13=10,200,IF(S13=11,200,IF(S13=12,200,IF(S13=13,200,IF(S13=14,200,IF(S13=15,200,IF(S13=16,200,IF(S13>16,"","")))))))))))))))))))
G14: =IF(D16<>"",IF(D18<>"",IF(D16=D18,"",IF(D16>D18,C16,C18)),""),"") | H14: 0 | I14: =IF(H14<>"",H14,"") -> 0 | J14: =IF(H14<>"",IF(G14="","",G14),"") | K14: =VLOOKUP(K12,I12:J14,2,0) | S14: =IF(U14<>"",1+COUNTIF(S8:S13,"1")+COUNTIF(S8:S13,"2")+COUNTIF(S8:S13,"3")+COUNTIF(S8:S13,"4")+COUNTIF(S8:S13,"5")+COUNTIF(S8:S13,"6"),"") | T14: =IF(S14<>"","LUGAR","") | U14: =IF(U10<>"",IF(G12=U10,G14,IF(G14=U10,G12,IF(G27=U10,G29,IF(G29=U10,G27,IF(G43=U10,G45,IF(G45=U10,G43,IF(G59=U10,G61,IF(G61=U10,G59)))))))),"") | V14: =IF(U14="","",VLOOKUP(U14,LISTAS!$F$5:$G$204,2,0)) | W14: =IF(S14="","",IF(S14=1,400,IF(S14=2,340,IF(S14=3,300,IF(S14=4,280,IF(S14=5,270,IF(S14=6,260,IF(S14=7,250,IF(S14=8,240,IF(S14=9,200,IF(S14=10,200,IF(S14=11,200,IF(S14=12,200,IF(S14=13,200,IF(S14=14,200,IF(S14=15,200,IF(S14=16,200,IF(S14>16,"","")))))))))))))))))) | X14: =IF(S14="","",IF($V$5="NÃO","",IF(S14=1,400,IF(S14=2,340,IF(S14=3,300,IF(S14=4,280,IF(S14=5,270,IF(S14=6,260,IF(S14=7,250,IF(S14=8,240,IF(S14=9,200,IF(S14=10,200,IF(S14=11,200,IF(S14=12,200,IF(S14=13,200,IF(S14=14,200,IF(S14=15,200,IF(S14=16,200,IF(S14>16,"","")))))))))))))))))))
G15: =IF(G14="","",VLOOKUP(G14,LISTAS!$F$5:$G$204,2,0)) | S15: =IF(U15<>"",1+COUNTIF(S8:S14,"1")+COUNTIF(S8:S14,"2")+COUNTIF(S8:S14,"3")+COUNTIF(S8:S14,"4")+COUNTIF(S8:S14,"5")+COUNTIF(S8:S14,"6")+COUNTIF(S8:S14,"7"),"") | T15: =IF(S15<>"","LUGAR","") | U15: =IF(U11<>"",IF(G12=U11,G14,IF(G14=U11,G12,IF(G27=U11,G29,IF(G29=U11,G27,IF(G43=U11,G45,IF(G45=U11,G43,IF(G59=U11,G61,IF(G61=U11,G59)))))))),"") | V15: =IF(U15="","",VLOOKUP(U15,LISTAS!$F$5:$G$204,2,0)) | W15: =IF(S15="","",IF(S15=1,400,IF(S15=2,340,IF(S15=3,300,IF(S15=4,280,IF(S15=5,270,IF(S15=6,260,IF(S15=7,250,IF(S15=8,240,IF(S15=9,200,IF(S15=10,200,IF(S15=11,200,IF(S15=12,200,IF(S15=13,200,IF(S15=14,200,IF(S15=15,200,IF(S15=16,200,IF(S15>16,"","")))))))))))))))))) | X15: =IF(S15="","",IF($V$5="NÃO","",IF(S15=1,400,IF(S15=2,340,IF(S15=3,300,IF(S15=4,280,IF(S15=5,270,IF(S15=6,260,IF(S15=7,250,IF(S15=8,240,IF(S15=9,200,IF(S15=10,200,IF(S15=11,200,IF(S15=12,200,IF(S15=13,200,IF(S15=14,200,IF(S15=15,200,IF(S15=16,200,IF(S15>16,"","")))))))))))))))))))
B16: 7 | D16: 0 | E16: =IF(D16<>"",D16,"") -> 0 | F16: =IF(D16<>"",IF(C16="","",C16),"") | G16: =IF(E16<>"",IF(E18<>"",SMALL(E16:F18,1),""),"") -> 0 | S16: =IF(U16<>"",1+COUNTIF(S8:S15,"1")+COUNTIF(S8:S15,"2")+COUNTIF(S8:S15,"3")+COUNTIF(S8:S15,"4")+COUNTIF(S8:S15,"5")+COUNTIF(S8:S15,"6")+COUNTIF(S8:S15,"7")+COUNTIF(S8:S15,"8"),"") | T16: =IF(S16<>"","LUGAR","") | U16: =IF(U8<>"",IF(C8=U8,G10,IF(C10=U8,G10,IF(C16=U8,G18,IF(C18=U8,G18,IF(C23=U8,G25,IF(C25=U8,G25,IF(C31=U8,G33,IF(C33=U8,G33,IF(C39=U8,G41,IF(C41=U8,G41,IF(C47=U8,G49,IF(C49=U8,G49,IF(C55=U8,G57,IF(C57=U8,G57,IF(C63=U8,G65,IF(C65=U8,G65)))))))))))))))),"") | V16: =IF(U16="","",VLOOKUP(U16,LISTAS!$F$5:$G$204,2,0)) | W16: =IF(S16="","",IF(S16=1,400,IF(S16=2,340,IF(S16=3,300,IF(S16=4,280,IF(S16=5,270,IF(S16=6,260,IF(S16=7,250,IF(S16=8,240,IF(S16=9,200,IF(S16=10,200,IF(S16=11,200,IF(S16=12,200,IF(S16=13,200,IF(S16=14,200,IF(S16=15,200,IF(S16=16,200,IF(S16>16,"","")))))))))))))))))) | X16: =IF(S16="","",IF($V$5="NÃO","",IF(S16=1,400,IF(S16=2,340,IF(S16=3,300,IF(S16=4,280,IF(S16=5,270,IF(S16=6,260,IF(S16=7,250,IF(S16=8,240,IF(S16=9,200,IF(S16=10,200,IF(S16=11,200,IF(S16=12,200,IF(S16=13,200,IF(S16=14,200,IF(S16=15,200,IF(S16=16,200,IF(S16>16,"","")))))))))))))))))))
C17: =IF(C16="","",VLOOKUP(C16,LISTAS!$F$5:$G$204,2,0)) | S17: =IF(U17<>"",1+COUNTIF(S8:S16,"1")+COUNTIF(S8:S16,"2")+COUNTIF(S8:S16,"3")+COUNTIF(S8:S16,"4")+COUNTIF(S8:S16,"5")+COUNTIF(S8:S16,"6")+COUNTIF(S8:S16,"7")+COUNTIF(S8:S16,"8")+COUNTIF(S8:S16,"9"),"") | T17: =IF(S17<>"","LUGAR","") | U17: =IF(U9<>"",IF(C8=U9,G10,IF(C10=U9,G10,IF(C16=U9,G18,IF(C18=U9,G18,IF(C23=U9,G25,IF(C25=U9,G25,IF(C31=U9,G33,IF(C33=U9,G33,IF(C39=U9,G41,IF(C41=U9,G41,IF(C47=U9,G49,IF(C49=U9,G49,IF(C55=U9,G57,IF(C57=U9,G57,IF(C63=U9,G65,IF(C65=U9,G65)))))))))))))))),"") | V17: =IF(U17="","",VLOOKUP(U17,LISTAS!$F$5:$G$204,2,0)) | W17: =IF(S17="","",IF(S17=1,400,IF(S17=2,340,IF(S17=3,300,IF(S17=4,280,IF(S17=5,270,IF(S17=6,260,IF(S17=7,250,IF(S17=8,240,IF(S17=9,200,IF(S17=10,200,IF(S17=11,200,IF(S17=12,200,IF(S17=13,200,IF(S17=14,200,IF(S17=15,200,IF(S17=16,200,IF(S17>16,"","")))))))))))))))))) | X17: =IF(S17="","",IF($V$5="NÃO","",IF(S17=1,400,IF(S17=2,340,IF(S17=3,300,IF(S17=4,280,IF(S17=5,270,IF(S17=6,260,IF(S17=7,250,IF(S17=8,240,IF(S17=9,200,IF(S17=10,200,IF(S17=11,200,IF(S17=12,200,IF(S17=13,200,IF(S17=14,200,IF(S17=15,200,IF(S17=16,200,IF(S17>16,"","")))))))))))))))))))
B18: 9 | D18: 0 | E18: =IF(D18<>"",D18,"") -> 0 | F18: =IF(D18<>"",IF(C18="","",C18),"") | G18: =VLOOKUP(G16,E16:F18,2,0) | S18: =IF(U18<>"",1+COUNTIF(S8:S17,"1")+COUNTIF(S8:S17,"2")+COUNTIF(S8:S17,"3")+COUNTIF(S8:S17,"4")+COUNTIF(S8:S17,"5")+COUNTIF(S8:S17,"6")+COUNTIF(S8:S17,"7")+COUNTIF(S8:S17,"8")+COUNTIF(S8:S17,"9")+COUNTIF(S8:S17,"10"),"") | T18: =IF(S18<>"","LUGAR","") | U18: =IF(U10<>"",IF(C8=U10,G10,IF(C10=U10,G10,IF(C16=U10,G18,IF(C18=U10,G18,IF(C23=U10,G25,IF(C25=U10,G25,IF(C31=U10,G33,IF(C33=U10,G33,IF(C39=U10,G41,IF(C41=U10,G41,IF(C47=U10,G49,IF(C49=U10,G49,IF(C55=U10,G57,IF(C57=U10,G57,IF(C63=U10,G65,IF(C65=U10,G65)))))))))))))))),"") | V18: =IF(U18="","",VLOOKUP(U18,LISTAS!$F$5:$G$204,2,0)) | W18: =IF(S18="","",IF(S18=1,400,IF(S18=2,340,IF(S18=3,300,IF(S18=4,280,IF(S18=5,270,IF(S18=6,260,IF(S18=7,250,IF(S18=8,240,IF(S18=9,200,IF(S18=10,200,IF(S18=11,200,IF(S18=12,200,IF(S18=13,200,IF(S18=14,200,IF(S18=15,200,IF(S18=16,200,IF(S18>16,"","")))))))))))))))))) | X18: =IF(S18="","",IF($V$5="NÃO","",IF(S18=1,400,IF(S18=2,340,IF(S18=3,300,IF(S18=4,280,IF(S18=5,270,IF(S18=6,260,IF(S18=7,250,IF(S18=8,240,IF(S18=9,200,IF(S18=10,200,IF(S18=11,200,IF(S18=12,200,IF(S18=13,200,IF(S18=14,200,IF(S18=15,200,IF(S18=16,200,IF(S18>16,"","")))))))))))))))))))
C19: =IF(C18="","",VLOOKUP(C18,LISTAS!$F$5:$G$204,2,0)) | S19: =IF(U19<>"",1+COUNTIF(S8:S18,"1")+COUNTIF(S8:S18,"2")+COUNTIF(S8:S18,"3")+COUNTIF(S8:S18,"4")+COUNTIF(S8:S18,"5")+COUNTIF(S8:S18,"6")+COUNTIF(S8:S18,"7")+COUNTIF(S8:S18,"8")+COUNTIF(S8:S18,"9")+COUNTIF(S8:S18,"10")+COUNTIF(S8:S18,"11"),"") | T19: =IF(S19<>"","LUGAR","") | U19: =IF(U11<>"",IF(C8=U11,G10,IF(C10=U11,G10,IF(C16=U11,G18,IF(C18=U11,G18,IF(C23=U11,G25,IF(C25=U11,G25,IF(C31=U11,G33,IF(C33=U11,G33,IF(C39=U11,G41,IF(C41=U11,G41,IF(C47=U11,G49,IF(C49=U11,G49,IF(C55=U11,G57,IF(C57=U11,G57,IF(C63=U11,G65,IF(C65=U11,G65)))))))))))))))),"") | V19: =IF(U19="","",VLOOKUP(U19,LISTAS!$F$5:$G$204,2,0)) | W19: =IF(S19="","",IF(S19=1,400,IF(S19=2,340,IF(S19=3,300,IF(S19=4,280,IF(S19=5,270,IF(S19=6,260,IF(S19=7,250,IF(S19=8,240,IF(S19=9,200,IF(S19=10,200,IF(S19=11,200,IF(S19=12,200,IF(S19=13,200,IF(S19=14,200,IF(S19=15,200,IF(S19=16,200,IF(S19>16,"","")))))))))))))))))) | X19: =IF(S19="","",IF($V$5="NÃO","",IF(S19=1,400,IF(S19=2,340,IF(S19=3,300,IF(S19=4,280,IF(S19=5,270,IF(S19=6,260,IF(S19=7,250,IF(S19=8,240,IF(S19=9,200,IF(S19=10,200,IF(S19=11,200,IF(S19=12,200,IF(S19=13,200,IF(S19=14,200,IF(S19=15,200,IF(S19=16,200,IF(S19>16,"","")))))))))))))))))))
K20: =IF(H12<>"",IF(H14<>"",IF(H12=H14,"",IF(H12>H14,G12,G14)),""),"") -> RAYANE, ISADORA, BIANCA | L20: 1 | M20: =IF(L20<>"",L20,"") -> 1 | N20: =IF(L20<>"",IF(K20="","",K20),"") -> RAYANE, ISADORA, BIANCA | O20: =IF(M20<>"",IF(M22<>"",SMALL(M20:N22,1),""),"") -> 0 | S20: =IF(U20<>"",1+COUNTIF(S8:S19,"1")+COUNTIF(S8:S19,"2")+COUNTIF(S8:S19,"3")+COUNTIF(S8:S19,"4")+COUNTIF(S8:S19,"5")+COUNTIF(S8:S19,"6")+COUNTIF(S8:S19,"7")+COUNTIF(S8:S19,"8")+COUNTIF(S8:S19,"9")+COUNTIF(S8:S19,"10")+COUNTIF(S8:S19,"11")+COUNTIF(S8:S19,"12"),"") | T20: =IF(S20<>"","LUGAR","") | U20: =IF(U12<>"",IF(C8=U12,G10,IF(C10=U12,G10,IF(C16=U12,G18,IF(C18=U12,G18,IF(C23=U12,G25,IF(C25=U12,G25,IF(C31=U12,G33,IF(C33=U12,G33,IF(C39=U12,G41,IF(C41=U12,G41,IF(C47=U12,G49,IF(C49=U12,G49,IF(C55=U12,G57,IF(C57=U12,G57,IF(C63=U12,G65,IF(C65=U12,G65)))))))))))))))),"") | V20: =IF(U20="","",VLOOKUP(U20,LISTAS!$F$5:$G$204,2,0)) | W20: =IF(S20="","",IF(S20=1,400,IF(S20=2,340,IF(S20=3,300,IF(S20=4,280,IF(S20=5,270,IF(S20=6,260,IF(S20=7,250,IF(S20=8,240,IF(S20=9,200,IF(S20=10,200,IF(S20=11,200,IF(S20=12,200,IF(S20=13,200,IF(S20=14,200,IF(S20=15,200,IF(S20=16,200,IF(S20>16,"","")))))))))))))))))) | X20: =IF(S20="","",IF($V$5="NÃO","",IF(S20=1,400,IF(S20=2,340,IF(S20=3,300,IF(S20=4,280,IF(S20=5,270,IF(S20=6,260,IF(S20=7,250,IF(S20=8,240,IF(S20=9,200,IF(S20=10,200,IF(S20=11,200,IF(S20=12,200,IF(S20=13,200,IF(S20=14,200,IF(S20=15,200,IF(S20=16,200,IF(S20>16,"","")))))))))))))))))))
K21: =IF(K20="","",VLOOKUP(K20,LISTAS!$F$5:$G$204,2,0)) -> SÃO JOSÉ - S.A | S21: =IF(U21<>"",1+COUNTIF(S8:S20,"1")+COUNTIF(S8:S20,"2")+COUNTIF(S8:S20,"3")+COUNTIF(S8:S20,"4")+COUNTIF(S8:S20,"5")+COUNTIF(S8:S20,"6")+COUNTIF(S8:S20,"7")+COUNTIF(S8:S20,"8")+COUNTIF(S8:S20,"9")+COUNTIF(S8:S20,"10")+COUNTIF(S8:S20,"11")+COUNTIF(S8:S20,"12")+COUNTIF(S8:S20,"13"),"") | T21: =IF(S21<>"","LUGAR","") | U21: =IF(U13<>"",IF(C8=U13,G10,IF(C10=U13,G10,IF(C16=U13,G18,IF(C18=U13,G18,IF(C23=U13,G25,IF(C25=U13,G25,IF(C31=U13,G33,IF(C33=U13,G33,IF(C39=U13,G41,IF(C41=U13,G41,IF(C47=U13,G49,IF(C49=U13,G49,IF(C55=U13,G57,IF(C57=U13,G57,IF(C63=U13,G65,IF(C65=U13,G65)))))))))))))))),"") | V21: =IF(U21="","",VLOOKUP(U21,LISTAS!$F$5:$G$204,2,0)) | W21: =IF(S21="","",IF(S21=1,400,IF(S21=2,340,IF(S21=3,300,IF(S21=4,280,IF(S21=5,270,IF(S21=6,260,IF(S21=7,250,IF(S21=8,240,IF(S21=9,200,IF(S21=10,200,IF(S21=11,200,IF(S21=12,200,IF(S21=13,200,IF(S21=14,200,IF(S21=15,200,IF(S21=16,200,IF(S21>16,"","")))))))))))))))))) | X21: =IF(S21="","",IF($V$5="NÃO","",IF(S21=1,400,IF(S21=2,340,IF(S21=3,300,IF(S21=4,280,IF(S21=5,270,IF(S21=6,260,IF(S21=7,250,IF(S21=8,240,IF(S21=9,200,IF(S21=10,200,IF(S21=11,200,IF(S21=12,200,IF(S21=13,200,IF(S21=14,200,IF(S21=15,200,IF(S21=16,200,IF(S21>16,"","")))))))))))))))))))
K22: =IF(H27<>"",IF(H29<>"",IF(H27=H29,"",IF(H27>H29,G27,G29)),""),"") | L22: 0 | M22: =IF(L22<>"",L22,"") -> 0 | N22: =IF(L22<>"",IF(K22="","",K22),"") | O22: =VLOOKUP(O20,M20:N22,2,0) | S22: =IF(U22<>"",1+COUNTIF(S8:S21,"1")+COUNTIF(S8:S21,"2")+COUNTIF(S8:S21,"3")+COUNTIF(S8:S21,"4")+COUNTIF(S8:S21,"5")+COUNTIF(S8:S21,"6")+COUNTIF(S8:S21,"7")+COUNTIF(S8:S21,"8")+COUNTIF(S8:S21,"9")+COUNTIF(S8:S21,"10")+COUNTIF(S8:S21,"11")+COUNTIF(S8:S21,"12")+COUNTIF(S8:S21,"13")+COUNTIF(S8:S21,"14"),"") | T22: =IF(S22<>"","LUGAR","") | U22: =IF(U14<>"",IF(C8=U14,G10,IF(C10=U14,G10,IF(C16=U14,G18,IF(C18=U14,G18,IF(C23=U14,G25,IF(C25=U14,G25,IF(C31=U14,G33,IF(C33=U14,G33,IF(C39=U14,G41,IF(C41=U14,G41,IF(C47=U14,G49,IF(C49=U14,G49,IF(C55=U14,G57,IF(C57=U14,G57,IF(C63=U14,G65,IF(C65=U14,G65)))))))))))))))),"") | V22: =IF(U22="","",VLOOKUP(U22,LISTAS!$F$5:$G$204,2,0)) | W22: =IF(S22="","",IF(S22=1,400,IF(S22=2,340,IF(S22=3,300,IF(S22=4,280,IF(S22=5,270,IF(S22=6,260,IF(S22=7,250,IF(S22=8,240,IF(S22=9,200,IF(S22=10,200,IF(S22=11,200,IF(S22=12,200,IF(S22=13,200,IF(S22=14,200,IF(S22=15,200,IF(S22=16,200,IF(S22>16,"","")))))))))))))))))) | X22: =IF(S22="","",IF($V$5="NÃO","",IF(S22=1,400,IF(S22=2,340,IF(S22=3,300,IF(S22=4,280,IF(S22=5,270,IF(S22=6,260,IF(S22=7,250,IF(S22=8,240,IF(S22=9,200,IF(S22=10,200,IF(S22=11,200,IF(S22=12,200,IF(S22=13,200,IF(S22=14,200,IF(S22=15,200,IF(S22=16,200,IF(S22>16,"","")))))))))))))))))))
B23: 6 | D23: 0 | E23: =IF(D23<>"",D23,"") -> 0 | F23: =IF(D23<>"",IF(C23="","",C23),"") | G23: =IF(E23<>"",IF(E25<>"",SMALL(E23:F25,1),""),"") -> 0 | K23: =IF(K22="","",VLOOKUP(K22,LISTAS!$F$5:$G$204,2,0)) | S23: =IF(U23<>"",1+COUNTIF(S8:S22,"1")+COUNTIF(S8:S22,"2")+COUNTIF(S8:S22,"3")+COUNTIF(S8:S22,"4")+COUNTIF(S8:S22,"5")+COUNTIF(S8:S22,"6")+COUNTIF(S8:S22,"7")+COUNTIF(S8:S22,"8")+COUNTIF(S8:S22,"9")+COUNTIF(S8:S22,"10")+COUNTIF(S8:S22,"11")+COUNTIF(S8:S22,"12")+COUNTIF(S8:S22,"13")+COUNTIF(S8:S22,"14")+COUNTIF(S8:S22,"15"),"") | T23: =IF(S23<>"","LUGAR","") | U23: =IF(U15<>"",IF(C8=U15,G10,IF(C10=U15,G10,IF(C16=U15,G18,IF(C18=U15,G18,IF(C23=U15,G25,IF(C25=U15,G25,IF(C31=U15,G33,IF(C33=U15,G33,IF(C39=U15,G41,IF(C41=U15,G41,IF(C47=U15,G49,IF(C49=U15,G49,IF(C55=U15,G57,IF(C57=U15,G57,IF(C63=U15,G65,IF(C65=U15,G65)))))))))))))))),"") | V23: =IF(U23="","",VLOOKUP(U23,LISTAS!$F$5:$G$204,2,0)) | W23: =IF(S23="","",IF(S23=1,400,IF(S23=2,340,IF(S23=3,300,IF(S23=4,280,IF(S23=5,270,IF(S23=6,260,IF(S23=7,250,IF(S23=8,240,IF(S23=9,200,IF(S23=10,200,IF(S23=11,200,IF(S23=12,200,IF(S23=13,200,IF(S23=14,200,IF(S23=15,200,IF(S23=16,200,IF(S23>16,"","")))))))))))))))))) | X23: =IF(S23="","",IF($V$5="NÃO","",IF(S23=1,400,IF(S23=2,340,IF(S23=3,300,IF(S23=4,280,IF(S23=5,270,IF(S23=6,260,IF(S23=7,250,IF(S23=8,240,IF(S23=9,200,IF(S23=10,200,IF(S23=11,200,IF(S23=12,200,IF(S23=13,200,IF(S23=14,200,IF(S23=15,200,IF(S23=16,200,IF(S23>16,"","")))))))))))))))))))
C24: =IF(C23="","",VLOOKUP(C23,LISTAS!$F$5:$G$204,2,0))
B25: 11 | D25: 0 | E25: =IF(D25<>"",D25,"") -> 0 | F25: =IF(D25<>"",IF(C25="","",C25),"") | G25: =VLOOKUP(G23,E23:F25,2,0)
C26: =IF(C25="","",VLOOKUP(C25,LISTAS!$F$5:$G$204,2,0))
G27: =IF(D23<>"",IF(D25<>"",IF(D23=D25,"",IF(D23>D25,C23,C25)),""),"") | H27: 0 | I27: =IF(H27<>"",H27,"") -> 0 | J27: =IF(H27<>"",IF(G27="","",G27),"") | K27: =IF(I27<>"",IF(I29<>"",SMALL(I27:J29,1),""),"") -> 0
G28: =IF(G27="","",VLOOKUP(G27,LISTAS!$F$5:$G$204,2,0))
G29: =IF(D31<>"",IF(D33<>"",IF(D31=D33,"",IF(D31>D33,C31,C33)),""),"") | H29: 0 | I29: =IF(H29<>"",H29,"") -> 0 | J29: =IF(H29<>"",IF(G29="","",G29),"") | K29: =VLOOKUP(K27,I27:J29,2,0)
G30: =IF(G29="","",VLOOKUP(G29,LISTAS!$F$5:$G$204,2,0))
B31: 4 | D31: 0 | E31: =IF(D31<>"",D31,"") -> 0 | F31: =IF(D31<>"",IF(C31="","",C31),"") | G31: =IF(E31<>"",IF(E33<>"",SMALL(E31:F33,1),""),"") -> 0
C32: =IF(C31="","",VLOOKUP(C31,LISTAS!$F$5:$G$204,2,0))
B33: 13 | D33: 0 | E33: =IF(D33<>"",D33,"") -> 0 | F33: =IF(D33<>"",IF(C33="","",C33),"") | G33: =VLOOKUP(G31,E31:F33,2,0)
C34: =IF(C33="","",VLOOKUP(C33,LISTAS!$F$5:$G$204,2,0))
O35: =IF(L20<>"",IF(L22<>"",IF(L20=L22,"",IF(L20>L22,K20,K22)),""),"") -> RAYANE, ISADORA, BIANCA | P35: 1 | V35: =IF(U35="","",VLOOKUP(U35,LISTAS!$F$5:$G$204,2,0)) | W35: =IF(S35="","",IF(S35=1,400,IF(S35=2,340,IF(S35=3,300,IF(S35=4,280,IF(S35=5,270,IF(S35=6,260,IF(S35=7,250,IF(S35=8,240,IF(S35=9,200,IF(S35=10,200,IF(S35=11,200,IF(S35=12,200,IF(S35=13,200,IF(S35=14,200,IF(S35=15,200,IF(S35=16,200,IF(S35>16,"","")))))))))))))))))) | X35: =IF(S35="","",IF($V$5="NÃO","",IF(S35=1,400,IF(S35=2,340,IF(S35=3,300,IF(S35=4,280,IF(S35=5,270,IF(S35=6,260,IF(S35=7,250,IF(S35=8,240,IF(S35=9,200,IF(S35=10,200,IF(S35=11,200,IF(S35=12,200,IF(S35=13,200,IF(S35=14,200,IF(S35=15,200,IF(S35=16,200,IF(S35>16,"","")))))))))))))))))))
O36: =IF(O35="","",VLOOKUP(O35,LISTAS!$F$5:$G$204,2,0)) -> SÃO JOSÉ - S.A
O37: =IF(L51<>"",IF(L53<>"",IF(L51=L53,"",IF(L51>L53,K51,K53)),""),"") -> LORENA, BARBARA, FERNANDA, MANUELA | P37: 0 | V37: =IF(U37="","",VLOOKUP(U37,LISTAS!$F$5:$G$204,2,0)) | W37: =IF(S37="","",IF(S37=1,400,IF(S37=2,340,IF(S37=3,300,IF(S37=4,280,IF(S37=5,270,IF(S37=6,260,IF(S37=7,250,IF(S37=8,240,IF(S37=9,200,IF(S37=10,200,IF(S37=11,200,IF(S37=12,200,IF(S37=13,200,IF(S37=14,200,IF(S37=15,200,IF(S37=16,200,IF(S37>16,"","")))))))))))))))))) | X37: =IF(S37="","",IF($V$5="NÃO","",IF(S37=1,400,IF(S37=2,340,IF(S37=3,300,IF(S37=4,280,IF(S37=5,270,IF(S37=6,260,IF(S37=7,250,IF(S37=8,240,IF(S37=9,200,IF(S37=10,200,IF(S37=11,200,IF(S37=12,200,IF(S37=13,200,IF(S37=14,200,IF(S37=15,200,IF(S37=16,200,IF(S37>16,"","")))))))))))))))))))
O38: =IF(O37="","",VLOOKUP(O37,LISTAS!$F$5:$G$204,2,0)) -> SÃO JOSÉ - S.A
B39: 3 | D39: 0 | E39: =IF(D39<>"",D39,"") -> 0 | F39: =IF(D39<>"",IF(C39="","",C39),"") | G39: =IF(E39<>"",IF(E41<>"",SMALL(E39:F41,1),""),"") -> 0 | V39: =IF(U39="","",VLOOKUP(U39,LISTAS!$F$5:$G$204,2,0)) | W39: =IF(S39="","",IF(S39=1,400,IF(S39=2,340,IF(S39=3,300,IF(S39=4,280,IF(S39=5,270,IF(S39=6,260,IF(S39=7,250,IF(S39=8,240,IF(S39=9,200,IF(S39=10,200,IF(S39=11,200,IF(S39=12,200,IF(S39=13,200,IF(S39=14,200,IF(S39=15,200,IF(S39=16,200,IF(S39>16,"","")))))))))))))))))) | X39: =IF(S39="","",IF($V$5="NÃO","",IF(S39=1,400,IF(S39=2,340,IF(S39=3,300,IF(S39=4,280,IF(S39=5,270,IF(S39=6,260,IF(S39=7,250,IF(S39=8,240,IF(S39=9,200,IF(S39=10,200,IF(S39=11,200,IF(S39=12,200,IF(S39=13,200,IF(S39=14,200,IF(S39=15,200,IF(S39=16,200,IF(S39>16,"","")))))))))))))))))))
C40: =IF(C39="","",VLOOKUP(C39,LISTAS!$F$5:$G$204,2,0))
B41: 14 | D41: 0 | E41: =IF(D41<>"",D41,"") -> 0 | F41: =IF(D41<>"",IF(C41="","",C41),"") | G41: =VLOOKUP(G39,E39:F41,2,0) | V41: =IF(U41="","",VLOOKUP(U41,LISTAS!$F$5:$G$204,2,0)) | W41: =IF(S41="","",IF(S41=1,400,IF(S41=2,340,IF(S41=3,300,IF(S41=4,280,IF(S41=5,270,IF(S41=6,260,IF(S41=7,250,IF(S41=8,240,IF(S41=9,200,IF(S41=10,200,IF(S41=11,200,IF(S41=12,200,IF(S41=13,200,IF(S41=14,200,IF(S41=15,200,IF(S41=16,200,IF(S41>16,"","")))))))))))))))))) | X41: =IF(S41="","",IF($V$5="NÃO","",IF(S41=1,400,IF(S41=2,340,IF(S41=3,300,IF(S41=4,280,IF(S41=5,270,IF(S41=6,260,IF(S41=7,250,IF(S41=8,240,IF(S41=9,200,IF(S41=10,200,IF(S41=11,200,IF(S41=12,200,IF(S41=13,200,IF(S41=14,200,IF(S41=15,200,IF(S41=16,200,IF(S41>16,"","")))))))))))))))))))
C42: =IF(C41="","",VLOOKUP(C41,LISTAS!$F$5:$G$204,2,0))
G43: =IF(D39<>"",IF(D41<>"",IF(D39=D41,"",IF(D39>D41,C39,C41)),""),"") | H43: 0 | I43: =IF(H43<>"",H43,"") -> 0 | J43: =IF(H43<>"",IF(G43="","",G43),"") | K43: =IF(I43<>"",IF(I45<>"",SMALL(I43:J45,1),""),"") -> 0 | V43: =IF(U43="","",VLOOKUP(U43,LISTAS!$F$5:$G$204,2,0)) | W43: =IF(S43="","",IF(S43=1,400,IF(S43=2,340,IF(S43=3,300,IF(S43=4,280,IF(S43=5,270,IF(S43=6,260,IF(S43=7,250,IF(S43=8,240,IF(S43=9,200,IF(S43=10,200,IF(S43=11,200,IF(S43=12,200,IF(S43=13,200,IF(S43=14,200,IF(S43=15,200,IF(S43=16,200,IF(S43>16,"","")))))))))))))))))) | X43: =IF(S43="","",IF($V$5="NÃO","",IF(S43=1,400,IF(S43=2,340,IF(S43=3,300,IF(S43=4,280,IF(S43=5,270,IF(S43=6,260,IF(S43=7,250,IF(S43=8,240,IF(S43=9,200,IF(S43=10,200,IF(S43=11,200,IF(S43=12,200,IF(S43=13,200,IF(S43=14,200,IF(S43=15,200,IF(S43=16,200,IF(S43>16,"","")))))))))))))))))))
G44: =IF(G43="","",VLOOKUP(G43,LISTAS!$F$5:$G$204,2,0))
G45: =IF(D47<>"",IF(D49<>"",IF(D47=D49,"",IF(D47>D49,C47,C49)),""),"") -> LORENA, BARBARA, FERNANDA, MANUELA | H45: 1 | I45: =IF(H45<>"",H45,"") -> 1 | J45: =IF(H45<>"",IF(G45="","",G45),"") -> LORENA, BARBARA, FERNANDA, MANUELA | K45: =VLOOKUP(K43,I43:J45,2,0) | V45: =IF(U45="","",VLOOKUP(U45,LISTAS!$F$5:$G$204,2,0)) | W45: =IF(S45="","",IF(S45=1,400,IF(S45=2,340,IF(S45=3,300,IF(S45=4,280,IF(S45=5,270,IF(S45=6,260,IF(S45=7,250,IF(S45=8,240,IF(S45=9,200,IF(S45=10,200,IF(S45=11,200,IF(S45=12,200,IF(S45=13,200,IF(S45=14,200,IF(S45=15,200,IF(S45=16,200,IF(S45>16,"","")))))))))))))))))) | X45: =IF(S45="","",IF($V$5="NÃO","",IF(S45=1,400,IF(S45=2,340,IF(S45=3,300,IF(S45=4,280,IF(S45=5,270,IF(S45=6,260,IF(S45=7,250,IF(S45=8,240,IF(S45=9,200,IF(S45=10,200,IF(S45=11,200,IF(S45=12,200,IF(S45=13,200,IF(S45=14,200,IF(S45=15,200,IF(S45=16,200,IF(S45>16,"","")))))))))))))))))))
G46: =IF(G45="","",VLOOKUP(G45,LISTAS!$F$5:$G$204,2,0)) -> SÃO JOSÉ - S.A
B47: 5 | C47: LORENA, BARBARA, FERNANDA, MANUELA | D47: 1 | E47: =IF(D47<>"",D47,"") -> 1 | F47: =IF(D47<>"",IF(C47="","",C47),"") -> LORENA, BARBARA, FERNANDA, MANUELA | G47: =IF(E47<>"",IF(E49<>"",SMALL(E47:F49,1),""),"") -> 0 | V47: =IF(U47="","",VLOOKUP(U47,LISTAS!$F$5:$G$204,2,0)) | W47: =IF(S47="","",IF(S47=1,400,IF(S47=2,340,IF(S47=3,300,IF(S47=4,280,IF(S47=5,270,IF(S47=6,260,IF(S47=7,250,IF(S47=8,240,IF(S47=9,200,IF(S47=10,200,IF(S47=11,200,IF(S47=12,200,IF(S47=13,200,IF(S47=14,200,IF(S47=15,200,IF(S47=16,200,IF(S47>16,"","")))))))))))))))))) | X47: =IF(S47="","",IF($V$5="NÃO","",IF(S47=1,400,IF(S47=2,340,IF(S47=3,300,IF(S47=4,280,IF(S47=5,270,IF(S47=6,260,IF(S47=7,250,IF(S47=8,240,IF(S47=9,200,IF(S47=10,200,IF(S47=11,200,IF(S47=12,200,IF(S47=13,200,IF(S47=14,200,IF(S47=15,200,IF(S47=16,200,IF(S47>16,"","")))))))))))))))))))
C48: =IF(C47="","",VLOOKUP(C47,LISTAS!$F$5:$G$204,2,0)) -> SÃO JOSÉ - S.A
B49: 12 | D49: 0 | E49: =IF(D49<>"",D49,"") -> 0 | F49: =IF(D49<>"",IF(C49="","",C49),"") | G49: =VLOOKUP(G47,E47:F49,2,0) | V49: =IF(U49="","",VLOOKUP(U49,LISTAS!$F$5:$G$204,2,0)) | W49: =IF(S49="","",IF(S49=1,400,IF(S49=2,340,IF(S49=3,300,IF(S49=4,280,IF(S49=5,270,IF(S49=6,260,IF(S49=7,250,IF(S49=8,240,IF(S49=9,200,IF(S49=10,200,IF(S49=11,200,IF(S49=12,200,IF(S49=13,200,IF(S49=14,200,IF(S49=15,200,IF(S49=16,200,IF(S49>16,"","")))))))))))))))))) | X49: =IF(S49="","",IF($V$5="NÃO","",IF(S49=1,400,IF(S49=2,340,IF(S49=3,300,IF(S49=4,280,IF(S49=5,270,IF(S49=6,260,IF(S49=7,250,IF(S49=8,240,IF(S49=9,200,IF(S49=10,200,IF(S49=11,200,IF(S49=12,200,IF(S49=13,200,IF(S49=14,200,IF(S49=15,200,IF(S49=16,200,IF(S49>16,"","")))))))))))))))))))
C50: =IF(C49="","",VLOOKUP(C49,LISTAS!$F$5:$G$204,2,0))
K51: =IF(H43<>"",IF(H45<>"",IF(H43=H45,"",IF(H43>H45,G43,G45)),""),"") -> LORENA, BARBARA, FERNANDA, MANUELA | L51: 1 | M51: =IF(L51<>"",L51,"") -> 1 | N51: =IF(L51<>"",IF(K51="","",K51),"") -> LORENA, BARBARA, FERNANDA, MANUELA | O51: =IF(M51<>"",IF(M53<>"",SMALL(M51:N53,1),""),"") -> 0 | V51: =IF(U51="","",VLOOKUP(U51,LISTAS!$F$5:$G$204,2,0)) | W51: =IF(S51="","",IF(S51=1,400,IF(S51=2,340,IF(S51=3,300,IF(S51=4,280,IF(S51=5,270,IF(S51=6,260,IF(S51=7,250,IF(S51=8,240,IF(S51=9,200,IF(S51=10,200,IF(S51=11,200,IF(S51=12,200,IF(S51=13,200,IF(S51=14,200,IF(S51=15,200,IF(S51=16,200,IF(S51>16,"","")))))))))))))))))) | X51: =IF(S51="","",IF($V$5="NÃO","",IF(S51=1,400,IF(S51=2,340,IF(S51=3,300,IF(S51=4,280,IF(S51=5,270,IF(S51=6,260,IF(S51=7,250,IF(S51=8,240,IF(S51=9,200,IF(S51=10,200,IF(S51=11,200,IF(S51=12,200,IF(S51=13,200,IF(S51=14,200,IF(S51=15,200,IF(S51=16,200,IF(S51>16,"","")))))))))))))))))))
K52: =IF(K51="","",VLOOKUP(K51,LISTAS!$F$5:$G$204,2,0)) -> SÃO JOSÉ - S.A
K53: =IF(H59<>"",IF(H61<>"",IF(H59=H61,"",IF(H59>H61,G59,G61)),""),"") -> ANA, BEATRIZ, MANUELA, MARIA | L53: 0 | M53: =IF(L53<>"",L53,"") -> 0 | N53: =IF(L53<>"",IF(K53="","",K53),"") -> ANA, BEATRIZ, MANUELA, MARIA | O53: =VLOOKUP(O51,M51:N53,2,0) -> ANA, BEATRIZ, MANUELA, MARIA | V53: =IF(U53="","",VLOOKUP(U53,LISTAS!$F$5:$G$204,2,0)) | W53: =IF(S53="","",IF(S53=1,400,IF(S53=2,340,IF(S53=3,300,IF(S53=4,280,IF(S53=5,270,IF(S53=6,260,IF(S53=7,250,IF(S53=8,240,IF(S53=9,200,IF(S53=10,200,IF(S53=11,200,IF(S53=12,200,IF(S53=13,200,IF(S53=14,200,IF(S53=15,200,IF(S53=16,200,IF(S53>16,"","")))))))))))))))))) | X53: =IF(S53="","",IF($V$5="NÃO","",IF(S53=1,400,IF(S53=2,340,IF(S53=3,300,IF(S53=4,280,IF(S53=5,270,IF(S53=6,260,IF(S53=7,250,IF(S53=8,240,IF(S53=9,200,IF(S53=10,200,IF(S53=11,200,IF(S53=12,200,IF(S53=13,200,IF(S53=14,200,IF(S53=15,200,IF(S53=16,200,IF(S53>16,"","")))))))))))))))))))
K54: =IF(K53="","",VLOOKUP(K53,LISTAS!$F$5:$G$204,2,0)) -> VILLARE - SCS
B55: 8 | D55: 0 | E55: Q | F55: =IF(D55<>"",IF(C55="","",C55),"") | G55: =IF(E55<>"",IF(E57<>"",SMALL(E55:F57,1),""),"") -> 0 | V55: =IF(U55="","",VLOOKUP(U55,LISTAS!$F$5:$G$204,2,0)) | W55: =IF(S55="","",IF(S55=1,400,IF(S55=2,340,IF(S55=3,300,IF(S55=4,280,IF(S55=5,270,IF(S55=6,260,IF(S55=7,250,IF(S55=8,240,IF(S55=9,200,IF(S55=10,200,IF(S55=11,200,IF(S55=12,200,IF(S55=13,200,IF(S55=14,200,IF(S55=15,200,IF(S55=16,200,IF(S55>16,"","")))))))))))))))))) | X55: =IF(S55="","",IF($V$5="NÃO","",IF(S55=1,400,IF(S55=2,340,IF(S55=3,300,IF(S55=4,280,IF(S55=5,270,IF(S55=6,260,IF(S55=7,250,IF(S55=8,240,IF(S55=9,200,IF(S55=10,200,IF(S55=11,200,IF(S55=12,200,IF(S55=13,200,IF(S55=14,200,IF(S55=15,200,IF(S55=16,200,IF(S55>16,"","")))))))))))))))))))
C56: =IF(C55="","",VLOOKUP(C55,LISTAS!$F$5:$G$204,2,0))
B57: 10 | D57: 0 | E57: =IF(D57<>"",D57,"") -> 0 | F57: =IF(D57<>"",IF(C57="","",C57),"") | G57: =VLOOKUP(G55,E55:F57,2,0) | V57: =IF(U57="","",VLOOKUP(U57,LISTAS!$F$5:$G$204,2,0)) | W57: =IF(S57="","",IF(S57=1,400,IF(S57=2,340,IF(S57=3,300,IF(S57=4,280,IF(S57=5,270,IF(S57=6,260,IF(S57=7,250,IF(S57=8,240,IF(S57=9,200,IF(S57=10,200,IF(S57=11,200,IF(S57=12,200,IF(S57=13,200,IF(S57=14,200,IF(S57=15,200,IF(S57=16,200,IF(S57>16,"","")))))))))))))))))) | X57: =IF(S57="","",IF($V$5="NÃO","",IF(S57=1,400,IF(S57=2,340,IF(S57=3,300,IF(S57=4,280,IF(S57=5,270,IF(S57=6,260,IF(S57=7,250,IF(S57=8,240,IF(S57=9,200,IF(S57=10,200,IF(S57=11,200,IF(S57=12,200,IF(S57=13,200,IF(S57=14,200,IF(S57=15,200,IF(S57=16,200,IF(S57>16,"","")))))))))))))))))))
C58: =IF(C57="","",VLOOKUP(C57,LISTAS!$F$5:$G$204,2,0))
G59: =IF(D55<>"",IF(D57<>"",IF(D55=D57,"",IF(D55>D57,C55,C57)),""),"") | H59: 0 | I59: =IF(H59<>"",H59,"") -> 0 | J59: =IF(H59<>"",IF(G59="","",G59),"") | K59: =IF(I59<>"",IF(I61<>"",SMALL(I59:J61,1),""),"") -> 0 | V59: =IF(U59="","",VLOOKUP(U59,LISTAS!$F$5:$G$204,2,0)) | W59: =IF(S59="","",IF(S59=1,400,IF(S59=2,340,IF(S59=3,300,IF(S59=4,280,IF(S59=5,270,IF(S59=6,260,IF(S59=7,250,IF(S59=8,240,IF(S59=9,200,IF(S59=10,200,IF(S59=11,200,IF(S59=12,200,IF(S59=13,200,IF(S59=14,200,IF(S59=15,200,IF(S59=16,200,IF(S59>16,"","")))))))))))))))))) | X59: =IF(S59="","",IF($V$5="NÃO","",IF(S59=1,400,IF(S59=2,340,IF(S59=3,300,IF(S59=4,280,IF(S59=5,270,IF(S59=6,260,IF(S59=7,250,IF(S59=8,240,IF(S59=9,200,IF(S59=10,200,IF(S59=11,200,IF(S59=12,200,IF(S59=13,200,IF(S59=14,200,IF(S59=15,200,IF(S59=16,200,IF(S59>16,"","")))))))))))))))))))
G60: =IF(G59="","",VLOOKUP(G59,LISTAS!$F$5:$G$204,2,0))
G61: =IF(D63<>"",IF(D65<>"",IF(D63=D65,"",IF(D63>D65,C63,C65)),""),"") -> ANA, BEATRIZ, MANUELA, MARIA | H61: 1 | I61: =IF(H61<>"",H61,"") -> 1 | J61: =IF(H61<>"",IF(G61="","",G61),"") -> ANA, BEATRIZ, MANUELA, MARIA | K61: =VLOOKUP(K59,I59:J61,2,0) | V61: =IF(U61="","",VLOOKUP(U61,LISTAS!$F$5:$G$204,2,0)) | W61: =IF(S61="","",IF(S61=1,400,IF(S61=2,340,IF(S61=3,300,IF(S61=4,280,IF(S61=5,270,IF(S61=6,260,IF(S61=7,250,IF(S61=8,240,IF(S61=9,200,IF(S61=10,200,IF(S61=11,200,IF(S61=12,200,IF(S61=13,200,IF(S61=14,200,IF(S61=15,200,IF(S61=16,200,IF(S61>16,"","")))))))))))))))))) | X61: =IF(S61="","",IF($V$5="NÃO","",IF(S61=1,400,IF(S61=2,340,IF(S61=3,300,IF(S61=4,280,IF(S61=5,270,IF(S61=6,260,IF(S61=7,250,IF(S61=8,240,IF(S61=9,200,IF(S61=10,200,IF(S61=11,200,IF(S61=12,200,IF(S61=13,200,IF(S61=14,200,IF(S61=15,200,IF(S61=16,200,IF(S61>16,"","")))))))))))))))))))
G62: =IF(G61="","",VLOOKUP(G61,LISTAS!$F$5:$G$204,2,0)) -> VILLARE - SCS
B63: 2 | D63: 0 | E63: =IF(D63<>"",D63,"") -> 0 | F63: =IF(D63<>"",IF(C63="","",C63),"") | G63: =IF(E63<>"",IF(E65<>"",SMALL(E63:F65,1),""),"") -> 0 | V63: =IF(U63="","",VLOOKUP(U63,LISTAS!$F$5:$G$204,2,0)) | W63: =IF(S63="","",IF(S63=1,400,IF(S63=2,340,IF(S63=3,300,IF(S63=4,280,IF(S63=5,270,IF(S63=6,260,IF(S63=7,250,IF(S63=8,240,IF(S63=9,200,IF(S63=10,200,IF(S63=11,200,IF(S63=12,200,IF(S63=13,200,IF(S63=14,200,IF(S63=15,200,IF(S63=16,200,IF(S63>16,"","")))))))))))))))))) | X63: =IF(S63="","",IF($V$5="NÃO","",IF(S63=1,400,IF(S63=2,340,IF(S63=3,300,IF(S63=4,280,IF(S63=5,270,IF(S63=6,260,IF(S63=7,250,IF(S63=8,240,IF(S63=9,200,IF(S63=10,200,IF(S63=11,200,IF(S63=12,200,IF(S63=13,200,IF(S63=14,200,IF(S63=15,200,IF(S63=16,200,IF(S63>16,"","")))))))))))))))))))
C64: =IF(C63="","",VLOOKUP(C63,LISTAS!$F$5:$G$204,2,0))
B65: 15 | C65: ANA, BEATRIZ, MANUELA, MARIA | D65: 1 | E65: =IF(D65<>"",D65,"") -> 1 | F65: =IF(D65<>"",IF(C65="","",C65),"") -> ANA, BEATRIZ, MANUELA, MARIA | G65: =VLOOKUP(G63,E63:F65,2,0) | V65: =IF(U65="","",VLOOKUP(U65,LISTAS!$F$5:$G$204,2,0)) | W65: =IF(S65="","",IF(S65=1,400,IF(S65=2,340,IF(S65=3,300,IF(S65=4,280,IF(S65=5,270,IF(S65=6,260,IF(S65=7,250,IF(S65=8,240,IF(S65=9,200,IF(S65=10,200,IF(S65=11,200,IF(S65=12,200,IF(S65=13,200,IF(S65=14,200,IF(S65=15,200,IF(S65=16,200,IF(S65>16,"","")))))))))))))))))) | X65: =IF(S65="","",IF($V$5="NÃO","",IF(S65=1,400,IF(S65=2,340,IF(S65=3,300,IF(S65=4,280,IF(S65=5,270,IF(S65=6,260,IF(S65=7,250,IF(S65=8,240,IF(S65=9,200,IF(S65=10,200,IF(S65=11,200,IF(S65=12,200,IF(S65=13,200,IF(S65=14,200,IF(S65=15,200,IF(S65=16,200,IF(S65>16,"","")))))))))))))))))))
C66: =IF(C65="","",VLOOKUP(C65,LISTAS!$F$5:$G$204,2,0)) -> VILLARE - SCS
V67: =IF(U67="","",VLOOKUP(U67,LISTAS!$F$5:$G$204,2,0)) | W67: =IF(S67="","",IF(S67=1,400,IF(S67=2,340,IF(S67=3,300,IF(S67=4,280,IF(S67=5,270,IF(S67=6,260,IF(S67=7,250,IF(S67=8,240,IF(S67=9,200,IF(S67=10,200,IF(S67=11,200,IF(S67=12,200,IF(S67=13,200,IF(S67=14,200,IF(S67=15,200,IF(S67=16,200,IF(S67>16,"","")))))))))))))))))) | X67: =IF(S67="","",IF($V$5="NÃO","",IF(S67=1,400,IF(S67=2,340,IF(S67=3,300,IF(S67=4,280,IF(S67=5,270,IF(S67=6,260,IF(S67=7,250,IF(S67=8,240,IF(S67=9,200,IF(S67=10,200,IF(S67=11,200,IF(S67=12,200,IF(S67=13,200,IF(S67=14,200,IF(S67=15,200,IF(S67=16,200,IF(S67>16,"","")))))))))))))))))))
B70: S É R I E P R A T A | S70: S É R I E P R A T A
S71: CLASSIFICAÇÃO | U71: NOMES | V71: ESCOLA | W71: PONTUAÇÃO ALUNO | X71: PONTUAÇÃO ESCOLA
B72: 1 | C72: NATHALIA, NINA, LUISA | D72: 1 | E72: =IF(D72<>"",D72,"") -> 1 | F72: =IF(D72<>"",IF(C72="","",C72),"") -> NATHALIA, NINA, LUISA | G72: =IF(E72<>"",IF(E74<>"",SMALL(E72:F74,1),""),"") -> 0 | S72: =IF(U72<>"",1,"") -> 1 | T72: =IF(S72<>"","LUGAR","") -> LUGAR | U72: =IF(P100<>"",IF(P102<>"",IF(P100=P102,"",IF(P100>P102,O100,O102)),""),"") -> NATHALIA, NINA, LUISA | V72: =IF(U72="","",VLOOKUP(U72,LISTAS!$F$5:$G$204,2,0)) -> ARBOS SBC | W72: =IF(S72="","",IF(S72=1,180,IF(S72=2,170,IF(S72=3,150,IF(S72=4,140,IF(S72=5,135,IF(S72=6,130,IF(S72=7,120,IF(S72=8,110,IF(S72=9,105,IF(S72=10,105,IF(S72=11,105,IF(S72=12,105,IF(S72=13,105,IF(S72=14,105,IF(S72=15,105,IF(S72=16,105,IF(S72>16,"","")))))))))))))))))) -> 180 | X72: =IF(S72="","",IF($V$5="NÃO","",IF(S72=1,180,IF(S72=2,170,IF(S72=3,150,IF(S72=4,140,IF(S72=5,135,IF(S72=6,130,IF(S72=7,120,IF(S72=8,110,IF(S72=9,105,IF(S72=10,105,IF(S72=11,105,IF(S72=12,105,IF(S72=13,105,IF(S72=14,105,IF(S72=15,105,IF(S72=16,105,IF(S72>16,"",""))))))))))))))))))) -> 180
C73: =IF(C72="","",VLOOKUP(C72,LISTAS!$F$5:$G$204,2,0)) -> ARBOS SBC | S73: =IF(U73<>"",1+COUNTIF(S72,"1"),"") -> 2 | T73: =IF(S73<>"","LUGAR","") -> LUGAR | U73: =IF(P100<>"",IF(P102<>"",IF(P100=P102,"",IF(P100<P102,O100,O102)),""),"") -> ISABELLE, JULIA, GIOVANNA | V73: =IF(U73="","",VLOOKUP(U73,LISTAS!$F$5:$G$204,2,0)) -> LICEU JARDIM | W73: =IF(S73="","",IF(S73=1,180,IF(S73=2,170,IF(S73=3,150,IF(S73=4,140,IF(S73=5,135,IF(S73=6,130,IF(S73=7,120,IF(S73=8,110,IF(S73=9,105,IF(S73=10,105,IF(S73=11,105,IF(S73=12,105,IF(S73=13,105,IF(S73=14,105,IF(S73=15,105,IF(S73=16,105,IF(S73>16,"","")))))))))))))))))) -> 170 | X73: =IF(S73="","",IF($V$5="NÃO","",IF(S73=1,180,IF(S73=2,170,IF(S73=3,150,IF(S73=4,140,IF(S73=5,135,IF(S73=6,130,IF(S73=7,120,IF(S73=8,110,IF(S73=9,105,IF(S73=10,105,IF(S73=11,105,IF(S73=12,105,IF(S73=13,105,IF(S73=14,105,IF(S73=15,105,IF(S73=16,105,IF(S73>16,"",""))))))))))))))))))) -> 170
B74: 16 | D74: 0 | E74: =IF(D74<>"",D74,"") -> 0 | F74: =IF(D74<>"",IF(C74="","",C74),"") | G74: =VLOOKUP(G72,E72:F74,2,0) | S74: =IF(U74<>"",1+COUNTIF(S72:S73,"1")+COUNTIF(S72:S73,"2"),"") -> 3 | T74: =IF(S74<>"","LUGAR","") -> LUGAR | U74: =IF(U72<>"",IF(K84=U72,K86,IF(K86=U72,K84,IF(K116=U72,K118,IF(K118=U72,K116)))),"") -> ISADORA, ISABELLE, MARIA | V74: =IF(U74="","",VLOOKUP(U74,LISTAS!$F$5:$G$204,2,0)) -> LICEU JARDIM | W74: =IF(S74="","",IF(S74=1,180,IF(S74=2,170,IF(S74=3,150,IF(S74=4,140,IF(S74=5,135,IF(S74=6,130,IF(S74=7,120,IF(S74=8,110,IF(S74=9,105,IF(S74=10,105,IF(S74=11,105,IF(S74=12,105,IF(S74=13,105,IF(S74=14,105,IF(S74=15,105,IF(S74=16,105,IF(S74>16,"","")))))))))))))))))) -> 150 | X74: =IF(S74="","",IF($V$5="NÃO","",IF(S74=1,180,IF(S74=2,170,IF(S74=3,150,IF(S74=4,140,IF(S74=5,135,IF(S74=6,130,IF(S74=7,120,IF(S74=8,110,IF(S74=9,105,IF(S74=10,105,IF(S74=11,105,IF(S74=12,105,IF(S74=13,105,IF(S74=14,105,IF(S74=15,105,IF(S74=16,105,IF(S74>16,"",""))))))))))))))))))) -> 150
C75: =IF(C74="","",VLOOKUP(C74,LISTAS!$F$5:$G$204,2,0)) | S75: =IF(U75<>"",1+COUNTIF(S72:S74,"1")+COUNTIF(S72:S74,"2")+COUNTIF(S72:S74,"3"),"") -> 4 | T75: =IF(S75<>"","LUGAR","") -> LUGAR | U75: =IF(U73<>"",IF(K84=U73,K86,IF(K86=U73,K84,IF(K116=U73,K118,IF(K118=U73,K116)))),"") -> HELENA, LUIZA, ISABELA, LAURA | V75: =IF(U75="","",VLOOKUP(U75,LISTAS!$F$5:$G$204,2,0)) -> STAGIUM - DIAD | W75: =IF(S75="","",IF(S75=1,180,IF(S75=2,170,IF(S75=3,150,IF(S75=4,140,IF(S75=5,135,IF(S75=6,130,IF(S75=7,120,IF(S75=8,110,IF(S75=9,105,IF(S75=10,105,IF(S75=11,105,IF(S75=12,105,IF(S75=13,105,IF(S75=14,105,IF(S75=15,105,IF(S75=16,105,IF(S75>16,"","")))))))))))))))))) -> 140 | X75: =IF(S75="","",IF($V$5="NÃO","",IF(S75=1,180,IF(S75=2,170,IF(S75=3,150,IF(S75=4,140,IF(S75=5,135,IF(S75=6,130,IF(S75=7,120,IF(S75=8,110,IF(S75=9,105,IF(S75=10,105,IF(S75=11,105,IF(S75=12,105,IF(S75=13,105,IF(S75=14,105,IF(S75=15,105,IF(S75=16,105,IF(S75>16,"",""))))))))))))))))))) -> 140
G76: =IF(D72<>"",IF(D74<>"",IF(D72=D74,"",IF(D72>D74,C72,C74)),""),"") -> NATHALIA, NINA, LUISA | H76: 1 | I76: =IF(H76<>"",H76,"") -> 1 | J76: =IF(H76<>"",IF(G76="","",G76),"") -> NATHALIA, NINA, LUISA | K76: =IF(I76<>"",IF(I78<>"",SMALL(I76:J78,1),""),"") -> 0 | S76: =IF(U76<>"",1+COUNTIF(S72:S75,"1")+COUNTIF(S72:S75,"2")+COUNTIF(S72:S75,"3")+COUNTIF(S72:S75,"4"),"") | T76: =IF(S76<>"","LUGAR","") | U76: =IF(U72<>"",IF(G76=U72,G78,IF(G78=U72,G76,IF(G92=U72,G94,IF(G94=U72,G92,IF(G108=U72,G110,IF(G110=U72,G108,IF(G124=U72,G126,IF(G126=U72,G124)))))))),"") | V76: =IF(U76="","",VLOOKUP(U76,LISTAS!$F$5:$G$204,2,0)) | W76: =IF(S76="","",IF(S76=1,180,IF(S76=2,170,IF(S76=3,150,IF(S76=4,140,IF(S76=5,135,IF(S76=6,130,IF(S76=7,120,IF(S76=8,110,IF(S76=9,105,IF(S76=10,105,IF(S76=11,105,IF(S76=12,105,IF(S76=13,105,IF(S76=14,105,IF(S76=15,105,IF(S76=16,105,IF(S76>16,"","")))))))))))))))))) | X76: =IF(S76="","",IF($V$5="NÃO","",IF(S76=1,180,IF(S76=2,170,IF(S76=3,150,IF(S76=4,140,IF(S76=5,135,IF(S76=6,130,IF(S76=7,120,IF(S76=8,110,IF(S76=9,105,IF(S76=10,105,IF(S76=11,105,IF(S76=12,105,IF(S76=13,105,IF(S76=14,105,IF(S76=15,105,IF(S76=16,105,IF(S76>16,"","")))))))))))))))))))
G77: =IF(G76="","",VLOOKUP(G76,LISTAS!$F$5:$G$204,2,0)) -> ARBOS SBC | S77: =IF(U77<>"",1+COUNTIF(S72:S76,"1")+COUNTIF(S72:S76,"2")+COUNTIF(S72:S76,"3")+COUNTIF(S72:S76,"4")+COUNTIF(S72:S76,"5"),"") | T77: =IF(S77<>"","LUGAR","") | U77: =IF(U73<>"",IF(G76=U73,G78,IF(G78=U73,G76,IF(G92=U73,G94,IF(G94=U73,G92,IF(G108=U73,G110,IF(G110=U73,G108,IF(G124=U73,G126,IF(G126=U73,G124)))))))),"") | V77: =IF(U77="","",VLOOKUP(U77,LISTAS!$F$5:$G$204,2,0)) | W77: =IF(S77="","",IF(S77=1,180,IF(S77=2,170,IF(S77=3,150,IF(S77=4,140,IF(S77=5,135,IF(S77=6,130,IF(S77=7,120,IF(S77=8,110,IF(S77=9,105,IF(S77=10,105,IF(S77=11,105,IF(S77=12,105,IF(S77=13,105,IF(S77=14,105,IF(S77=15,105,IF(S77=16,105,IF(S77>16,"","")))))))))))))))))) | X77: =IF(S77="","",IF($V$5="NÃO","",IF(S77=1,180,IF(S77=2,170,IF(S77=3,150,IF(S77=4,140,IF(S77=5,135,IF(S77=6,130,IF(S77=7,120,IF(S77=8,110,IF(S77=9,105,IF(S77=10,105,IF(S77=11,105,IF(S77=12,105,IF(S77=13,105,IF(S77=14,105,IF(S77=15,105,IF(S77=16,105,IF(S77>16,"","")))))))))))))))))))
G78: =IF(D80<>"",IF(D82<>"",IF(D80=D82,"",IF(D80>D82,C80,C82)),""),"") | H78: 0 | I78: =IF(H78<>"",H78,"") -> 0 | J78: =IF(H78<>"",IF(G78="","",G78),"") | K78: =VLOOKUP(K76,I76:J78,2,0) | S78: =IF(U78<>"",1+COUNTIF(S72:S77,"1")+COUNTIF(S72:S77,"2")+COUNTIF(S72:S77,"3")+COUNTIF(S72:S77,"4")+COUNTIF(S72:S77,"5")+COUNTIF(S72:S77,"6"),"") | T78: =IF(S78<>"","LUGAR","") | U78: =IF(U74<>"",IF(G76=U74,G78,IF(G78=U74,G76,IF(G92=U74,G94,IF(G94=U74,G92,IF(G108=U74,G110,IF(G110=U74,G108,IF(G124=U74,G126,IF(G126=U74,G124)))))))),"") | V78: =IF(U78="","",VLOOKUP(U78,LISTAS!$F$5:$G$204,2,0)) | W78: =IF(S78="","",IF(S78=1,180,IF(S78=2,170,IF(S78=3,150,IF(S78=4,140,IF(S78=5,135,IF(S78=6,130,IF(S78=7,120,IF(S78=8,110,IF(S78=9,105,IF(S78=10,105,IF(S78=11,105,IF(S78=12,105,IF(S78=13,105,IF(S78=14,105,IF(S78=15,105,IF(S78=16,105,IF(S78>16,"","")))))))))))))))))) | X78: =IF(S78="","",IF($V$5="NÃO","",IF(S78=1,180,IF(S78=2,170,IF(S78=3,150,IF(S78=4,140,IF(S78=5,135,IF(S78=6,130,IF(S78=7,120,IF(S78=8,110,IF(S78=9,105,IF(S78=10,105,IF(S78=11,105,IF(S78=12,105,IF(S78=13,105,IF(S78=14,105,IF(S78=15,105,IF(S78=16,105,IF(S78>16,"","")))))))))))))))))))
G79: =IF(G78="","",VLOOKUP(G78,LISTAS!$F$5:$G$204,2,0)) | S79: =IF(U79<>"",1+COUNTIF(S72:S78,"1")+COUNTIF(S72:S78,"2")+COUNTIF(S72:S78,"3")+COUNTIF(S72:S78,"4")+COUNTIF(S72:S78,"5")+COUNTIF(S72:S78,"6")+COUNTIF(S72:S78,"7"),"") | T79: =IF(S79<>"","LUGAR","") | U79: =IF(U75<>"",IF(G76=U75,G78,IF(G78=U75,G76,IF(G92=U75,G94,IF(G94=U75,G92,IF(G108=U75,G110,IF(G110=U75,G108,IF(G124=U75,G126,IF(G126=U75,G124)))))))),"") | V79: =IF(U79="","",VLOOKUP(U79,LISTAS!$F$5:$G$204,2,0)) | W79: =IF(S79="","",IF(S79=1,180,IF(S79=2,170,IF(S79=3,150,IF(S79=4,140,IF(S79=5,135,IF(S79=6,130,IF(S79=7,120,IF(S79=8,110,IF(S79=9,105,IF(S79=10,105,IF(S79=11,105,IF(S79=12,105,IF(S79=13,105,IF(S79=14,105,IF(S79=15,105,IF(S79=16,105,IF(S79>16,"","")))))))))))))))))) | X79: =IF(S79="","",IF($V$5="NÃO","",IF(S79=1,180,IF(S79=2,170,IF(S79=3,150,IF(S79=4,140,IF(S79=5,135,IF(S79=6,130,IF(S79=7,120,IF(S79=8,110,IF(S79=9,105,IF(S79=10,105,IF(S79=11,105,IF(S79=12,105,IF(S79=13,105,IF(S79=14,105,IF(S79=15,105,IF(S79=16,105,IF(S79>16,"","")))))))))))))))))))
B80: 7 | D80: 0 | E80: =IF(D80<>"",D80,"") -> 0 | F80: =IF(D80<>"",IF(C80="","",C80),"") | G80: =IF(E80<>"",IF(E82<>"",SMALL(E80:F82,1),""),"") -> 0 | S80: =IF(U80<>"",1+COUNTIF(S72:S79,"1")+COUNTIF(S72:S79,"2")+COUNTIF(S72:S79,"3")+COUNTIF(S72:S79,"4")+COUNTIF(S72:S79,"5")+COUNTIF(S72:S79,"6")+COUNTIF(S72:S79,"7")+COUNTIF(S72:S79,"8"),"") | T80: =IF(S80<>"","LUGAR","") | U80: =IF(U72<>"",IF(C72=U72,G74,IF(C74=U72,G74,IF(C80=U72,G82,IF(C82=U72,G82,IF(C88=U72,G90,IF(C90=U72,G90,IF(C96=U72,G98,IF(C98=U72,G98,IF(C104=U72,G106,IF(C106=U72,G106,IF(C112=U72,G114,IF(C114=U72,G114,IF(C120=U72,G122,IF(C122=U72,G122,IF(C128=U72,G130,IF(C130=U72,G130)))))))))))))))),"") | V80: =IF(U80="","",VLOOKUP(U80,LISTAS!$F$5:$G$204,2,0)) | W80: =IF(S80="","",IF(S80=1,180,IF(S80=2,170,IF(S80=3,150,IF(S80=4,140,IF(S80=5,135,IF(S80=6,130,IF(S80=7,120,IF(S80=8,110,IF(S80=9,105,IF(S80=10,105,IF(S80=11,105,IF(S80=12,105,IF(S80=13,105,IF(S80=14,105,IF(S80=15,105,IF(S80=16,105,IF(S80>16,"","")))))))))))))))))) | X80: =IF(S80="","",IF($V$5="NÃO","",IF(S80=1,180,IF(S80=2,170,IF(S80=3,150,IF(S80=4,140,IF(S80=5,135,IF(S80=6,130,IF(S80=7,120,IF(S80=8,110,IF(S80=9,105,IF(S80=10,105,IF(S80=11,105,IF(S80=12,105,IF(S80=13,105,IF(S80=14,105,IF(S80=15,105,IF(S80=16,105,IF(S80>16,"","")))))))))))))))))))
C81: =IF(C80="","",VLOOKUP(C80,LISTAS!$F$5:$G$204,2,0)) | S81: =IF(U81<>"",1+COUNTIF(S72:S80,"1")+COUNTIF(S72:S80,"2")+COUNTIF(S72:S80,"3")+COUNTIF(S72:S80,"4")+COUNTIF(S72:S80,"5")+COUNTIF(S72:S80,"6")+COUNTIF(S72:S80,"7")+COUNTIF(S72:S80,"8")+COUNTIF(S72:S80,"9"),"") | T81: =IF(S81<>"","LUGAR","") | U81: =IF(U73<>"",IF(C72=U73,G74,IF(C74=U73,G74,IF(C80=U73,G82,IF(C82=U73,G82,IF(C88=U73,G90,IF(C90=U73,G90,IF(C96=U73,G98,IF(C98=U73,G98,IF(C104=U73,G106,IF(C106=U73,G106,IF(C112=U73,G114,IF(C114=U73,G114,IF(C120=U73,G122,IF(C122=U73,G122,IF(C128=U73,G130,IF(C130=U73,G130)))))))))))))))),"") | V81: =IF(U81="","",VLOOKUP(U81,LISTAS!$F$5:$G$204,2,0)) | W81: =IF(S81="","",IF(S81=1,180,IF(S81=2,170,IF(S81=3,150,IF(S81=4,140,IF(S81=5,135,IF(S81=6,130,IF(S81=7,120,IF(S81=8,110,IF(S81=9,105,IF(S81=10,105,IF(S81=11,105,IF(S81=12,105,IF(S81=13,105,IF(S81=14,105,IF(S81=15,105,IF(S81=16,105,IF(S81>16,"","")))))))))))))))))) | X81: =IF(S81="","",IF($V$5="NÃO","",IF(S81=1,180,IF(S81=2,170,IF(S81=3,150,IF(S81=4,140,IF(S81=5,135,IF(S81=6,130,IF(S81=7,120,IF(S81=8,110,IF(S81=9,105,IF(S81=10,105,IF(S81=11,105,IF(S81=12,105,IF(S81=13,105,IF(S81=14,105,IF(S81=15,105,IF(S81=16,105,IF(S81>16,"","")))))))))))))))))))
B82: 9 | D82: 0 | E82: =IF(D82<>"",D82,"") -> 0 | F82: =IF(D82<>"",IF(C82="","",C82),"") | G82: =VLOOKUP(G80,E80:F82,2,0) | S82: =IF(U82<>"",1+COUNTIF(S72:S81,"1")+COUNTIF(S72:S81,"2")+COUNTIF(S72:S81,"3")+COUNTIF(S72:S81,"4")+COUNTIF(S72:S81,"5")+COUNTIF(S72:S81,"6")+COUNTIF(S72:S81,"7")+COUNTIF(S72:S81,"8")+COUNTIF(S72:S81,"9")+COUNTIF(S72:S81,"10"),"") | T82: =IF(S82<>"","LUGAR","") | U82: =IF(U74<>"",IF(C72=U74,G74,IF(C74=U74,G74,IF(C80=U74,G82,IF(C82=U74,G82,IF(C88=U74,G90,IF(C90=U74,G90,IF(C96=U74,G98,IF(C98=U74,G98,IF(C104=U74,G106,IF(C106=U74,G106,IF(C112=U74,G114,IF(C114=U74,G114,IF(C120=U74,G122,IF(C122=U74,G122,IF(C128=U74,G130,IF(C130=U74,G130)))))))))))))))),"") | V82: =IF(U82="","",VLOOKUP(U82,LISTAS!$F$5:$G$204,2,0)) | W82: =IF(S82="","",IF(S82=1,180,IF(S82=2,170,IF(S82=3,150,IF(S82=4,140,IF(S82=5,135,IF(S82=6,130,IF(S82=7,120,IF(S82=8,110,IF(S82=9,105,IF(S82=10,105,IF(S82=11,105,IF(S82=12,105,IF(S82=13,105,IF(S82=14,105,IF(S82=15,105,IF(S82=16,105,IF(S82>16,"","")))))))))))))))))) | X82: =IF(S82="","",IF($V$5="NÃO","",IF(S82=1,180,IF(S82=2,170,IF(S82=3,150,IF(S82=4,140,IF(S82=5,135,IF(S82=6,130,IF(S82=7,120,IF(S82=8,110,IF(S82=9,105,IF(S82=10,105,IF(S82=11,105,IF(S82=12,105,IF(S82=13,105,IF(S82=14,105,IF(S82=15,105,IF(S82=16,105,IF(S82>16,"","")))))))))))))))))))
C83: =IF(C82="","",VLOOKUP(C82,LISTAS!$F$5:$G$204,2,0)) | S83: =IF(U83<>"",1+COUNTIF(S72:S82,"1")+COUNTIF(S72:S82,"2")+COUNTIF(S72:S82,"3")+COUNTIF(S72:S82,"4")+COUNTIF(S72:S82,"5")+COUNTIF(S72:S82,"6")+COUNTIF(S72:S82,"7")+COUNTIF(S72:S82,"8")+COUNTIF(S72:S82,"9")+COUNTIF(S72:S82,"10")+COUNTIF(S72:S82,"11"),"") | T83: =IF(S83<>"","LUGAR","") | U83: =IF(U75<>"",IF(C72=U75,G74,IF(C74=U75,G74,IF(C80=U75,G82,IF(C82=U75,G82,IF(C88=U75,G90,IF(C90=U75,G90,IF(C96=U75,G98,IF(C98=U75,G98,IF(C104=U75,G106,IF(C106=U75,G106,IF(C112=U75,G114,IF(C114=U75,G114,IF(C120=U75,G122,IF(C122=U75,G122,IF(C128=U75,G130,IF(C130=U75,G130)))))))))))))))),"") | V83: =IF(U83="","",VLOOKUP(U83,LISTAS!$F$5:$G$204,2,0)) | W83: =IF(S83="","",IF(S83=1,180,IF(S83=2,170,IF(S83=3,150,IF(S83=4,140,IF(S83=5,135,IF(S83=6,130,IF(S83=7,120,IF(S83=8,110,IF(S83=9,105,IF(S83=10,105,IF(S83=11,105,IF(S83=12,105,IF(S83=13,105,IF(S83=14,105,IF(S83=15,105,IF(S83=16,105,IF(S83>16,"","")))))))))))))))))) | X83: =IF(S83="","",IF($V$5="NÃO","",IF(S83=1,180,IF(S83=2,170,IF(S83=3,150,IF(S83=4,140,IF(S83=5,135,IF(S83=6,130,IF(S83=7,120,IF(S83=8,110,IF(S83=9,105,IF(S83=10,105,IF(S83=11,105,IF(S83=12,105,IF(S83=13,105,IF(S83=14,105,IF(S83=15,105,IF(S83=16,105,IF(S83>16,"","")))))))))))))))))))
K84: =IF(H76<>"",IF(H78<>"",IF(H76=H78,"",IF(H76>H78,G76,G78)),""),"") -> NATHALIA, NINA, LUISA | L84: 1 | M84: =IF(L84<>"",L84,"") -> 1 | N84: =IF(L84<>"",IF(K84="","",K84),"") -> NATHALIA, NINA, LUISA | O84: =IF(M84<>"",IF(M86<>"",SMALL(M84:N86,1),""),"") -> 0 | S84: =IF(U84<>"",1+COUNTIF(S72:S83,"1")+COUNTIF(S72:S83,"2")+COUNTIF(S72:S83,"3")+COUNTIF(S72:S83,"4")+COUNTIF(S72:S83,"5")+COUNTIF(S72:S83,"6")+COUNTIF(S72:S83,"7")+COUNTIF(S72:S83,"8")+COUNTIF(S72:S83,"9")+COUNTIF(S72:S83,"10")+COUNTIF(S72:S83,"11")+COUNTIF(S72:S83,"12"),"") | T84: =IF(S84<>"","LUGAR","") | U84: =IF(U76<>"",IF(C72=U76,G74,IF(C74=U76,G74,IF(C80=U76,G82,IF(C82=U76,G82,IF(C88=U76,G90,IF(C90=U76,G90,IF(C96=U76,G98,IF(C98=U76,G98,IF(C104=U76,G106,IF(C106=U76,G106,IF(C112=U76,G114,IF(C114=U76,G114,IF(C120=U76,G122,IF(C122=U76,G122,IF(C128=U76,G130,IF(C130=U76,G130)))))))))))))))),"") | V84: =IF(U84="","",VLOOKUP(U84,LISTAS!$F$5:$G$204,2,0)) | W84: =IF(S84="","",IF(S84=1,180,IF(S84=2,170,IF(S84=3,150,IF(S84=4,140,IF(S84=5,135,IF(S84=6,130,IF(S84=7,120,IF(S84=8,110,IF(S84=9,105,IF(S84=10,105,IF(S84=11,105,IF(S84=12,105,IF(S84=13,105,IF(S84=14,105,IF(S84=15,105,IF(S84=16,105,IF(S84>16,"","")))))))))))))))))) | X84: =IF(S84="","",IF($V$5="NÃO","",IF(S84=1,180,IF(S84=2,170,IF(S84=3,150,IF(S84=4,140,IF(S84=5,135,IF(S84=6,130,IF(S84=7,120,IF(S84=8,110,IF(S84=9,105,IF(S84=10,105,IF(S84=11,105,IF(S84=12,105,IF(S84=13,105,IF(S84=14,105,IF(S84=15,105,IF(S84=16,105,IF(S84>16,"","")))))))))))))))))))
K85: =IF(K84="","",VLOOKUP(K84,LISTAS!$F$5:$G$204,2,0)) -> ARBOS SBC | S85: =IF(U85<>"",1+COUNTIF(S72:S84,"1")+COUNTIF(S72:S84,"2")+COUNTIF(S72:S84,"3")+COUNTIF(S72:S84,"4")+COUNTIF(S72:S84,"5")+COUNTIF(S72:S84,"6")+COUNTIF(S72:S84,"7")+COUNTIF(S72:S84,"8")+COUNTIF(S72:S84,"9")+COUNTIF(S72:S84,"10")+COUNTIF(S72:S84,"11")+COUNTIF(S72:S84,"12")+COUNTIF(S72:S84,"13"),"") | T85: =IF(S85<>"","LUGAR","") | U85: =IF(U77<>"",IF(C72=U77,G74,IF(C74=U77,G74,IF(C80=U77,G82,IF(C82=U77,G82,IF(C88=U77,G90,IF(C90=U77,G90,IF(C96=U77,G98,IF(C98=U77,G98,IF(C104=U77,G106,IF(C106=U77,G106,IF(C112=U77,G114,IF(C114=U77,G114,IF(C120=U77,G122,IF(C122=U77,G122,IF(C128=U77,G130,IF(C130=U77,G130)))))))))))))))),"") | V85: =IF(U85="","",VLOOKUP(U85,LISTAS!$F$5:$G$204,2,0)) | W85: =IF(S85="","",IF(S85=1,180,IF(S85=2,170,IF(S85=3,150,IF(S85=4,140,IF(S85=5,135,IF(S85=6,130,IF(S85=7,120,IF(S85=8,110,IF(S85=9,105,IF(S85=10,105,IF(S85=11,105,IF(S85=12,105,IF(S85=13,105,IF(S85=14,105,IF(S85=15,105,IF(S85=16,105,IF(S85>16,"","")))))))))))))))))) | X85: =IF(S85="","",IF($V$5="NÃO","",IF(S85=1,180,IF(S85=2,170,IF(S85=3,150,IF(S85=4,140,IF(S85=5,135,IF(S85=6,130,IF(S85=7,120,IF(S85=8,110,IF(S85=9,105,IF(S85=10,105,IF(S85=11,105,IF(S85=12,105,IF(S85=13,105,IF(S85=14,105,IF(S85=15,105,IF(S85=16,105,IF(S85>16,"","")))))))))))))))))))
K86: =IF(H92<>"",IF(H94<>"",IF(H92=H94,"",IF(H92>H94,G92,G94)),""),"") -> ISADORA, ISABELLE, MARIA | L86: 0 | M86: =IF(L86<>"",L86,"") -> 0 | N86: =IF(L86<>"",IF(K86="","",K86),"") -> ISADORA, ISABELLE, MARIA | O86: =VLOOKUP(O84,M84:N86,2,0) -> ISADORA, ISABELLE, MARIA | S86: =IF(U86<>"",1+COUNTIF(S72:S85,"1")+COUNTIF(S72:S85,"2")+COUNTIF(S72:S85,"3")+COUNTIF(S72:S85,"4")+COUNTIF(S72:S85,"5")+COUNTIF(S72:S85,"6")+COUNTIF(S72:S85,"7")+COUNTIF(S72:S85,"8")+COUNTIF(S72:S85,"9")+COUNTIF(S72:S85,"10")+COUNTIF(S72:S85,"11")+COUNTIF(S72:S85,"12")+COUNTIF(S72:S85,"13")+COUNTIF(S72:S85,"14"),"") | T86: =IF(S86<>"","LUGAR","") | U86: =IF(U78<>"",IF(C72=U78,G74,IF(C74=U78,G74,IF(C80=U78,G82,IF(C82=U78,G82,IF(C88=U78,G90,IF(C90=U78,G90,IF(C96=U78,G98,IF(C98=U78,G98,IF(C104=U78,G106,IF(C106=U78,G106,IF(C112=U78,G114,IF(C114=U78,G114,IF(C120=U78,G122,IF(C122=U78,G122,IF(C128=U78,G130,IF(C130=U78,G130)))))))))))))))),"") | V86: =IF(U86="","",VLOOKUP(U86,LISTAS!$F$5:$G$204,2,0)) | W86: =IF(S86="","",IF(S86=1,180,IF(S86=2,170,IF(S86=3,150,IF(S86=4,140,IF(S86=5,135,IF(S86=6,130,IF(S86=7,120,IF(S86=8,110,IF(S86=9,105,IF(S86=10,105,IF(S86=11,105,IF(S86=12,105,IF(S86=13,105,IF(S86=14,105,IF(S86=15,105,IF(S86=16,105,IF(S86>16,"","")))))))))))))))))) | X86: =IF(S86="","",IF($V$5="NÃO","",IF(S86=1,180,IF(S86=2,170,IF(S86=3,150,IF(S86=4,140,IF(S86=5,135,IF(S86=6,130,IF(S86=7,120,IF(S86=8,110,IF(S86=9,105,IF(S86=10,105,IF(S86=11,105,IF(S86=12,105,IF(S86=13,105,IF(S86=14,105,IF(S86=15,105,IF(S86=16,105,IF(S86>16,"","")))))))))))))))))))
K87: =IF(K86="","",VLOOKUP(K86,LISTAS!$F$5:$G$204,2,0)) -> LICEU JARDIM | S87: =IF(U87<>"",1+COUNTIF(S72:S86,"1")+COUNTIF(S72:S86,"2")+COUNTIF(S72:S86,"3")+COUNTIF(S72:S86,"4")+COUNTIF(S72:S86,"5")+COUNTIF(S72:S86,"6")+COUNTIF(S72:S86,"7")+COUNTIF(S72:S86,"8")+COUNTIF(S72:S86,"9")+COUNTIF(S72:S86,"10")+COUNTIF(S72:S86,"11")+COUNTIF(S72:S86,"12")+COUNTIF(S72:S86,"13")+COUNTIF(S72:S86,"14")+COUNTIF(S72:S86,"15"),"") | T87: =IF(S87<>"","LUGAR","") | U87: =IF(U79<>"",IF(C72=U79,G74,IF(C74=U79,G74,IF(C80=U79,G82,IF(C82=U79,G82,IF(C88=U79,G90,IF(C90=U79,G90,IF(C96=U79,G98,IF(C98=U79,G98,IF(C104=U79,G106,IF(C106=U79,G106,IF(C112=U79,G114,IF(C114=U79,G114,IF(C120=U79,G122,IF(C122=U79,G122,IF(C128=U79,G130,IF(C130=U79,G130)))))))))))))))),"") | V87: =IF(U87="","",VLOOKUP(U87,LISTAS!$F$5:$G$204,2,0)) | W87: =IF(S87="","",IF(S87=1,180,IF(S87=2,170,IF(S87=3,150,IF(S87=4,140,IF(S87=5,135,IF(S87=6,130,IF(S87=7,120,IF(S87=8,110,IF(S87=9,105,IF(S87=10,105,IF(S87=11,105,IF(S87=12,105,IF(S87=13,105,IF(S87=14,105,IF(S87=15,105,IF(S87=16,105,IF(S87>16,"","")))))))))))))))))) | X87: =IF(S87="","",IF($V$5="NÃO","",IF(S87=1,180,IF(S87=2,170,IF(S87=3,150,IF(S87=4,140,IF(S87=5,135,IF(S87=6,130,IF(S87=7,120,IF(S87=8,110,IF(S87=9,105,IF(S87=10,105,IF(S87=11,105,IF(S87=12,105,IF(S87=13,105,IF(S87=14,105,IF(S87=15,105,IF(S87=16,105,IF(S87>16,"","")))))))))))))))))))
B88: 6 | C88: ISADORA, ISABELLE, MARIA | D88: 1 | E88: =IF(D88<>"",D88,"") -> 1 | F88: =IF(D88<>"",IF(C88="","",C88),"") -> ISADORA, ISABELLE, MARIA | G88: =IF(E88<>"",IF(E90<>"",SMALL(E88:F90,1),""),"") -> 0
C89: =IF(C88="","",VLOOKUP(C88,LISTAS!$F$5:$G$204,2,0)) -> LICEU JARDIM | V89: =IF(U89="","",VLOOKUP(U89,LISTAS!$F$5:$G$204,2,0)) | W89: =IF(S89="","",IF(S89=1,180,IF(S89=2,170,IF(S89=3,150,IF(S89=4,140,IF(S89=5,135,IF(S89=6,130,IF(S89=7,120,IF(S89=8,110,IF(S89=9,105,IF(S89=10,105,IF(S89=11,105,IF(S89=12,105,IF(S89=13,105,IF(S89=14,105,IF(S89=15,105,IF(S89=16,105,IF(S89>16,"","")))))))))))))))))) | X89: =IF(S89="","",IF($V$5="NÃO","",IF(S89=1,180,IF(S89=2,170,IF(S89=3,150,IF(S89=4,140,IF(S89=5,135,IF(S89=6,130,IF(S89=7,120,IF(S89=8,110,IF(S89=9,105,IF(S89=10,105,IF(S89=11,105,IF(S89=12,105,IF(S89=13,105,IF(S89=14,105,IF(S89=15,105,IF(S89=16,105,IF(S89>16,"","")))))))))))))))))))
B90: 11 | D90: 0 | E90: =IF(D90<>"",D90,"") -> 0 | F90: =IF(D90<>"",IF(C90="","",C90),"") | G90: =VLOOKUP(G88,E88:F90,2,0)
C91: =IF(C90="","",VLOOKUP(C90,LISTAS!$F$5:$G$204,2,0))
G92: =IF(D88<>"",IF(D90<>"",IF(D88=D90,"",IF(D88>D90,C88,C90)),""),"") -> ISADORA, ISABELLE, MARIA | H92: 1 | I92: =IF(H92<>"",H92,"") -> 1 | J92: =IF(H92<>"",IF(G92="","",G92),"") -> ISADORA, ISABELLE, MARIA | K92: =IF(I92<>"",IF(I94<>"",SMALL(I92:J94,1),""),"") -> 0
G93: =IF(G92="","",VLOOKUP(G92,LISTAS!$F$5:$G$204,2,0)) -> LICEU JARDIM
G94: =IF(D96<>"",IF(D98<>"",IF(D96=D98,"",IF(D96>D98,C96,C98)),""),"") | H94: 0 | I94: =IF(H94<>"",H94,"") -> 0 | J94: =IF(H94<>"",IF(G94="","",G94),"") | K94: =VLOOKUP(K92,I92:J94,2,0)
G95: =IF(G94="","",VLOOKUP(G94,LISTAS!$F$5:$G$204,2,0))
B96: 4 | D96: 0 | E96: =IF(D96<>"",D96,"") -> 0 | F96: =IF(D96<>"",IF(C96="","",C96),"") | G96: =IF(E96<>"",IF(E98<>"",SMALL(E96:F98,1),""),"") -> 0
C97: =IF(C96="","",VLOOKUP(C96,LISTAS!$F$5:$G$204,2,0))
B98: 13 | D98: 0 | E98: =IF(D98<>"",D98,"") -> 0 | F98: =IF(D98<>"",IF(C98="","",C98),"") | G98: =VLOOKUP(G96,E96:F98,2,0)
C99: =IF(C98="","",VLOOKUP(C98,LISTAS!$F$5:$G$204,2,0))
O100: =IF(L84<>"",IF(L86<>"",IF(L84=L86,"",IF(L84>L86,K84,K86)),""),"") -> NATHALIA, NINA, LUISA | P100: 1
O101: =IF(O100="","",VLOOKUP(O100,LISTAS!$F$5:$G$204,2,0)) -> ARBOS SBC
O102: =IF(L116<>"",IF(L118<>"",IF(L116=L118,"",IF(L116>L118,K116,K118)),""),"") -> ISABELLE, JULIA, GIOVANNA | P102: 0
O103: =IF(O102="","",VLOOKUP(O102,LISTAS!$F$5:$G$204,2,0)) -> LICEU JARDIM
B104: 3 | C104: HELENA, LUIZA, ISABELA, LAURA | D104: 1 | E104: =IF(D104<>"",D104,"") -> 1 | F104: =IF(D104<>"",IF(C104="","",C104),"") -> HELENA, LUIZA, ISABELA, LAURA | G104: =IF(E104<>"",IF(E106<>"",SMALL(E104:F106,1),""),"") -> 0
C105: =IF(C104="","",VLOOKUP(C104,LISTAS!$F$5:$G$204,2,0)) -> STAGIUM - DIAD
B106: 14 | D106: 0 | E106: =IF(D106<>"",D106,"") -> 0 | F106: =IF(D106<>"",IF(C106="","",C106),"") | G106: =VLOOKUP(G104,E104:F106,2,0) | V106: =IF(U106="","",VLOOKUP(U106,LISTAS!$F$5:$G$204,2,0)) | W106: =IF(S106="","",IF(S106=1,180,IF(S106=2,170,IF(S106=3,150,IF(S106=4,140,IF(S106=5,135,IF(S106=6,130,IF(S106=7,120,IF(S106=8,110,IF(S106=9,105,IF(S106=10,105,IF(S106=11,105,IF(S106=12,105,IF(S106=13,105,IF(S106=14,105,IF(S106=15,105,IF(S106=16,105,IF(S106>16,"","")))))))))))))))))) | X106: =IF(S106="","",IF($V$5="NÃO","",IF(S106=1,180,IF(S106=2,170,IF(S106=3,150,IF(S106=4,140,IF(S106=5,135,IF(S106=6,130,IF(S106=7,120,IF(S106=8,110,IF(S106=9,105,IF(S106=10,105,IF(S106=11,105,IF(S106=12,105,IF(S106=13,105,IF(S106=14,105,IF(S106=15,105,IF(S106=16,105,IF(S106>16,"","")))))))))))))))))))
...

Sheet 13M
B5: SUB 14 MASCULINO | S5: SUB 14 MASCULINO | U5: PONTUAÇÃO ESCOLA: | V5: SIM
B6: S É R I E O U R O | S6: S É R I E O U R O
S7: CLASSIFICAÇÃO | U7: NOMES | V7: ESCOLA | W7: PONTUAÇÃO ALUNO | X7: PONTUAÇÃO ESCOLA
B8: 1 | C8: ENZO, GABRIEL, RAFAEL, GUSTAVO | D8: 1 | E8: =IF(D8<>"",D8,"") -> 1 | F8: =IF(D8<>"",IF(C8="","",C8),"") -> ENZO, GABRIEL, RAFAEL, GUSTAVO | G8: =IF(E8<>"",IF(E10<>"",SMALL(E8:F10,1),""),"") -> 0 | S8: =IF(U8<>"",1,"") -> 1 | T8: =IF(S8<>"","LUGAR","") -> LUGAR | U8: =IF(P36<>"",IF(P38<>"",IF(P36=P38,"",IF(P36>P38,O36,O38)),""),"") -> BENTO, JOSE, PEDRO | V8: =IF(U8="","",VLOOKUP(U8,LISTAS!$F$5:$G$204,2,0)) -> LICEU JARDIM | W8: =IF(S8="","",IF(S8=1,400,IF(S8=2,340,IF(S8=3,300,IF(S8=4,280,IF(S8=5,270,IF(S8=6,260,IF(S8=7,250,IF(S8=8,240,IF(S8=9,200,IF(S8=10,200,IF(S8=11,200,IF(S8=12,200,IF(S8=13,200,IF(S8=14,200,IF(S8=15,200,IF(S8=16,200,IF(S8>16,"","")))))))))))))))))) -> 400 | X8: =IF(S8="","",IF($V$5="NÃO","",IF(S8=1,400,IF(S8=2,340,IF(S8=3,300,IF(S8=4,280,IF(S8=5,270,IF(S8=6,260,IF(S8=7,250,IF(S8=8,240,IF(S8=9,200,IF(S8=10,200,IF(S8=11,200,IF(S8=12,200,IF(S8=13,200,IF(S8=14,200,IF(S8=15,200,IF(S8=16,200,IF(S8>16,"",""))))))))))))))))))) -> 400
C9: =IF(C8="","",VLOOKUP(C8,LISTAS!$F$5:$G$204,2,0)) -> PETROPOLIS - SBC | S9: =IF(U9<>"",1+COUNTIF(S8,"1"),"") -> 2 | T9: =IF(S9<>"","LUGAR","") -> LUGAR | U9: =IF(P36<>"",IF(P38<>"",IF(P36=P38,"",IF(P36<P38,O36,O38)),""),"") -> ARTHUR, AUGUSTO, MIGUEL, VINICIUS | V9: =IF(U9="","",VLOOKUP(U9,LISTAS!$F$5:$G$204,2,0)) -> ARBOS S.A | W9: =IF(S9="","",IF(S9=1,400,IF(S9=2,340,IF(S9=3,300,IF(S9=4,280,IF(S9=5,270,IF(S9=6,260,IF(S9=7,250,IF(S9=8,240,IF(S9=9,200,IF(S9=10,200,IF(S9=11,200,IF(S9=12,200,IF(S9=13,200,IF(S9=14,200,IF(S9=15,200,IF(S9=16,200,IF(S9>16,"","")))))))))))))))))) -> 340 | X9: =IF(S9="","",IF($V$5="NÃO","",IF(S9=1,400,IF(S9=2,340,IF(S9=3,300,IF(S9=4,280,IF(S9=5,270,IF(S9=6,260,IF(S9=7,250,IF(S9=8,240,IF(S9=9,200,IF(S9=10,200,IF(S9=11,200,IF(S9=12,200,IF(S9=13,200,IF(S9=14,200,IF(S9=15,200,IF(S9=16,200,IF(S9>16,"",""))))))))))))))))))) -> 340
B10: 16 | D10: 0 | E10: =IF(D10<>"",D10,"") -> 0 | F10: =IF(D10<>"",IF(C10="","",C10),"") | G10: =VLOOKUP(G8,E8:F10,2,0) | S10: =IF(U10<>"",1+COUNTIF(S8:S9,"1")+COUNTIF(S8:S9,"2"),"") -> 3 | T10: =IF(S10<>"","LUGAR","") -> LUGAR | U10: =IF(U8<>"",IF(K20=U8,K22,IF(K22=U8,K20,IF(K52=U8,K54,IF(K54=U8,K52)))),"") -> DAVI, PIETRO, PERSIO | V10: =IF(U10="","",VLOOKUP(U10,LISTAS!$F$5:$G$204,2,0)) -> ARBOS SBC | W10: =IF(S10="","",IF(S10=1,400,IF(S10=2,340,IF(S10=3,300,IF(S10=4,280,IF(S10=5,270,IF(S10=6,260,IF(S10=7,250,IF(S10=8,240,IF(S10=9,200,IF(S10=10,200,IF(S10=11,200,IF(S10=12,200,IF(S10=13,200,IF(S10=14,200,IF(S10=15,200,IF(S10=16,200,IF(S10>16,"","")))))))))))))))))) -> 300 | X10: =IF(S10="","",IF($V$5="NÃO","",IF(S10=1,400,IF(S10=2,340,IF(S10=3,300,IF(S10=4,280,IF(S10=5,270,IF(S10=6,260,IF(S10=7,250,IF(S10=8,240,IF(S10=9,200,IF(S10=10,200,IF(S10=11,200,IF(S10=12,200,IF(S10=13,200,IF(S10=14,200,IF(S10=15,200,IF(S10=16,200,IF(S10>16,"",""))))))))))))))))))) -> 300
C11: =IF(C10="","",VLOOKUP(C10,LISTAS!$F$5:$G$204,2,0)) | S11: =IF(U11<>"",1+COUNTIF(S8:S10,"1")+COUNTIF(S8:S10,"2")+COUNTIF(S8:S10,"3"),"") -> 4 | T11: =IF(S11<>"","LUGAR","") -> LUGAR | U11: =IF(U9<>"",IF(K20=U9,K22,IF(K22=U9,K20,IF(K52=U9,K54,IF(K54=U9,K52)))),"") -> ARTHUR, MARCOS, OTAVIO | V11: =IF(U11="","",VLOOKUP(U11,LISTAS!$F$5:$G$204,2,0)) -> SÃO JOSÉ - S.A | W11: =IF(S11="","",IF(S11=1,400,IF(S11=2,340,IF(S11=3,300,IF(S11=4,280,IF(S11=5,270,IF(S11=6,260,IF(S11=7,250,IF(S11=8,240,IF(S11=9,200,IF(S11=10,200,IF(S11=11,200,IF(S11=12,200,IF(S11=13,200,IF(S11=14,200,IF(S11=15,200,IF(S11=16,200,IF(S11>16,"","")))))))))))))))))) -> 280 | X11: =IF(S11="","",IF($V$5="NÃO","",IF(S11=1,400,IF(S11=2,340,IF(S11=3,300,IF(S11=4,280,IF(S11=5,270,IF(S11=6,260,IF(S11=7,250,IF(S11=8,240,IF(S11=9,200,IF(S11=10,200,IF(S11=11,200,IF(S11=12,200,IF(S11=13,200,IF(S11=14,200,IF(S11=15,200,IF(S11=16,200,IF(S11>16,"",""))))))))))))))))))) -> 280
G12: =IF(D8<>"",IF(D10<>"",IF(D8=D10,"",IF(D8>D10,C8,C10)),""),"") -> ENZO, GABRIEL, RAFAEL, GUSTAVO | H12: 0 | I12: =IF(H12<>"",H12,"") -> 0 | J12: =IF(H12<>"",IF(G12="","",G12),"") -> ENZO, GABRIEL, RAFAEL, GUSTAVO | K12: =IF(I12<>"",IF(I14<>"",SMALL(I12:J14,1),""),"") -> 0 | S12: =IF(U12<>"",1+COUNTIF(S8:S11,"1")+COUNTIF(S8:S11,"2")+COUNTIF(S8:S11,"3")+COUNTIF(S8:S11,"4"),"") -> 5 | T12: =IF(S12<>"","LUGAR","") -> LUGAR | U12: =IF(U8<>"",IF(G12=U8,G14,IF(G14=U8,G12,IF(G28=U8,G30,IF(G30=U8,G28,IF(G44=U8,G46,IF(G46=U8,G44,IF(G60=U8,G62,IF(G62=U8,G60)))))))),"") -> BERNARDO, DAVI, JULIO, PEDRO | V12: =IF(U12="","",VLOOKUP(U12,LISTAS!$F$5:$G$204,2,0)) -> ARBOS S.A | W12: =IF(S12="","",IF(S12=1,400,IF(S12=2,340,IF(S12=3,300,IF(S12=4,280,IF(S12=5,270,IF(S12=6,260,IF(S12=7,250,IF(S12=8,240,IF(S12=9,200,IF(S12=10,200,IF(S12=11,200,IF(S12=12,200,IF(S12=13,200,IF(S12=14,200,IF(S12=15,200,IF(S12=16,200,IF(S12>16,"","")))))))))))))))))) -> 270 | X12: =IF(S12="","",IF($V$5="NÃO","",IF(S12=1,400,IF(S12=2,340,IF(S12=3,300,IF(S12=4,280,IF(S12=5,270,IF(S12=6,260,IF(S12=7,250,IF(S12=8,240,IF(S12=9,200,IF(S12=10,200,IF(S12=11,200,IF(S12=12,200,IF(S12=13,200,IF(S12=14,200,IF(S12=15,200,IF(S12=16,200,IF(S12>16,"",""))))))))))))))))))) -> 270
G13: =IF(G12="","",VLOOKUP(G12,LISTAS!$F$5:$G$204,2,0)) -> PETROPOLIS - SBC | S13: =IF(U13<>"",1+COUNTIF(S8:S12,"1")+COUNTIF(S8:S12,"2")+COUNTIF(S8:S12,"3")+COUNTIF(S8:S12,"4")+COUNTIF(S8:S12,"5"),"") -> 6 | T13: =IF(S13<>"","LUGAR","") -> LUGAR | U13: =IF(U9<>"",IF(G12=U9,G14,IF(G14=U9,G12,IF(G28=U9,G30,IF(G30=U9,G28,IF(G44=U9,G46,IF(G46=U9,G44,IF(G60=U9,G62,IF(G62=U9,G60)))))))),"") -> ENZO, GABRIEL, RAFAEL, GUSTAVO | V13: =IF(U13="","",VLOOKUP(U13,LISTAS!$F$5:$G$204,2,0)) -> PETROPOLIS - SBC | W13: =IF(S13="","",IF(S13=1,400,IF(S13=2,340,IF(S13=3,300,IF(S13=4,280,IF(S13=5,270,IF(S13=6,260,IF(S13=7,250,IF(S13=8,240,IF(S13=9,200,IF(S13=10,200,IF(S13=11,200,IF(S13=12,200,IF(S13=13,200,IF(S13=14,200,IF(S13=15,200,IF(S13=16,200,IF(S13>16,"","")))))))))))))))))) -> 260 | X13: =IF(S13="","",IF($V$5="NÃO","",IF(S13=1,400,IF(S13=2,340,IF(S13=3,300,IF(S13=4,280,IF(S13=5,270,IF(S13=6,260,IF(S13=7,250,IF(S13=8,240,IF(S13=9,200,IF(S13=10,200,IF(S13=11,200,IF(S13=12,200,IF(S13=13,200,IF(S13=14,200,IF(S13=15,200,IF(S13=16,200,IF(S13>16,"",""))))))))))))))))))) -> 260
G14: =IF(D16<>"",IF(D18<>"",IF(D16=D18,"",IF(D16>D18,C16,C18)),""),"") -> ARTHUR, AUGUSTO, MIGUEL, VINICIUS | H14: 1 | I14: =IF(H14<>"",H14,"") -> 1 | J14: =IF(H14<>"",IF(G14="","",G14),"") -> ARTHUR, AUGUSTO, MIGUEL, VINICIUS | K14: =VLOOKUP(K12,I12:J14,2,0) -> ENZO, GABRIEL, RAFAEL, GUSTAVO | S14: =IF(U14<>"",1+COUNTIF(S8:S13,"1")+COUNTIF(S8:S13,"2")+COUNTIF(S8:S13,"3")+COUNTIF(S8:S13,"4")+COUNTIF(S8:S13,"5")+COUNTIF(S8:S13,"6"),"") -> 7 | T14: =IF(S14<>"","LUGAR","") -> LUGAR | U14: =IF(U10<>"",IF(G12=U10,G14,IF(G14=U10,G12,IF(G28=U10,G30,IF(G30=U10,G28,IF(G44=U10,G46,IF(G46=U10,G44,IF(G60=U10,G62,IF(G62=U10,G60)))))))),"") -> BENICIO, CAIQUE, RAFAEL, JOÃO. MARCOS | V14: =IF(U14="","",VLOOKUP(U14,LISTAS!$F$5:$G$204,2,0)) -> STAGIUM - DIAD | W14: =IF(S14="","",IF(S14=1,400,IF(S14=2,340,IF(S14=3,300,IF(S14=4,280,IF(S14=5,270,IF(S14=6,260,IF(S14=7,250,IF(S14=8,240,IF(S14=9,200,IF(S14=10,200,IF(S14=11,200,IF(S14=12,200,IF(S14=13,200,IF(S14=14,200,IF(S14=15,200,IF(S14=16,200,IF(S14>16,"","")))))))))))))))))) -> 250 | X14: =IF(S14="","",IF($V$5="NÃO","",IF(S14=1,400,IF(S14=2,340,IF(S14=3,300,IF(S14=4,280,IF(S14=5,270,IF(S14=6,260,IF(S14=7,250,IF(S14=8,240,IF(S14=9,200,IF(S14=10,200,IF(S14=11,200,IF(S14=12,200,IF(S14=13,200,IF(S14=14,200,IF(S14=15,200,IF(S14=16,200,IF(S14>16,"",""))))))))))))))))))) -> 250
G15: =IF(G14="","",VLOOKUP(G14,LISTAS!$F$5:$G$204,2,0)) -> ARBOS S.A | S15: =IF(U15<>"",1+COUNTIF(S8:S14,"1")+COUNTIF(S8:S14,"2")+COUNTIF(S8:S14,"3")+COUNTIF(S8:S14,"4")+COUNTIF(S8:S14,"5")+COUNTIF(S8:S14,"6")+COUNTIF(S8:S14,"7"),"") -> 8 | T15: =IF(S15<>"","LUGAR","") -> LUGAR | U15: =IF(U11<>"",IF(G12=U11,G14,IF(G14=U11,G12,IF(G28=U11,G30,IF(G30=U11,G28,IF(G44=U11,G46,IF(G46=U11,G44,IF(G60=U11,G62,IF(G62=U11,G60)))))))),"") -> GUILHERME, LEONARDO, LORENZO, PEDRO | V15: =IF(U15="","",VLOOKUP(U15,LISTAS!$F$5:$G$204,2,0)) -> LICEU JARDIM | W15: =IF(S15="","",IF(S15=1,400,IF(S15=2,340,IF(S15=3,300,IF(S15=4,280,IF(S15=5,270,IF(S15=6,260,IF(S15=7,250,IF(S15=8,240,IF(S15=9,200,IF(S15=10,200,IF(S15=11,200,IF(S15=12,200,IF(S15=13,200,IF(S15=14,200,IF(S15=15,200,IF(S15=16,200,IF(S15>16,"","")))))))))))))))))) -> 240 | X15: =IF(S15="","",IF($V$5="NÃO","",IF(S15=1,400,IF(S15=2,340,IF(S15=3,300,IF(S15=4,280,IF(S15=5,270,IF(S15=6,260,IF(S15=7,250,IF(S15=8,240,IF(S15=9,200,IF(S15=10,200,IF(S15=11,200,IF(S15=12,200,IF(S15=13,200,IF(S15=14,200,IF(S15=15,200,IF(S15=16,200,IF(S15>16,"",""))))))))))))))))))) -> 240
B16: 7 | D16: 0 | E16: =IF(D16<>"",D16,"") -> 0 | F16: =IF(D16<>"",IF(C16="","",C16),"") | G16: =IF(E16<>"",IF(E18<>"",SMALL(E16:F18,1),""),"") -> 0 | S16: =IF(U16<>"",1+COUNTIF(S8:S15,"1")+COUNTIF(S8:S15,"2")+COUNTIF(S8:S15,"3")+COUNTIF(S8:S15,"4")+COUNTIF(S8:S15,"5")+COUNTIF(S8:S15,"6")+COUNTIF(S8:S15,"7")+COUNTIF(S8:S15,"8"),"") | T16: =IF(S16<>"","LUGAR","") | U16: =IF(U8<>"",IF(C8=U8,G10,IF(C10=U8,G10,IF(C16=U8,G18,IF(C18=U8,G18,IF(C24=U8,G26,IF(C26=U8,G26,IF(C32=U8,G34,IF(C34=U8,G34,IF(C40=U8,G42,IF(C42=U8,G42,IF(C48=U8,G50,IF(C50=U8,G50,IF(C56=U8,G58,IF(C58=U8,G58,IF(C64=U8,G66,IF(C66=U8,G66)))))))))))))))),"") | V16: =IF(U16="","",VLOOKUP(U16,LISTAS!$F$5:$G$204,2,0)) | W16: =IF(S16="","",IF(S16=1,400,IF(S16=2,340,IF(S16=3,300,IF(S16=4,280,IF(S16=5,270,IF(S16=6,260,IF(S16=7,250,IF(S16=8,240,IF(S16=9,200,IF(S16=10,200,IF(S16=11,200,IF(S16=12,200,IF(S16=13,200,IF(S16=14,200,IF(S16=15,200,IF(S16=16,200,IF(S16>16,"","")))))))))))))))))) | X16: =IF(S16="","",IF($V$5="NÃO","",IF(S16=1,400,IF(S16=2,340,IF(S16=3,300,IF(S16=4,280,IF(S16=5,270,IF(S16=6,260,IF(S16=7,250,IF(S16=8,240,IF(S16=9,200,IF(S16=10,200,IF(S16=11,200,IF(S16=12,200,IF(S16=13,200,IF(S16=14,200,IF(S16=15,200,IF(S16=16,200,IF(S16>16,"","")))))))))))))))))))
C17: =IF(C16="","",VLOOKUP(C16,LISTAS!$F$5:$G$204,2,0)) | S17: =IF(U17<>"",1+COUNTIF(S8:S16,"1")+COUNTIF(S8:S16,"2")+COUNTIF(S8:S16,"3")+COUNTIF(S8:S16,"4")+COUNTIF(S8:S16,"5")+COUNTIF(S8:S16,"6")+COUNTIF(S8:S16,"7")+COUNTIF(S8:S16,"8")+COUNTIF(S8:S16,"9"),"") | T17: =IF(S17<>"","LUGAR","") | U17: =IF(U9<>"",IF(C8=U9,G10,IF(C10=U9,G10,IF(C16=U9,G18,IF(C18=U9,G18,IF(C24=U9,G26,IF(C26=U9,G26,IF(C32=U9,G34,IF(C34=U9,G34,IF(C40=U9,G42,IF(C42=U9,G42,IF(C48=U9,G50,IF(C50=U9,G50,IF(C56=U9,G58,IF(C58=U9,G58,IF(C64=U9,G66,IF(C66=U9,G66)))))))))))))))),"") | V17: =IF(U17="","",VLOOKUP(U17,LISTAS!$F$5:$G$204,2,0)) | W17: =IF(S17="","",IF(S17=1,400,IF(S17=2,340,IF(S17=3,300,IF(S17=4,280,IF(S17=5,270,IF(S17=6,260,IF(S17=7,250,IF(S17=8,240,IF(S17=9,200,IF(S17=10,200,IF(S17=11,200,IF(S17=12,200,IF(S17=13,200,IF(S17=14,200,IF(S17=15,200,IF(S17=16,200,IF(S17>16,"","")))))))))))))))))) | X17: =IF(S17="","",IF($V$5="NÃO","",IF(S17=1,400,IF(S17=2,340,IF(S17=3,300,IF(S17=4,280,IF(S17=5,270,IF(S17=6,260,IF(S17=7,250,IF(S17=8,240,IF(S17=9,200,IF(S17=10,200,IF(S17=11,200,IF(S17=12,200,IF(S17=13,200,IF(S17=14,200,IF(S17=15,200,IF(S17=16,200,IF(S17>16,"","")))))))))))))))))))
B18: 9 | C18: ARTHUR, AUGUSTO, MIGUEL, VINICIUS | D18: 1 | E18: =IF(D18<>"",D18,"") -> 1 | F18: =IF(D18<>"",IF(C18="","",C18),"") -> ARTHUR, AUGUSTO, MIGUEL, VINICIUS | G18: =VLOOKUP(G16,E16:F18,2,0) | S18: =IF(U18<>"",1+COUNTIF(S8:S17,"1")+COUNTIF(S8:S17,"2")+COUNTIF(S8:S17,"3")+COUNTIF(S8:S17,"4")+COUNTIF(S8:S17,"5")+COUNTIF(S8:S17,"6")+COUNTIF(S8:S17,"7")+COUNTIF(S8:S17,"8")+COUNTIF(S8:S17,"9")+COUNTIF(S8:S17,"10"),"") | T18: =IF(S18<>"","LUGAR","") | U18: =IF(U10<>"",IF(C8=U10,G10,IF(C10=U10,G10,IF(C16=U10,G18,IF(C18=U10,G18,IF(C24=U10,G26,IF(C26=U10,G26,IF(C32=U10,G34,IF(C34=U10,G34,IF(C40=U10,G42,IF(C42=U10,G42,IF(C48=U10,G50,IF(C50=U10,G50,IF(C56=U10,G58,IF(C58=U10,G58,IF(C64=U10,G66,IF(C66=U10,G66)))))))))))))))),"") | V18: =IF(U18="","",VLOOKUP(U18,LISTAS!$F$5:$G$204,2,0)) | W18: =IF(S18="","",IF(S18=1,400,IF(S18=2,340,IF(S18=3,300,IF(S18=4,280,IF(S18=5,270,IF(S18=6,260,IF(S18=7,250,IF(S18=8,240,IF(S18=9,200,IF(S18=10,200,IF(S18=11,200,IF(S18=12,200,IF(S18=13,200,IF(S18=14,200,IF(S18=15,200,IF(S18=16,200,IF(S18>16,"","")))))))))))))))))) | X18: =IF(S18="","",IF($V$5="NÃO","",IF(S18=1,400,IF(S18=2,340,IF(S18=3,300,IF(S18=4,280,IF(S18=5,270,IF(S18=6,260,IF(S18=7,250,IF(S18=8,240,IF(S18=9,200,IF(S18=10,200,IF(S18=11,200,IF(S18=12,200,IF(S18=13,200,IF(S18=14,200,IF(S18=15,200,IF(S18=16,200,IF(S18>16,"","")))))))))))))))))))
C19: =IF(C18="","",VLOOKUP(C18,LISTAS!$F$5:$G$204,2,0)) -> ARBOS S.A | S19: =IF(U19<>"",1+COUNTIF(S8:S18,"1")+COUNTIF(S8:S18,"2")+COUNTIF(S8:S18,"3")+COUNTIF(S8:S18,"4")+COUNTIF(S8:S18,"5")+COUNTIF(S8:S18,"6")+COUNTIF(S8:S18,"7")+COUNTIF(S8:S18,"8")+COUNTIF(S8:S18,"9")+COUNTIF(S8:S18,"10")+COUNTIF(S8:S18,"11"),"") | T19: =IF(S19<>"","LUGAR","") | U19: =IF(U11<>"",IF(C8=U11,G10,IF(C10=U11,G10,IF(C16=U11,G18,IF(C18=U11,G18,IF(C24=U11,G26,IF(C26=U11,G26,IF(C32=U11,G34,IF(C34=U11,G34,IF(C40=U11,G42,IF(C42=U11,G42,IF(C48=U11,G50,IF(C50=U11,G50,IF(C56=U11,G58,IF(C58=U11,G58,IF(C64=U11,G66,IF(C66=U11,G66)))))))))))))))),"") | V19: =IF(U19="","",VLOOKUP(U19,LISTAS!$F$5:$G$204,2,0)) | W19: =IF(S19="","",IF(S19=1,400,IF(S19=2,340,IF(S19=3,300,IF(S19=4,280,IF(S19=5,270,IF(S19=6,260,IF(S19=7,250,IF(S19=8,240,IF(S19=9,200,IF(S19=10,200,IF(S19=11,200,IF(S19=12,200,IF(S19=13,200,IF(S19=14,200,IF(S19=15,200,IF(S19=16,200,IF(S19>16,"","")))))))))))))))))) | X19: =IF(S19="","",IF($V$5="NÃO","",IF(S19=1,400,IF(S19=2,340,IF(S19=3,300,IF(S19=4,280,IF(S19=5,270,IF(S19=6,260,IF(S19=7,250,IF(S19=8,240,IF(S19=9,200,IF(S19=10,200,IF(S19=11,200,IF(S19=12,200,IF(S19=13,200,IF(S19=14,200,IF(S19=15,200,IF(S19=16,200,IF(S19>16,"","")))))))))))))))))))
K20: =IF(H12<>"",IF(H14<>"",IF(H12=H14,"",IF(H12>H14,G12,G14)),""),"") -> ARTHUR, AUGUSTO, MIGUEL, VINICIUS | L20: 1 | M20: =IF(L20<>"",L20,"") -> 1 | N20: =IF(L20<>"",IF(K20="","",K20),"") -> ARTHUR, AUGUSTO, MIGUEL, VINICIUS | O20: =IF(M20<>"",IF(M22<>"",SMALL(M20:N22,1),""),"") -> 0 | S20: =IF(U20<>"",1+COUNTIF(S8:S19,"1")+COUNTIF(S8:S19,"2")+COUNTIF(S8:S19,"3")+COUNTIF(S8:S19,"4")+COUNTIF(S8:S19,"5")+COUNTIF(S8:S19,"6")+COUNTIF(S8:S19,"7")+COUNTIF(S8:S19,"8")+COUNTIF(S8:S19,"9")+COUNTIF(S8:S19,"10")+COUNTIF(S8:S19,"11")+COUNTIF(S8:S19,"12"),"") | T20: =IF(S20<>"","LUGAR","") | U20: =IF(U12<>"",IF(C8=U12,G10,IF(C10=U12,G10,IF(C16=U12,G18,IF(C18=U12,G18,IF(C24=U12,G26,IF(C26=U12,G26,IF(C32=U12,G34,IF(C34=U12,G34,IF(C40=U12,G42,IF(C42=U12,G42,IF(C48=U12,G50,IF(C50=U12,G50,IF(C56=U12,G58,IF(C58=U12,G58,IF(C64=U12,G66,IF(C66=U12,G66)))))))))))))))),"") | V20: =IF(U20="","",VLOOKUP(U20,LISTAS!$F$5:$G$204,2,0)) | W20: =IF(S20="","",IF(S20=1,400,IF(S20=2,340,IF(S20=3,300,IF(S20=4,280,IF(S20=5,270,IF(S20=6,260,IF(S20=7,250,IF(S20=8,240,IF(S20=9,200,IF(S20=10,200,IF(S20=11,200,IF(S20=12,200,IF(S20=13,200,IF(S20=14,200,IF(S20=15,200,IF(S20=16,200,IF(S20>16,"","")))))))))))))))))) | X20: =IF(S20="","",IF($V$5="NÃO","",IF(S20=1,400,IF(S20=2,340,IF(S20=3,300,IF(S20=4,280,IF(S20=5,270,IF(S20=6,260,IF(S20=7,250,IF(S20=8,240,IF(S20=9,200,IF(S20=10,200,IF(S20=11,200,IF(S20=12,200,IF(S20=13,200,IF(S20=14,200,IF(S20=15,200,IF(S20=16,200,IF(S20>16,"","")))))))))))))))))))
K21: =IF(K20="","",VLOOKUP(K20,LISTAS!$F$5:$G$204,2,0)) -> ARBOS S.A | S21: =IF(U21<>"",1+COUNTIF(S8:S20,"1")+COUNTIF(S8:S20,"2")+COUNTIF(S8:S20,"3")+COUNTIF(S8:S20,"4")+COUNTIF(S8:S20,"5")+COUNTIF(S8:S20,"6")+COUNTIF(S8:S20,"7")+COUNTIF(S8:S20,"8")+COUNTIF(S8:S20,"9")+COUNTIF(S8:S20,"10")+COUNTIF(S8:S20,"11")+COUNTIF(S8:S20,"12")+COUNTIF(S8:S20,"13"),"") | T21: =IF(S21<>"","LUGAR","") | U21: =IF(U13<>"",IF(C8=U13,G10,IF(C10=U13,G10,IF(C16=U13,G18,IF(C18=U13,G18,IF(C24=U13,G26,IF(C26=U13,G26,IF(C32=U13,G34,IF(C34=U13,G34,IF(C40=U13,G42,IF(C42=U13,G42,IF(C48=U13,G50,IF(C50=U13,G50,IF(C56=U13,G58,IF(C58=U13,G58,IF(C64=U13,G66,IF(C66=U13,G66)))))))))))))))),"") | V21: =IF(U21="","",VLOOKUP(U21,LISTAS!$F$5:$G$204,2,0)) | W21: =IF(S21="","",IF(S21=1,400,IF(S21=2,340,IF(S21=3,300,IF(S21=4,280,IF(S21=5,270,IF(S21=6,260,IF(S21=7,250,IF(S21=8,240,IF(S21=9,200,IF(S21=10,200,IF(S21=11,200,IF(S21=12,200,IF(S21=13,200,IF(S21=14,200,IF(S21=15,200,IF(S21=16,200,IF(S21>16,"","")))))))))))))))))) | X21: =IF(S21="","",IF($V$5="NÃO","",IF(S21=1,400,IF(S21=2,340,IF(S21=3,300,IF(S21=4,280,IF(S21=5,270,IF(S21=6,260,IF(S21=7,250,IF(S21=8,240,IF(S21=9,200,IF(S21=10,200,IF(S21=11,200,IF(S21=12,200,IF(S21=13,200,IF(S21=14,200,IF(S21=15,200,IF(S21=16,200,IF(S21>16,"","")))))))))))))))))))
K22: =IF(H28<>"",IF(H30<>"",IF(H28=H30,"",IF(H28>H30,G28,G30)),""),"") -> ARTHUR, MARCOS, OTAVIO | L22: 0 | M22: =IF(L22<>"",L22,"") -> 0 | N22: =IF(L22<>"",IF(K22="","",K22),"") -> ARTHUR, MARCOS, OTAVIO | O22: =VLOOKUP(O20,M20:N22,2,0) -> ARTHUR, MARCOS, OTAVIO | S22: =IF(U22<>"",1+COUNTIF(S8:S21,"1")+COUNTIF(S8:S21,"2")+COUNTIF(S8:S21,"3")+COUNTIF(S8:S21,"4")+COUNTIF(S8:S21,"5")+COUNTIF(S8:S21,"6")+COUNTIF(S8:S21,"7")+COUNTIF(S8:S21,"8")+COUNTIF(S8:S21,"9")+COUNTIF(S8:S21,"10")+COUNTIF(S8:S21,"11")+COUNTIF(S8:S21,"12")+COUNTIF(S8:S21,"13")+COUNTIF(S8:S21,"14"),"") | T22: =IF(S22<>"","LUGAR","") | U22: =IF(U14<>"",IF(C8=U14,G10,IF(C10=U14,G10,IF(C16=U14,G18,IF(C18=U14,G18,IF(C24=U14,G26,IF(C26=U14,G26,IF(C32=U14,G34,IF(C34=U14,G34,IF(C40=U14,G42,IF(C42=U14,G42,IF(C48=U14,G50,IF(C50=U14,G50,IF(C56=U14,G58,IF(C58=U14,G58,IF(C64=U14,G66,IF(C66=U14,G66)))))))))))))))),"") | V22: =IF(U22="","",VLOOKUP(U22,LISTAS!$F$5:$G$204,2,0)) | W22: =IF(S22="","",IF(S22=1,400,IF(S22=2,340,IF(S22=3,300,IF(S22=4,280,IF(S22=5,270,IF(S22=6,260,IF(S22=7,250,IF(S22=8,240,IF(S22=9,200,IF(S22=10,200,IF(S22=11,200,IF(S22=12,200,IF(S22=13,200,IF(S22=14,200,IF(S22=15,200,IF(S22=16,200,IF(S22>16,"","")))))))))))))))))) | X22: =IF(S22="","",IF($V$5="NÃO","",IF(S22=1,400,IF(S22=2,340,IF(S22=3,300,IF(S22=4,280,IF(S22=5,270,IF(S22=6,260,IF(S22=7,250,IF(S22=8,240,IF(S22=9,200,IF(S22=10,200,IF(S22=11,200,IF(S22=12,200,IF(S22=13,200,IF(S22=14,200,IF(S22=15,200,IF(S22=16,200,IF(S22>16,"","")))))))))))))))))))
K23: =IF(K22="","",VLOOKUP(K22,LISTAS!$F$5:$G$204,2,0)) -> SÃO JOSÉ - S.A | S23: =IF(U23<>"",1+COUNTIF(S8:S22,"1")+COUNTIF(S8:S22,"2")+COUNTIF(S8:S22,"3")+COUNTIF(S8:S22,"4")+COUNTIF(S8:S22,"5")+COUNTIF(S8:S22,"6")+COUNTIF(S8:S22,"7")+COUNTIF(S8:S22,"8")+COUNTIF(S8:S22,"9")+COUNTIF(S8:S22,"10")+COUNTIF(S8:S22,"11")+COUNTIF(S8:S22,"12")+COUNTIF(S8:S22,"13")+COUNTIF(S8:S22,"14")+COUNTIF(S8:S22,"15"),"") | T23: =IF(S23<>"","LUGAR","") | U23: =IF(U15<>"",IF(C8=U15,G10,IF(C10=U15,G10,IF(C16=U15,G18,IF(C18=U15,G18,IF(C24=U15,G26,IF(C26=U15,G26,IF(C32=U15,G34,IF(C34=U15,G34,IF(C40=U15,G42,IF(C42=U15,G42,IF(C48=U15,G50,IF(C50=U15,G50,IF(C56=U15,G58,IF(C58=U15,G58,IF(C64=U15,G66,IF(C66=U15,G66)))))))))))))))),"") | V23: =IF(U23="","",VLOOKUP(U23,LISTAS!$F$5:$G$204,2,0)) | W23: =IF(S23="","",IF(S23=1,400,IF(S23=2,340,IF(S23=3,300,IF(S23=4,280,IF(S23=5,270,IF(S23=6,260,IF(S23=7,250,IF(S23=8,240,IF(S23=9,200,IF(S23=10,200,IF(S23=11,200,IF(S23=12,200,IF(S23=13,200,IF(S23=14,200,IF(S23=15,200,IF(S23=16,200,IF(S23>16,"","")))))))))))))))))) | X23: =IF(S23="","",IF($V$5="NÃO","",IF(S23=1,400,IF(S23=2,340,IF(S23=3,300,IF(S23=4,280,IF(S23=5,270,IF(S23=6,260,IF(S23=7,250,IF(S23=8,240,IF(S23=9,200,IF(S23=10,200,IF(S23=11,200,IF(S23=12,200,IF(S23=13,200,IF(S23=14,200,IF(S23=15,200,IF(S23=16,200,IF(S23>16,"","")))))))))))))))))))
B24: 6 | D24: 0 | E24: =IF(D24<>"",D24,"") -> 0 | F24: =IF(D24<>"",IF(C24="","",C24),"") | G24: =IF(E24<>"",IF(E26<>"",SMALL(E24:F26,1),""),"") -> 0
C25: =IF(C24="","",VLOOKUP(C24,LISTAS!$F$5:$G$204,2,0))
B26: 11 | C26: ARTHUR, MARCOS, OTAVIO | D26: 1 | E26: =IF(D26<>"",D26,"") -> 1 | F26: =IF(D26<>"",IF(C26="","",C26),"") -> ARTHUR, MARCOS, OTAVIO | G26: =VLOOKUP(G24,E24:F26,2,0)
C27: =IF(C26="","",VLOOKUP(C26,LISTAS!$F$5:$G$204,2,0)) -> SÃO JOSÉ - S.A
G28: =IF(D24<>"",IF(D26<>"",IF(D24=D26,"",IF(D24>D26,C24,C26)),""),"") -> ARTHUR, MARCOS, OTAVIO | H28: 1 | I28: =IF(H28<>"",H28,"") -> 1 | J28: =IF(H28<>"",IF(G28="","",G28),"") -> ARTHUR, MARCOS, OTAVIO | K28: =IF(I28<>"",IF(I30<>"",SMALL(I28:J30,1),""),"") -> 0
G29: =IF(G28="","",VLOOKUP(G28,LISTAS!$F$5:$G$204,2,0)) -> SÃO JOSÉ - S.A
G30: =IF(D32<>"",IF(D34<>"",IF(D32=D34,"",IF(D32>D34,C32,C34)),""),"") -> GUILHERME, LEONARDO, LORENZO, PEDRO | H30: 0 | I30: =IF(H30<>"",H30,"") -> 0 | J30: =IF(H30<>"",IF(G30="","",G30),"") -> GUILHERME, LEONARDO, LORENZO, PEDRO | K30: =VLOOKUP(K28,I28:J30,2,0) -> GUILHERME, LEONARDO, LORENZO, PEDRO
G31: =IF(G30="","",VLOOKUP(G30,LISTAS!$F$5:$G$204,2,0)) -> LICEU JARDIM
B32: 4 | D32: 0 | E32: =IF(D32<>"",D32,"") -> 0 | F32: =IF(D32<>"",IF(C32="","",C32),"") | G32: =IF(E32<>"",IF(E34<>"",SMALL(E32:F34,1),""),"") -> 0
C33: =IF(C32="","",VLOOKUP(C32,LISTAS!$F$5:$G$204,2,0))
B34: 13 | C34: GUILHERME, LEONARDO, LORENZO, PEDRO | D34: 1 | E34: =IF(D34<>"",D34,"") -> 1 | F34: =IF(D34<>"",IF(C34="","",C34),"") -> GUILHERME, LEONARDO, LORENZO, PEDRO | G34: =VLOOKUP(G32,E32:F34,2,0)
C35: =IF(C34="","",VLOOKUP(C34,LISTAS!$F$5:$G$204,2,0)) -> LICEU JARDIM
O36: =IF(L20<>"",IF(L22<>"",IF(L20=L22,"",IF(L20>L22,K20,K22)),""),"") -> ARTHUR, AUGUSTO, MIGUEL, VINICIUS | P36: 0
O37: =IF(O36="","",VLOOKUP(O36,LISTAS!$F$5:$G$204,2,0)) -> ARBOS S.A
O38: =IF(L52<>"",IF(L54<>"",IF(L52=L54,"",IF(L52>L54,K52,K54)),""),"") -> BENTO, JOSE, PEDRO | P38: 1
O39: =IF(O38="","",VLOOKUP(O38,LISTAS!$F$5:$G$204,2,0)) -> LICEU JARDIM
B40: 3 | D40: 0 | E40: =IF(D40<>"",D40,"") -> 0 | F40: =IF(D40<>"",IF(C40="","",C40),"") | G40: =IF(E40<>"",IF(E42<>"",SMALL(E40:F42,1),""),"") -> 0 | V40: =IF(U40="","",VLOOKUP(U40,LISTAS!$F$5:$G$204,2,0)) | W40: =IF(S40="","",IF(S40=1,400,IF(S40=2,340,IF(S40=3,300,IF(S40=4,280,IF(S40=5,270,IF(S40=6,260,IF(S40=7,250,IF(S40=8,240,IF(S40=9,200,IF(S40=10,200,IF(S40=11,200,IF(S40=12,200,IF(S40=13,200,IF(S40=14,200,IF(S40=15,200,IF(S40=16,200,IF(S40>16,"","")))))))))))))))))) | X40: =IF(S40="","",IF($V$5="NÃO","",IF(S40=1,400,IF(S40=2,340,IF(S40=3,300,IF(S40=4,280,IF(S40=5,270,IF(S40=6,260,IF(S40=7,250,IF(S40=8,240,IF(S40=9,200,IF(S40=10,200,IF(S40=11,200,IF(S40=12,200,IF(S40=13,200,IF(S40=14,200,IF(S40=15,200,IF(S40=16,200,IF(S40>16,"","")))))))))))))))))))
C41: =IF(C40="","",VLOOKUP(C40,LISTAS!$F$5:$G$204,2,0))
B42: 14 | C42: BERNARDO, DAVI, JULIO, PEDRO | D42: 1 | E42: =IF(D42<>"",D42,"") -> 1 | F42: =IF(D42<>"",IF(C42="","",C42),"") -> BERNARDO, DAVI, JULIO, PEDRO | G42: =VLOOKUP(G40,E40:F42,2,0) | V42: =IF(U42="","",VLOOKUP(U42,LISTAS!$F$5:$G$204,2,0)) | W42: =IF(S42="","",IF(S42=1,400,IF(S42=2,340,IF(S42=3,300,IF(S42=4,280,IF(S42=5,270,IF(S42=6,260,IF(S42=7,250,IF(S42=8,240,IF(S42=9,200,IF(S42=10,200,IF(S42=11,200,IF(S42=12,200,IF(S42=13,200,IF(S42=14,200,IF(S42=15,200,IF(S42=16,200,IF(S42>16,"","")))))))))))))))))) | X42: =IF(S42="","",IF($V$5="NÃO","",IF(S42=1,400,IF(S42=2,340,IF(S42=3,300,IF(S42=4,280,IF(S42=5,270,IF(S42=6,260,IF(S42=7,250,IF(S42=8,240,IF(S42=9,200,IF(S42=10,200,IF(S42=11,200,IF(S42=12,200,IF(S42=13,200,IF(S42=14,200,IF(S42=15,200,IF(S42=16,200,IF(S42>16,"","")))))))))))))))))))
C43: =IF(C42="","",VLOOKUP(C42,LISTAS!$F$5:$G$204,2,0)) -> ARBOS S.A
G44: =IF(D40<>"",IF(D42<>"",IF(D40=D42,"",IF(D40>D42,C40,C42)),""),"") -> BERNARDO, DAVI, JULIO, PEDRO | H44: 0 | I44: =IF(H44<>"",H44,"") -> 0 | J44: =IF(H44<>"",IF(G44="","",G44),"") -> BERNARDO, DAVI, JULIO, PEDRO | K44: =IF(I44<>"",IF(I46<>"",SMALL(I44:J46,1),""),"") -> 0 | V44: =IF(U44="","",VLOOKUP(U44,LISTAS!$F$5:$G$204,2,0)) | W44: =IF(S44="","",IF(S44=1,400,IF(S44=2,340,IF(S44=3,300,IF(S44=4,280,IF(S44=5,270,IF(S44=6,260,IF(S44=7,250,IF(S44=8,240,IF(S44=9,200,IF(S44=10,200,IF(S44=11,200,IF(S44=12,200,IF(S44=13,200,IF(S44=14,200,IF(S44=15,200,IF(S44=16,200,IF(S44>16,"","")))))))))))))))))) | X44: =IF(S44="","",IF($V$5="NÃO","",IF(S44=1,400,IF(S44=2,340,IF(S44=3,300,IF(S44=4,280,IF(S44=5,270,IF(S44=6,260,IF(S44=7,250,IF(S44=8,240,IF(S44=9,200,IF(S44=10,200,IF(S44=11,200,IF(S44=12,200,IF(S44=13,200,IF(S44=14,200,IF(S44=15,200,IF(S44=16,200,IF(S44>16,"","")))))))))))))))))))
G45: =IF(G44="","",VLOOKUP(G44,LISTAS!$F$5:$G$204,2,0)) -> ARBOS S.A
G46: =IF(D48<>"",IF(D50<>"",IF(D48=D50,"",IF(D48>D50,C48,C50)),""),"") -> BENTO, JOSE, PEDRO | H46: 1 | I46: =IF(H46<>"",H46,"") -> 1 | J46: =IF(H46<>"",IF(G46="","",G46),"") -> BENTO, JOSE, PEDRO | K46: =VLOOKUP(K44,I44:J46,2,0) -> BERNARDO, DAVI, JULIO, PEDRO | V46: =IF(U46="","",VLOOKUP(U46,LISTAS!$F$5:$G$204,2,0)) | W46: =IF(S46="","",IF(S46=1,400,IF(S46=2,340,IF(S46=3,300,IF(S46=4,280,IF(S46=5,270,IF(S46=6,260,IF(S46=7,250,IF(S46=8,240,IF(S46=9,200,IF(S46=10,200,IF(S46=11,200,IF(S46=12,200,IF(S46=13,200,IF(S46=14,200,IF(S46=15,200,IF(S46=16,200,IF(S46>16,"","")))))))))))))))))) | X46: =IF(S46="","",IF($V$5="NÃO","",IF(S46=1,400,IF(S46=2,340,IF(S46=3,300,IF(S46=4,280,IF(S46=5,270,IF(S46=6,260,IF(S46=7,250,IF(S46=8,240,IF(S46=9,200,IF(S46=10,200,IF(S46=11,200,IF(S46=12,200,IF(S46=13,200,IF(S46=14,200,IF(S46=15,200,IF(S46=16,200,IF(S46>16,"","")))))))))))))))))))
G47: =IF(G46="","",VLOOKUP(G46,LISTAS!$F$5:$G$204,2,0)) -> LICEU JARDIM
B48: 5 | C48: BENTO, JOSE, PEDRO | D48: 1 | E48: =IF(D48<>"",D48,"") -> 1 | F48: =IF(D48<>"",IF(C48="","",C48),"") -> BENTO, JOSE, PEDRO | G48: =IF(E48<>"",IF(E50<>"",SMALL(E48:F50,1),""),"") -> 0 | V48: =IF(U48="","",VLOOKUP(U48,LISTAS!$F$5:$G$204,2,0)) | W48: =IF(S48="","",IF(S48=1,400,IF(S48=2,340,IF(S48=3,300,IF(S48=4,280,IF(S48=5,270,IF(S48=6,260,IF(S48=7,250,IF(S48=8,240,IF(S48=9,200,IF(S48=10,200,IF(S48=11,200,IF(S48=12,200,IF(S48=13,200,IF(S48=14,200,IF(S48=15,200,IF(S48=16,200,IF(S48>16,"","")))))))))))))))))) | X48: =IF(S48="","",IF($V$5="NÃO","",IF(S48=1,400,IF(S48=2,340,IF(S48=3,300,IF(S48=4,280,IF(S48=5,270,IF(S48=6,260,IF(S48=7,250,IF(S48=8,240,IF(S48=9,200,IF(S48=10,200,IF(S48=11,200,IF(S48=12,200,IF(S48=13,200,IF(S48=14,200,IF(S48=15,200,IF(S48=16,200,IF(S48>16,"","")))))))))))))))))))
C49: =IF(C48="","",VLOOKUP(C48,LISTAS!$F$5:$G$204,2,0)) -> LICEU JARDIM
B50: 12 | D50: 0 | E50: =IF(D50<>"",D50,"") -> 0 | F50: =IF(D50<>"",IF(C50="","",C50),"") | G50: =VLOOKUP(G48,E48:F50,2,0) | V50: =IF(U50="","",VLOOKUP(U50,LISTAS!$F$5:$G$204,2,0)) | W50: =IF(S50="","",IF(S50=1,400,IF(S50=2,340,IF(S50=3,300,IF(S50=4,280,IF(S50=5,270,IF(S50=6,260,IF(S50=7,250,IF(S50=8,240,IF(S50=9,200,IF(S50=10,200,IF(S50=11,200,IF(S50=12,200,IF(S50=13,200,IF(S50=14,200,IF(S50=15,200,IF(S50=16,200,IF(S50>16,"","")))))))))))))))))) | X50: =IF(S50="","",IF($V$5="NÃO","",IF(S50=1,400,IF(S50=2,340,IF(S50=3,300,IF(S50=4,280,IF(S50=5,270,IF(S50=6,260,IF(S50=7,250,IF(S50=8,240,IF(S50=9,200,IF(S50=10,200,IF(S50=11,200,IF(S50=12,200,IF(S50=13,200,IF(S50=14,200,IF(S50=15,200,IF(S50=16,200,IF(S50>16,"","")))))))))))))))))))
C51: =IF(C50="","",VLOOKUP(C50,LISTAS!$F$5:$G$204,2,0))
K52: =IF(H44<>"",IF(H46<>"",IF(H44=H46,"",IF(H44>H46,G44,G46)),""),"") -> BENTO, JOSE, PEDRO | L52: 1 | M52: =IF(L52<>"",L52,"") -> 1 | N52: =IF(L52<>"",IF(K52="","",K52),"") -> BENTO, JOSE, PEDRO | O52: =IF(M52<>"",IF(M54<>"",SMALL(M52:N54,1),""),"") -> 0 | V52: =IF(U52="","",VLOOKUP(U52,LISTAS!$F$5:$G$204,2,0)) | W52: =IF(S52="","",IF(S52=1,400,IF(S52=2,340,IF(S52=3,300,IF(S52=4,280,IF(S52=5,270,IF(S52=6,260,IF(S52=7,250,IF(S52=8,240,IF(S52=9,200,IF(S52=10,200,IF(S52=11,200,IF(S52=12,200,IF(S52=13,200,IF(S52=14,200,IF(S52=15,200,IF(S52=16,200,IF(S52>16,"","")))))))))))))))))) | X52: =IF(S52="","",IF($V$5="NÃO","",IF(S52=1,400,IF(S52=2,340,IF(S52=3,300,IF(S52=4,280,IF(S52=5,270,IF(S52=6,260,IF(S52=7,250,IF(S52=8,240,IF(S52=9,200,IF(S52=10,200,IF(S52=11,200,IF(S52=12,200,IF(S52=13,200,IF(S52=14,200,IF(S52=15,200,IF(S52=16,200,IF(S52>16,"","")))))))))))))))))))
K53: =IF(K52="","",VLOOKUP(K52,LISTAS!$F$5:$G$204,2,0)) -> LICEU JARDIM
K54: =IF(H60<>"",IF(H62<>"",IF(H60=H62,"",IF(H60>H62,G60,G62)),""),"") -> DAVI, PIETRO, PERSIO | L54: 0 | M54: =IF(L54<>"",L54,"") -> 0 | N54: =IF(L54<>"",IF(K54="","",K54),"") -> DAVI, PIETRO, PERSIO | O54: =VLOOKUP(O52,M52:N54,2,0) -> DAVI, PIETRO, PERSIO | V54: =IF(U54="","",VLOOKUP(U54,LISTAS!$F$5:$G$204,2,0)) | W54: =IF(S54="","",IF(S54=1,400,IF(S54=2,340,IF(S54=3,300,IF(S54=4,280,IF(S54=5,270,IF(S54=6,260,IF(S54=7,250,IF(S54=8,240,IF(S54=9,200,IF(S54=10,200,IF(S54=11,200,IF(S54=12,200,IF(S54=13,200,IF(S54=14,200,IF(S54=15,200,IF(S54=16,200,IF(S54>16,"","")))))))))))))))))) | X54: =IF(S54="","",IF($V$5="NÃO","",IF(S54=1,400,IF(S54=2,340,IF(S54=3,300,IF(S54=4,280,IF(S54=5,270,IF(S54=6,260,IF(S54=7,250,IF(S54=8,240,IF(S54=9,200,IF(S54=10,200,IF(S54=11,200,IF(S54=12,200,IF(S54=13,200,IF(S54=14,200,IF(S54=15,200,IF(S54=16,200,IF(S54>16,"","")))))))))))))))))))
K55: =IF(K54="","",VLOOKUP(K54,LISTAS!$F$5:$G$204,2,0)) -> ARBOS SBC
B56: 8 | C56: BENICIO, CAIQUE, RAFAEL, JOÃO. MARCOS | D56: 1 | E56: Q | F56: =IF(D56<>"",IF(C56="","",C56),"") -> BENICIO, CAIQUE, RAFAEL, JOÃO. MARCOS | G56: =IF(E56<>"",IF(E58<>"",SMALL(E56:F58,1),""),"") -> 0 | V56: =IF(U56="","",VLOOKUP(U56,LISTAS!$F$5:$G$204,2,0)) | W56: =IF(S56="","",IF(S56=1,400,IF(S56=2,340,IF(S56=3,300,IF(S56=4,280,IF(S56=5,270,IF(S56=6,260,IF(S56=7,250,IF(S56=8,240,IF(S56=9,200,IF(S56=10,200,IF(S56=11,200,IF(S56=12,200,IF(S56=13,200,IF(S56=14,200,IF(S56=15,200,IF(S56=16,200,IF(S56>16,"","")))))))))))))))))) | X56: =IF(S56="","",IF($V$5="NÃO","",IF(S56=1,400,IF(S56=2,340,IF(S56=3,300,IF(S56=4,280,IF(S56=5,270,IF(S56=6,260,IF(S56=7,250,IF(S56=8,240,IF(S56=9,200,IF(S56=10,200,IF(S56=11,200,IF(S56=12,200,IF(S56=13,200,IF(S56=14,200,IF(S56=15,200,IF(S56=16,200,IF(S56>16,"","")))))))))))))))))))
C57: =IF(C56="","",VLOOKUP(C56,LISTAS!$F$5:$G$204,2,0)) -> STAGIUM - DIAD
B58: 10 | D58: 0 | E58: =IF(D58<>"",D58,"") -> 0 | F58: =IF(D58<>"",IF(C58="","",C58),"") | G58: =VLOOKUP(G56,E56:F58,2,0) | V58: =IF(U58="","",VLOOKUP(U58,LISTAS!$F$5:$G$204,2,0)) | W58: =IF(S58="","",IF(S58=1,400,IF(S58=2,340,IF(S58=3,300,IF(S58=4,280,IF(S58=5,270,IF(S58=6,260,IF(S58=7,250,IF(S58=8,240,IF(S58=9,200,IF(S58=10,200,IF(S58=11,200,IF(S58=12,200,IF(S58=13,200,IF(S58=14,200,IF(S58=15,200,IF(S58=16,200,IF(S58>16,"","")))))))))))))))))) | X58: =IF(S58="","",IF($V$5="NÃO","",IF(S58=1,400,IF(S58=2,340,IF(S58=3,300,IF(S58=4,280,IF(S58=5,270,IF(S58=6,260,IF(S58=7,250,IF(S58=8,240,IF(S58=9,200,IF(S58=10,200,IF(S58=11,200,IF(S58=12,200,IF(S58=13,200,IF(S58=14,200,IF(S58=15,200,IF(S58=16,200,IF(S58>16,"","")))))))))))))))))))
C59: =IF(C58="","",VLOOKUP(C58,LISTAS!$F$5:$G$204,2,0))
G60: =IF(D56<>"",IF(D58<>"",IF(D56=D58,"",IF(D56>D58,C56,C58)),""),"") -> BENICIO, CAIQUE, RAFAEL, JOÃO. MARCOS | H60: 0 | I60: =IF(H60<>"",H60,"") -> 0 | J60: =IF(H60<>"",IF(G60="","",G60),"") -> BENICIO, CAIQUE, RAFAEL, JOÃO. MARCOS | K60: =IF(I60<>"",IF(I62<>"",SMALL(I60:J62,1),""),"") -> 0 | V60: =IF(U60="","",VLOOKUP(U60,LISTAS!$F$5:$G$204,2,0)) | W60: =IF(S60="","",IF(S60=1,400,IF(S60=2,340,IF(S60=3,300,IF(S60=4,280,IF(S60=5,270,IF(S60=6,260,IF(S60=7,250,IF(S60=8,240,IF(S60=9,200,IF(S60=10,200,IF(S60=11,200,IF(S60=12,200,IF(S60=13,200,IF(S60=14,200,IF(S60=15,200,IF(S60=16,200,IF(S60>16,"","")))))))))))))))))) | X60: =IF(S60="","",IF($V$5="NÃO","",IF(S60=1,400,IF(S60=2,340,IF(S60=3,300,IF(S60=4,280,IF(S60=5,270,IF(S60=6,260,IF(S60=7,250,IF(S60=8,240,IF(S60=9,200,IF(S60=10,200,IF(S60=11,200,IF(S60=12,200,IF(S60=13,200,IF(S60=14,200,IF(S60=15,200,IF(S60=16,200,IF(S60>16,"","")))))))))))))))))))
G61: =IF(G60="","",VLOOKUP(G60,LISTAS!$F$5:$G$204,2,0)) -> STAGIUM - DIAD
