Workbook

Sheet 11F
B5: SUB 12 FEMININO | S5: SUB 12 FEMININO | U5: PONTUAÇÃO ESCOLA: | V5: SIM
B6: S É R I E O U R O | S6: S É R I E O U R O
S7: CLASSIFICAÇÃO | U7: NOMES | V7: ESCOLA | W7: PONTUAÇÃO ALUNO | X7: PONTUAÇÃO ESCOLA
B8: 1 | C8: SOPHIA, ALICE, ANA, MANUELA | D8: 1 | E8: =IF(D8<>"",D8,"") -> 1 | F8: =IF(D8<>"",IF(C8="","",C8),"") -> SOPHIA, ALICE, ANA, MANUELA | G8: =IF(E8<>"",IF(E10<>"",SMALL(E8:F10,1),""),"") -> 0 | S8: =IF(U8<>"",1,"") -> 1 | T8: =IF(S8<>"","LUGAR","") -> LUGAR | U8: =IF(P35<>"",IF(P37<>"",IF(P35=P37,"",IF(P35>P37,O35,O37)),""),"") -> SOPHIA, ALICE, ANA, MANUELA | V8: =IF(U8="","",VLOOKUP(U8,LISTAS!$F$5:$G$204,2,0)) -> ARBOS SCS | W8: =IF(S8="","",IF(S8=1,400,IF(S8=2,340,IF(S8=3,300,IF(S8=4,280,IF(S8=5,270,IF(S8=6,260,IF(S8=7,250,IF(S8=8,240,IF(S8=9,200,IF(S8=10,200,IF(S8=11,200,IF(S8=12,200,IF(S8=13,200,IF(S8=14,200,IF(S8=15,200,IF(S8=16,200,IF(S8>16,"","")))))))))))))))))) -> 400 | X8: 200
C9: =IF(C8="","",VLOOKUP(C8,LISTAS!$F$5:$G$204,2,0)) -> ARBOS SCS | S9: =IF(U9<>"",1+COUNTIF(S8,"1"),"") -> 2 | T9: =IF(S9<>"","LUGAR","") -> LUGAR | U9: =IF(P35<>"",IF(P37<>"",IF(P35=P37,"",IF(P35<P37,O35,O37)),""),"") -> LORENA, ISADORA, VALENTINA, ESTHER | V9: =IF(U9="","",VLOOKUP(U9,LISTAS!$F$5:$G$204,2,0)) -> LICEU JARDIM | W9: =IF(S9="","",IF(S9=1,400,IF(S9=2,340,IF(S9=3,300,IF(S9=4,280,IF(S9=5,270,IF(S9=6,260,IF(S9=7,250,IF(S9=8,240,IF(S9=9,200,IF(S9=10,200,IF(S9=11,200,IF(S9=12,200,IF(S9=13,200,IF(S9=14,200,IF(S9=15,200,IF(S9=16,200,IF(S9>16,"","")))))))))))))))))) -> 340 | X9: 170
B10: 16 | D10: 0 | E10: =IF(D10<>"",D10,"") -> 0 | F10: =IF(D10<>"",IF(C10="","",C10),"") | G10: =VLOOKUP(G8,E8:F10,2,0) | S10: =IF(U10<>"",1+COUNTIF(S8:S9,"1")+COUNTIF(S8:S9,"2"),"") | T10: =IF(S10<>"","LUGAR","") | U10: =IF(U8<>"",IF(K20=U8,K22,IF(K22=U8,K20,IF(K51=U8,K53,IF(K53=U8,K51)))),"") | V10: =IF(U10="","",VLOOKUP(U10,LISTAS!$F$5:$G$204,2,0)) | W10: =IF(S10="","",IF(S10=1,400,IF(S10=2,340,IF(S10=3,300,IF(S10=4,280,IF(S10=5,270,IF(S10=6,260,IF(S10=7,250,IF(S10=8,240,IF(S10=9,200,IF(S10=10,200,IF(S10=11,200,IF(S10=12,200,IF(S10=13,200,IF(S10=14,200,IF(S10=15,200,IF(S10=16,200,IF(S10>16,"","")))))))))))))))))) | X10: =IF(S10="","",IF($V$5="NÃO","",IF(S10=1,400,IF(S10=2,340,IF(S10=3,300,IF(S10=4,280,IF(S10=5,270,IF(S10=6,260,IF(S10=7,250,IF(S10=8,240,IF(S10=9,200,IF(S10=10,200,IF(S10=11,200,IF(S10=12,200,IF(S10=13,200,IF(S10=14,200,IF(S10=15,200,IF(S10=16,200,IF(S10>16,"","")))))))))))))))))))
C11: =IF(C10="","",VLOOKUP(C10,LISTAS!$F$5:$G$204,2,0)) | S11: =IF(U11<>"",1+COUNTIF(S8:S10,"1")+COUNTIF(S8:S10,"2")+COUNTIF(S8:S10,"3"),"") | T11: =IF(S11<>"","LUGAR","") | U11: =IF(U9<>"",IF(K20=U9,K22,IF(K22=U9,K20,IF(K51=U9,K53,IF(K53=U9,K51)))),"") | V11: =IF(U11="","",VLOOKUP(U11,LISTAS!$F$5:$G$204,2,0)) | W11: =IF(S11="","",IF(S11=1,400,IF(S11=2,340,IF(S11=3,300,IF(S11=4,280,IF(S11=5,270,IF(S11=6,260,IF(S11=7,250,IF(S11=8,240,IF(S11=9,200,IF(S11=10,200,IF(S11=11,200,IF(S11=12,200,IF(S11=13,200,IF(S11=14,200,IF(S11=15,200,IF(S11=16,200,IF(S11>16,"","")))))))))))))))))) | X11: =IF(S11="","",IF($V$5="NÃO","",IF(S11=1,400,IF(S11=2,340,IF(S11=3,300,IF(S11=4,280,IF(S11=5,270,IF(S11=6,260,IF(S11=7,250,IF(S11=8,240,IF(S11=9,200,IF(S11=10,200,IF(S11=11,200,IF(S11=12,200,IF(S11=13,200,IF(S11=14,200,IF(S11=15,200,IF(S11=16,200,IF(S11>16,"","")))))))))))))))))))
G12: =IF(D8<>"",IF(D10<>"",IF(D8=D10,"",IF(D8>D10,C8,C10)),""),"") -> SOPHIA, ALICE, ANA, MANUELA | H12: 1 | I12: =IF(H12<>"",H12,"") -> 1 | J12: =IF(H12<>"",IF(G12="","",G12),"") -> SOPHIA, ALICE, ANA, MANUELA | K12: =IF(I12<>"",IF(I14<>"",SMALL(I12:J14,1),""),"") -> 0 | S12: =IF(U12<>"",1+COUNTIF(S8:S11,"1")+COUNTIF(S8:S11,"2")+COUNTIF(S8:S11,"3")+COUNTIF(S8:S11,"4"),"") | T12: =IF(S12<>"","LUGAR","") | U12: =IF(U8<>"",IF(G12=U8,G14,IF(G14=U8,G12,IF(G27=U8,G29,IF(G29=U8,G27,IF(G43=U8,G45,IF(G45=U8,G43,IF(G59=U8,G61,IF(G61=U8,G59)))))))),"") | V12: =IF(U12="","",VLOOKUP(U12,LISTAS!$F$5:$G$204,2,0)) | W12: =IF(S12="","",IF(S12=1,400,IF(S12=2,340,IF(S12=3,300,IF(S12=4,280,IF(S12=5,270,IF(S12=6,260,IF(S12=7,250,IF(S12=8,240,IF(S12=9,200,IF(S12=10,200,IF(S12=11,200,IF(S12=12,200,IF(S12=13,200,IF(S12=14,200,IF(S12=15,200,IF(S12=16,200,IF(S12>16,"","")))))))))))))))))) | X12: =IF(S12="","",IF($V$5="NÃO","",IF(S12=1,400,IF(S12=2,340,IF(S12=3,300,IF(S12=4,280,IF(S12=5,270,IF(S12=6,260,IF(S12=7,250,IF(S12=8,240,IF(S12=9,200,IF(S12=10,200,IF(S12=11,200,IF(S12=12,200,IF(S12=13,200,IF(S12=14,200,IF(S12=15,200,IF(S12=16,200,IF(S12>16,"","")))))))))))))))))))
G13: =IF(G12="","",VLOOKUP(G12,LISTAS!$F$5:$G$204,2,0)) -> ARBOS SCS | S13: =IF(U13<>"",1+COUNTIF(S8:S12,"1")+COUNTIF(S8:S12,"2")+COUNTIF(S8:S12,"3")+COUNTIF(S8:S12,"4")+COUNTIF(S8:S12,"5"),"") | T13: =IF(S13<>"","LUGAR","") | U13: =IF(U9<>"",IF(G12=U9,G14,IF(G14=U9,G12,IF(G27=U9,G29,IF(G29=U9,G27,IF(G43=U9,G45,IF(G45=U9,G43,IF(G59=U9,G61,IF(G61=U9,G59)))))))),"") | V13: =IF(U13="","",VLOOKUP(U13,LISTAS!$F$5:$G$204,2,0)) | W13: =IF(S13="","",IF(S13=1,400,IF(S13=2,340,IF(S13=3,300,IF(S13=4,280,IF(S13=5,270,IF(S13=6,260,IF(S13=7,250,IF(S13=8,240,IF(S13=9,200,IF(S13=10,200,IF(S13=11,200,IF(S13=12,200,IF(S13=13,200,IF(S13=14,200,IF(S13=15,200,IF(S13=16,200,IF(S13>16,"","")))))))))))))))))) | X13: =IF(S13="","",IF($V$5="NÃO","",IF(S13=1,400,IF(S13=2,340,IF(S13=3,300,IF(S13=4,280,IF(S13=5,270,IF(S13=6,260,IF(S13=7,250,IF(S13=8,240,IF(S13=9,200,IF(S13=10,200,IF(S13=11,200,IF(S13=12,200,IF(S13=13,200,IF(S13=14,200,IF(S13=15,200,IF(S13=16,200,IF(S13>16,"","")))))))))))))))))))
G14: =IF(D16<>"",IF(D18<>"",IF(D16=D18,"",IF(D16>D18,C16,C18)),""),"") | H14: 0 | I14: =IF(H14<>"",H14,"") -> 0 | J14: =IF(H14<>"",IF(G14="","",G14),"") | K14: =VLOOKUP(K12,I12:J14,2,0) | S14: =IF(U14<>"",1+COUNTIF(S8:S13,"1")+COUNTIF(S8:S13,"2")+COUNTIF(S8:S13,"3")+COUNTIF(S8:S13,"4")+COUNTIF(S8:S13,"5")+COUNTIF(S8:S13,"6"),"") | T14: =IF(S14<>"","LUGAR","") | U14: =IF(U10<>"",IF(G12=U10,G14,IF(G14=U10,G12,IF(G27=U10,G29,IF(G29=U10,G27,IF(G43=U10,G45,IF(G45=U10,G43,IF(G59=U10,G61,IF(G61=U10,G59)))))))),"") | V14: =IF(U14="","",VLOOKUP(U14,LISTAS!$F$5:$G$204,2,0)) | W14: =IF(S14="","",IF(S14=1,400,IF(S14=2,340,IF(S14=3,300,IF(S14=4,280,IF(S14=5,270,IF(S14=6,260,IF(S14=7,250,IF(S14=8,240,IF(S14=9,200,IF(S14=10,200,IF(S14=11,200,IF(S14=12,200,IF(S14=13,200,IF(S14=14,200,IF(S14=15,200,IF(S14=16,200,IF(S14>16,"","")))))))))))))))))) | X14: =IF(S14="","",IF($V$5="NÃO","",IF(S14=1,400,IF(S14=2,340,IF(S14=3,300,IF(S14=4,280,IF(S14=5,270,IF(S14=6,260,IF(S14=7,250,IF(S14=8,240,IF(S14=9,200,IF(S14=10,200,IF(S14=11,200,IF(S14=12,200,IF(S14=13,200,IF(S14=14,200,IF(S14=15,200,IF(S14=16,200,IF(S14>16,"","")))))))))))))))))))
G15: =IF(G14="","",VLOOKUP(G14,LISTAS!$F$5:$G$204,2,0)) | S15: =IF(U15<>"",1+COUNTIF(S8:S14,"1")+COUNTIF(S8:S14,"2")+COUNTIF(S8:S14,"3")+COUNTIF(S8:S14,"4")+COUNTIF(S8:S14,"5")+COUNTIF(S8:S14,"6")+COUNTIF(S8:S14,"7"),"") | T15: =IF(S15<>"","LUGAR","") | U15: =IF(U11<>"",IF(G12=U11,G14,IF(G14=U11,G12,IF(G27=U11,G29,IF(G29=U11,G27,IF(G43=U11,G45,IF(G45=U11,G43,IF(G59=U11,G61,IF(G61=U11,G59)))))))),"") | V15: =IF(U15="","",VLOOKUP(U15,LISTAS!$F$5:$G$204,2,0)) | W15: =IF(S15="","",IF(S15=1,400,IF(S15=2,340,IF(S15=3,300,IF(S15=4,280,IF(S15=5,270,IF(S15=6,260,IF(S15=7,250,IF(S15=8,240,IF(S15=9,200,IF(S15=10,200,IF(S15=11,200,IF(S15=12,200,IF(S15=13,200,IF(S15=14,200,IF(S15=15,200,IF(S15=16,200,IF(S15>16,"","")))))))))))))))))) | X15: =IF(S15="","",IF($V$5="NÃO","",IF(S15=1,400,IF(S15=2,340,IF(S15=3,300,IF(S15=4,280,IF(S15=5,270,IF(S15=6,260,IF(S15=7,250,IF(S15=8,240,IF(S15=9,200,IF(S15=10,200,IF(S15=11,200,IF(S15=12,200,IF(S15=13,200,IF(S15=14,200,IF(S15=15,200,IF(S15=16,200,IF(S15>16,"","")))))))))))))))))))
B16: 7 | D16: 0 | E16: =IF(D16<>"",D16,"") -> 0 | F16: =IF(D16<>"",IF(C16="","",C16),"") | G16: =IF(E16<>"",IF(E18<>"",SMALL(E16:F18,1),""),"") -> 0 | S16: =IF(U16<>"",1+COUNTIF(S8:S15,"1")+COUNTIF(S8:S15,"2")+COUNTIF(S8:S15,"3")+COUNTIF(S8:S15,"4")+COUNTIF(S8:S15,"5")+COUNTIF(S8:S15,"6")+COUNTIF(S8:S15,"7")+COUNTIF(S8:S15,"8"),"") | T16: =IF(S16<>"","LUGAR","") | U16: =IF(U8<>"",IF(C8=U8,G10,IF(C10=U8,G10,IF(C16=U8,G18,IF(C18=U8,G18,IF(C23=U8,G25,IF(C25=U8,G25,IF(C31=U8,G33,IF(C33=U8,G33,IF(C39=U8,G41,IF(C41=U8,G41,IF(C47=U8,G49,IF(C49=U8,G49,IF(C55=U8,G57,IF(C57=U8,G57,IF(C63=U8,G65,IF(C65=U8,G65)))))))))))))))),"") | V16: =IF(U16="","",VLOOKUP(U16,LISTAS!$F$5:$G$204,2,0)) | W16: =IF(S16="","",IF(S16=1,400,IF(S16=2,340,IF(S16=3,300,IF(S16=4,280,IF(S16=5,270,IF(S16=6,260,IF(S16=7,250,IF(S16=8,240,IF(S16=9,200,IF(S16=10,200,IF(S16=11,200,IF(S16=12,200,IF(S16=13,200,IF(S16=14,200,IF(S16=15,200,IF(S16=16,200,IF(S16>16,"","")))))))))))))))))) | X16: =IF(S16="","",IF($V$5="NÃO","",IF(S16=1,400,IF(S16=2,340,IF(S16=3,300,IF(S16=4,280,IF(S16=5,270,IF(S16=6,260,IF(S16=7,250,IF(S16=8,240,IF(S16=9,200,IF(S16=10,200,IF(S16=11,200,IF(S16=12,200,IF(S16=13,200,IF(S16=14,200,IF(S16=15,200,IF(S16=16,200,IF(S16>16,"","")))))))))))))))))))
C17: =IF(C16="","",VLOOKUP(C16,LISTAS!$F$5:$G$204,2,0)) | S17: =IF(U17<>"",1+COUNTIF(S8:S16,"1")+COUNTIF(S8:S16,"2")+COUNTIF(S8:S16,"3")+COUNTIF(S8:S16,"4")+COUNTIF(S8:S16,"5")+COUNTIF(S8:S16,"6")+COUNTIF(S8:S16,"7")+COUNTIF(S8:S16,"8")+COUNTIF(S8:S16,"9"),"") | T17: =IF(S17<>"","LUGAR","") | U17: =IF(U9<>"",IF(C8=U9,G10,IF(C10=U9,G10,IF(C16=U9,G18,IF(C18=U9,G18,IF(C23=U9,G25,IF(C25=U9,G25,IF(C31=U9,G33,IF(C33=U9,G33,IF(C39=U9,G41,IF(C41=U9,G41,IF(C47=U9,G49,IF(C49=U9,G49,IF(C55=U9,G57,IF(C57=U9,G57,IF(C63=U9,G65,IF(C65=U9,G65)))))))))))))))),"") | V17: =IF(U17="","",VLOOKUP(U17,LISTAS!$F$5:$G$204,2,0)) | W17: =IF(S17="","",IF(S17=1,400,IF(S17=2,340,IF(S17=3,300,IF(S17=4,280,IF(S17=5,270,IF(S17=6,260,IF(S17=7,250,IF(S17=8,240,IF(S17=9,200,IF(S17=10,200,IF(S17=11,200,IF(S17=12,200,IF(S17=13,200,IF(S17=14,200,IF(S17=15,200,IF(S17=16,200,IF(S17>16,"","")))))))))))))))))) | X17: =IF(S17="","",IF($V$5="NÃO","",IF(S17=1,400,IF(S17=2,340,IF(S17=3,300,IF(S17=4,280,IF(S17=5,270,IF(S17=6,260,IF(S17=7,250,IF(S17=8,240,IF(S17=9,200,IF(S17=10,200,IF(S17=11,200,IF(S17=12,200,IF(S17=13,200,IF(S17=14,200,IF(S17=15,200,IF(S17=16,200,IF(S17>16,"","")))))))))))))))))))
B18: 9 | D18: 0 | E18: =IF(D18<>"",D18,"") -> 0 | F18: =IF(D18<>"",IF(C18="","",C18),"") | G18: =VLOOKUP(G16,E16:F18,2,0) | S18: =IF(U18<>"",1+COUNTIF(S8:S17,"1")+COUNTIF(S8:S17,"2")+COUNTIF(S8:S17,"3")+COUNTIF(S8:S17,"4")+COUNTIF(S8:S17,"5")+COUNTIF(S8:S17,"6")+COUNTIF(S8:S17,"7")+COUNTIF(S8:S17,"8")+COUNTIF(S8:S17,"9")+COUNTIF(S8:S17,"10"),"") | T18: =IF(S18<>"","LUGAR","") | U18: =IF(U10<>"",IF(C8=U10,G10,IF(C10=U10,G10,IF(C16=U10,G18,IF(C18=U10,G18,IF(C23=U10,G25,IF(C25=U10,G25,IF(C31=U10,G33,IF(C33=U10,G33,IF(C39=U10,G41,IF(C41=U10,G41,IF(C47=U10,G49,IF(C49=U10,G49,IF(C55=U10,G57,IF(C57=U10,G57,IF(C63=U10,G65,IF(C65=U10,G65)))))))))))))))),"") | V18: =IF(U18="","",VLOOKUP(U18,LISTAS!$F$5:$G$204,2,0)) | W18: =IF(S18="","",IF(S18=1,400,IF(S18=2,340,IF(S18=3,300,IF(S18=4,280,IF(S18=5,270,IF(S18=6,260,IF(S18=7,250,IF(S18=8,240,IF(S18=9,200,IF(S18=10,200,IF(S18=11,200,IF(S18=12,200,IF(S18=13,200,IF(S18=14,200,IF(S18=15,200,IF(S18=16,200,IF(S18>16,"","")))))))))))))))))) | X18: =IF(S18="","",IF($V$5="NÃO","",IF(S18=1,400,IF(S18=2,340,IF(S18=3,300,IF(S18=4,280,IF(S18=5,270,IF(S18=6,260,IF(S18=7,250,IF(S18=8,240,IF(S18=9,200,IF(S18=10,200,IF(S18=11,200,IF(S18=12,200,IF(S18=13,200,IF(S18=14,200,IF(S18=15,200,IF(S18=16,200,IF(S18>16,"","")))))))))))))))))))
C19: =IF(C18="","",VLOOKUP(C18,LISTAS!$F$5:$G$204,2,0)) | S19: =IF(U19<>"",1+COUNTIF(S8:S18,"1")+COUNTIF(S8:S18,"2")+COUNTIF(S8:S18,"3")+COUNTIF(S8:S18,"4")+COUNTIF(S8:S18,"5")+COUNTIF(S8:S18,"6")+COUNTIF(S8:S18,"7")+COUNTIF(S8:S18,"8")+COUNTIF(S8:S18,"9")+COUNTIF(S8:S18,"10")+COUNTIF(S8:S18,"11"),"") | T19: =IF(S19<>"","LUGAR","") | U19: =IF(U11<>"",IF(C8=U11,G10,IF(C10=U11,G10,IF(C16=U11,G18,IF(C18=U11,G18,IF(C23=U11,G25,IF(C25=U11,G25,IF(C31=U11,G33,IF(C33=U11,G33,IF(C39=U11,G41,IF(C41=U11,G41,IF(C47=U11,G49,IF(C49=U11,G49,IF(C55=U11,G57,IF(C57=U11,G57,IF(C63=U11,G65,IF(C65=U11,G65)))))))))))))))),"") | V19: =IF(U19="","",VLOOKUP(U19,LISTAS!$F$5:$G$204,2,0)) | W19: =IF(S19="","",IF(S19=1,400,IF(S19=2,340,IF(S19=3,300,IF(S19=4,280,IF(S19=5,270,IF(S19=6,260,IF(S19=7,250,IF(S19=8,240,IF(S19=9,200,IF(S19=10,200,IF(S19=11,200,IF(S19=12,200,IF(S19=13,200,IF(S19=14,200,IF(S19=15,200,IF(S19=16,200,IF(S19>16,"","")))))))))))))))))) | X19: =IF(S19="","",IF($V$5="NÃO","",IF(S19=1,400,IF(S19=2,340,IF(S19=3,300,IF(S19=4,280,IF(S19=5,270,IF(S19=6,260,IF(S19=7,250,IF(S19=8,240,IF(S19=9,200,IF(S19=10,200,IF(S19=11,200,IF(S19=12,200,IF(S19=13,200,IF(S19=14,200,IF(S19=15,200,IF(S19=16,200,IF(S19>16,"","")))))))))))))))))))
K20: =IF(H12<>"",IF(H14<>"",IF(H12=H14,"",IF(H12>H14,G12,G14)),""),"") -> SOPHIA, ALICE, ANA, MANUELA | L20: 1 | M20: =IF(L20<>"",L20,"") -> 1 | N20: =IF(L20<>"",IF(K20="","",K20),"") -> SOPHIA, ALICE, ANA, MANUELA | O20: =IF(M20<>"",IF(M22<>"",SMALL(M20:N22,1),""),"") -> 0 | S20: =IF(U20<>"",1+COUNTIF(S8:S19,"1")+COUNTIF(S8:S19,"2")+COUNTIF(S8:S19,"3")+COUNTIF(S8:S19,"4")+COUNTIF(S8:S19,"5")+COUNTIF(S8:S19,"6")+COUNTIF(S8:S19,"7")+COUNTIF(S8:S19,"8")+COUNTIF(S8:S19,"9")+COUNTIF(S8:S19,"10")+COUNTIF(S8:S19,"11")+COUNTIF(S8:S19,"12"),"") | T20: =IF(S20<>"","LUGAR","") | U20: =IF(U12<>"",IF(C8=U12,G10,IF(C10=U12,G10,IF(C16=U12,G18,IF(C18=U12,G18,IF(C23=U12,G25,IF(C25=U12,G25,IF(C31=U12,G33,IF(C33=U12,G33,IF(C39=U12,G41,IF(C41=U12,G41,IF(C47=U12,G49,IF(C49=U12,G49,IF(C55=U12,G57,IF(C57=U12,G57,IF(C63=U12,G65,IF(C65=U12,G65)))))))))))))))),"") | V20: =IF(U20="","",VLOOKUP(U20,LISTAS!$F$5:$G$204,2,0)) | W20: =IF(S20="","",IF(S20=1,400,IF(S20=2,340,IF(S20=3,300,IF(S20=4,280,IF(S20=5,270,IF(S20=6,260,IF(S20=7,250,IF(S20=8,240,IF(S20=9,200,IF(S20=10,200,IF(S20=11,200,IF(S20=12,200,IF(S20=13,200,IF(S20=14,200,IF(S20=15,200,IF(S20=16,200,IF(S20>16,"","")))))))))))))))))) | X20: =IF(S20="","",IF($V$5="NÃO","",IF(S20=1,400,IF(S20=2,340,IF(S20=3,300,IF(S20=4,280,IF(S20=5,270,IF(S20=6,260,IF(S20=7,250,IF(S20=8,240,IF(S20=9,200,IF(S20=10,200,IF(S20=11,200,IF(S20=12,200,IF(S20=13,200,IF(S20=14,200,IF(S20=15,200,IF(S20=16,200,IF(S20>16,"","")))))))))))))))))))
K21: =IF(K20="","",VLOOKUP(K20,LISTAS!$F$5:$G$204,2,0)) -> ARBOS SCS | S21: =IF(U21<>"",1+COUNTIF(S8:S20,"1")+COUNTIF(S8:S20,"2")+COUNTIF(S8:S20,"3")+COUNTIF(S8:S20,"4")+COUNTIF(S8:S20,"5")+COUNTIF(S8:S20,"6")+COUNTIF(S8:S20,"7")+COUNTIF(S8:S20,"8")+COUNTIF(S8:S20,"9")+COUNTIF(S8:S20,"10")+COUNTIF(S8:S20,"11")+COUNTIF(S8:S20,"12")+COUNTIF(S8:S20,"13"),"") | T21: =IF(S21<>"","LUGAR","") | U21: =IF(U13<>"",IF(C8=U13,G10,IF(C10=U13,G10,IF(C16=U13,G18,IF(C18=U13,G18,IF(C23=U13,G25,IF(C25=U13,G25,IF(C31=U13,G33,IF(C33=U13,G33,IF(C39=U13,G41,IF(C41=U13,G41,IF(C47=U13,G49,IF(C49=U13,G49,IF(C55=U13,G57,IF(C57=U13,G57,IF(C63=U13,G65,IF(C65=U13,G65)))))))))))))))),"") | V21: =IF(U21="","",VLOOKUP(U21,LISTAS!$F$5:$G$204,2,0)) | W21: =IF(S21="","",IF(S21=1,400,IF(S21=2,340,IF(S21=3,300,IF(S21=4,280,IF(S21=5,270,IF(S21=6,260,IF(S21=7,250,IF(S21=8,240,IF(S21=9,200,IF(S21=10,200,IF(S21=11,200,IF(S21=12,200,IF(S21=13,200,IF(S21=14,200,IF(S21=15,200,IF(S21=16,200,IF(S21>16,"","")))))))))))))))))) | X21: =IF(S21="","",IF($V$5="NÃO","",IF(S21=1,400,IF(S21=2,340,IF(S21=3,300,IF(S21=4,280,IF(S21=5,270,IF(S21=6,260,IF(S21=7,250,IF(S21=8,240,IF(S21=9,200,IF(S21=10,200,IF(S21=11,200,IF(S21=12,200,IF(S21=13,200,IF(S21=14,200,IF(S21=15,200,IF(S21=16,200,IF(S21>16,"","")))))))))))))))))))
K22: =IF(H27<>"",IF(H29<>"",IF(H27=H29,"",IF(H27>H29,G27,G29)),""),"") | L22: 0 | M22: =IF(L22<>"",L22,"") -> 0 | N22: =IF(L22<>"",IF(K22="","",K22),"") | O22: =VLOOKUP(O20,M20:N22,2,0) | S22: =IF(U22<>"",1+COUNTIF(S8:S21,"1")+COUNTIF(S8:S21,"2")+COUNTIF(S8:S21,"3")+COUNTIF(S8:S21,"4")+COUNTIF(S8:S21,"5")+COUNTIF(S8:S21,"6")+COUNTIF(S8:S21,"7")+COUNTIF(S8:S21,"8")+COUNTIF(S8:S21,"9")+COUNTIF(S8:S21,"10")+COUNTIF(S8:S21,"11")+COUNTIF(S8:S21,"12")+COUNTIF(S8:S21,"13")+COUNTIF(S8:S21,"14"),"") | T22: =IF(S22<>"","LUGAR","") | U22: =IF(U14<>"",IF(C8=U14,G10,IF(C10=U14,G10,IF(C16=U14,G18,IF(C18=U14,G18,IF(C23=U14,G25,IF(C25=U14,G25,IF(C31=U14,G33,IF(C33=U14,G33,IF(C39=U14,G41,IF(C41=U14,G41,IF(C47=U14,G49,IF(C49=U14,G49,IF(C55=U14,G57,IF(C57=U14,G57,IF(C63=U14,G65,IF(C65=U14,G65)))))))))))))))),"") | V22: =IF(U22="","",VLOOKUP(U22,LISTAS!$F$5:$G$204,2,0)) | W22: =IF(S22="","",IF(S22=1,400,IF(S22=2,340,IF(S22=3,300,IF(S22=4,280,IF(S22=5,270,IF(S22=6,260,IF(S22=7,250,IF(S22=8,240,IF(S22=9,200,IF(S22=10,200,IF(S22=11,200,IF(S22=12,200,IF(S22=13,200,IF(S22=14,200,IF(S22=15,200,IF(S22=16,200,IF(S22>16,"","")))))))))))))))))) | X22: =IF(S22="","",IF($V$5="NÃO","",IF(S22=1,400,IF(S22=2,340,IF(S22=3,300,IF(S22=4,280,IF(S22=5,270,IF(S22=6,260,IF(S22=7,250,IF(S22=8,240,IF(S22=9,200,IF(S22=10,200,IF(S22=11,200,IF(S22=12,200,IF(S22=13,200,IF(S22=14,200,IF(S22=15,200,IF(S22=16,200,IF(S22>16,"","")))))))))))))))))))
B23: 6 | D23: 0 | E23: =IF(D23<>"",D23,"") -> 0 | F23: =IF(D23<>"",IF(C23="","",C23),"") | G23: =IF(E23<>"",IF(E25<>"",SMALL(E23:F25,1),""),"") -> 0 | K23: =IF(K22="","",VLOOKUP(K22,LISTAS!$F$5:$G$204,2,0)) | S23: =IF(U23<>"",1+COUNTIF(S8:S22,"1")+COUNTIF(S8:S22,"2")+COUNTIF(S8:S22,"3")+COUNTIF(S8:S22,"4")+COUNTIF(S8:S22,"5")+COUNTIF(S8:S22,"6")+COUNTIF(S8:S22,"7")+COUNTIF(S8:S22,"8")+COUNTIF(S8:S22,"9")+COUNTIF(S8:S22,"10")+COUNTIF(S8:S22,"11")+COUNTIF(S8:S22,"12")+COUNTIF(S8:S22,"13")+COUNTIF(S8:S22,"14")+COUNTIF(S8:S22,"15"),"") | T23: =IF(S23<>"","LUGAR","") | U23: =IF(U15<>"",IF(C8=U15,G10,IF(C10=U15,G10,IF(C16=U15,G18,IF(C18=U15,G18,IF(C23=U15,G25,IF(C25=U15,G25,IF(C31=U15,G33,IF(C33=U15,G33,IF(C39=U15,G41,IF(C41=U15,G41,IF(C47=U15,G49,IF(C49=U15,G49,IF(C55=U15,G57,IF(C57=U15,G57,IF(C63=U15,G65,IF(C65=U15,G65)))))))))))))))),"") | V23: =IF(U23="","",VLOOKUP(U23,LISTAS!$F$5:$G$204,2,0)) | W23: =IF(S23="","",IF(S23=1,400,IF(S23=2,340,IF(S23=3,300,IF(S23=4,280,IF(S23=5,270,IF(S23=6,260,IF(S23=7,250,IF(S23=8,240,IF(S23=9,200,IF(S23=10,200,IF(S23=11,200,IF(S23=12,200,IF(S23=13,200,IF(S23=14,200,IF(S23=15,200,IF(S23=16,200,IF(S23>16,"","")))))))))))))))))) | X23: =IF(S23="","",IF($V$5="NÃO","",IF(S23=1,400,IF(S23=2,340,IF(S23=3,300,IF(S23=4,280,IF(S23=5,270,IF(S23=6,260,IF(S23=7,250,IF(S23=8,240,IF(S23=9,200,IF(S23=10,200,IF(S23=11,200,IF(S23=12,200,IF(S23=13,200,IF(S23=14,200,IF(S23=15,200,IF(S23=16,200,IF(S23>16,"","")))))))))))))))))))
C24: =IF(C23="","",VLOOKUP(C23,LISTAS!$F$5:$G$204,2,0))
B25: 11 | D25: 0 | E25: =IF(D25<>"",D25,"") -> 0 | F25: =IF(D25<>"",IF(C25="","",C25),"") | G25: =VLOOKUP(G23,E23:F25,2,0)
C26: =IF(C25="","",VLOOKUP(C25,LISTAS!$F$5:$G$204,2,0))
G27: =IF(D23<>"",IF(D25<>"",IF(D23=D25,"",IF(D23>D25,C23,C25)),""),"") | H27: 0 | I27: =IF(H27<>"",H27,"") -> 0 | J27: =IF(H27<>"",IF(G27="","",G27),"") | K27: =IF(I27<>"",IF(I29<>"",SMALL(I27:J29,1),""),"") -> 0
G28: =IF(G27="","",VLOOKUP(G27,LISTAS!$F$5:$G$204,2,0))
G29: =IF(D31<>"",IF(D33<>"",IF(D31=D33,"",IF(D31>D33,C31,C33)),""),"") | H29: 1 | I29: =IF(H29<>"",H29,"") -> 1 | J29: =IF(H29<>"",IF(G29="","",G29),"") | K29: =VLOOKUP(K27,I27:J29,2,0)
G30: =IF(G29="","",VLOOKUP(G29,LISTAS!$F$5:$G$204,2,0))
B31: 4 | D31: 0 | E31: =IF(D31<>"",D31,"") -> 0 | F31: =IF(D31<>"",IF(C31="","",C31),"") | G31: =IF(E31<>"",IF(E33<>"",SMALL(E31:F33,1),""),"") -> 0
C32: =IF(C31="","",VLOOKUP(C31,LISTAS!$F$5:$G$204,2,0))
B33: 13 | D33: 0 | E33: =IF(D33<>"",D33,"") -> 0 | F33: =IF(D33<>"",IF(C33="","",C33),"") | G33: =VLOOKUP(G31,E31:F33,2,0)
C34: =IF(C33="","",VLOOKUP(C33,LISTAS!$F$5:$G$204,2,0))
O35: =IF(L20<>"",IF(L22<>"",IF(L20=L22,"",IF(L20>L22,K20,K22)),""),"") -> SOPHIA, ALICE, ANA, MANUELA | P35: 1 | V35: =IF(U35="","",VLOOKUP(U35,LISTAS!$F$5:$G$204,2,0)) | W35: =IF(S35="","",IF(S35=1,400,IF(S35=2,340,IF(S35=3,300,IF(S35=4,280,IF(S35=5,270,IF(S35=6,260,IF(S35=7,250,IF(S35=8,240,IF(S35=9,200,IF(S35=10,200,IF(S35=11,200,IF(S35=12,200,IF(S35=13,200,IF(S35=14,200,IF(S35=15,200,IF(S35=16,200,IF(S35>16,"","")))))))))))))))))) | X35: =IF(S35="","",IF($V$5="NÃO","",IF(S35=1,400,IF(S35=2,340,IF(S35=3,300,IF(S35=4,280,IF(S35=5,270,IF(S35=6,260,IF(S35=7,250,IF(S35=8,240,IF(S35=9,200,IF(S35=10,200,IF(S35=11,200,IF(S35=12,200,IF(S35=13,200,IF(S35=14,200,IF(S35=15,200,IF(S35=16,200,IF(S35>16,"","")))))))))))))))))))
O36: =IF(O35="","",VLOOKUP(O35,LISTAS!$F$5:$G$204,2,0)) -> ARBOS SCS
O37: =IF(L51<>"",IF(L53<>"",IF(L51=L53,"",IF(L51>L53,K51,K53)),""),"") -> LORENA, ISADORA, VALENTINA, ESTHER | P37: 0 | V37: =IF(U37="","",VLOOKUP(U37,LISTAS!$F$5:$G$204,2,0)) | W37: =IF(S37="","",IF(S37=1,400,IF(S37=2,340,IF(S37=3,300,IF(S37=4,280,IF(S37=5,270,IF(S37=6,260,IF(S37=7,250,IF(S37=8,240,IF(S37=9,200,IF(S37=10,200,IF(S37=11,200,IF(S37=12,200,IF(S37=13,200,IF(S37=14,200,IF(S37=15,200,IF(S37=16,200,IF(S37>16,"","")))))))))))))))))) | X37: =IF(S37="","",IF($V$5="NÃO","",IF(S37=1,400,IF(S37=2,340,IF(S37=3,300,IF(S37=4,280,IF(S37=5,270,IF(S37=6,260,IF(S37=7,250,IF(S37=8,240,IF(S37=9,200,IF(S37=10,200,IF(S37=11,200,IF(S37=12,200,IF(S37=13,200,IF(S37=14,200,IF(S37=15,200,IF(S37=16,200,IF(S37>16,"","")))))))))))))))))))
O38: =IF(O37="","",VLOOKUP(O37,LISTAS!$F$5:$G$204,2,0)) -> LICEU JARDIM
B39: 3 | D39: 0 | E39: =IF(D39<>"",D39,"") -> 0 | F39: =IF(D39<>"",IF(C39="","",C39),"") | G39: =IF(E39<>"",IF(E41<>"",SMALL(E39:F41,1),""),"") -> 0 | V39: =IF(U39="","",VLOOKUP(U39,LISTAS!$F$5:$G$204,2,0)) | W39: =IF(S39="","",IF(S39=1,400,IF(S39=2,340,IF(S39=3,300,IF(S39=4,280,IF(S39=5,270,IF(S39=6,260,IF(S39=7,250,IF(S39=8,240,IF(S39=9,200,IF(S39=10,200,IF(S39=11,200,IF(S39=12,200,IF(S39=13,200,IF(S39=14,200,IF(S39=15,200,IF(S39=16,200,IF(S39>16,"","")))))))))))))))))) | X39: =IF(S39="","",IF($V$5="NÃO","",IF(S39=1,400,IF(S39=2,340,IF(S39=3,300,IF(S39=4,280,IF(S39=5,270,IF(S39=6,260,IF(S39=7,250,IF(S39=8,240,IF(S39=9,200,IF(S39=10,200,IF(S39=11,200,IF(S39=12,200,IF(S39=13,200,IF(S39=14,200,IF(S39=15,200,IF(S39=16,200,IF(S39>16,"","")))))))))))))))))))
C40: =IF(C39="","",VLOOKUP(C39,LISTAS!$F$5:$G$204,2,0))
B41: 14 | D41: 0 | E41: =IF(D41<>"",D41,"") -> 0 | F41: =IF(D41<>"",IF(C41="","",C41),"") | G41: =VLOOKUP(G39,E39:F41,2,0) | V41: =IF(U41="","",VLOOKUP(U41,LISTAS!$F$5:$G$204,2,0)) | W41: =IF(S41="","",IF(S41=1,400,IF(S41=2,340,IF(S41=3,300,IF(S41=4,280,IF(S41=5,270,IF(S41=6,260,IF(S41=7,250,IF(S41=8,240,IF(S41=9,200,IF(S41=10,200,IF(S41=11,200,IF(S41=12,200,IF(S41=13,200,IF(S41=14,200,IF(S41=15,200,IF(S41=16,200,IF(S41>16,"","")))))))))))))))))) | X41: =IF(S41="","",IF($V$5="NÃO","",IF(S41=1,400,IF(S41=2,340,IF(S41=3,300,IF(S41=4,280,IF(S41=5,270,IF(S41=6,260,IF(S41=7,250,IF(S41=8,240,IF(S41=9,200,IF(S41=10,200,IF(S41=11,200,IF(S41=12,200,IF(S41=13,200,IF(S41=14,200,IF(S41=15,200,IF(S41=16,200,IF(S41>16,"","")))))))))))))))))))
C42: =IF(C41="","",VLOOKUP(C41,LISTAS!$F$5:$G$204,2,0))
G43: =IF(D39<>"",IF(D41<>"",IF(D39=D41,"",IF(D39>D41,C39,C41)),""),"") | H43: 1 | I43: =IF(H43<>"",H43,"") -> 1 | J43: =IF(H43<>"",IF(G43="","",G43),"") | K43: =IF(I43<>"",IF(I45<>"",SMALL(I43:J45,1),""),"") -> 0 | V43: =IF(U43="","",VLOOKUP(U43,LISTAS!$F$5:$G$204,2,0)) | W43: =IF(S43="","",IF(S43=1,400,IF(S43=2,340,IF(S43=3,300,IF(S43=4,280,IF(S43=5,270,IF(S43=6,260,IF(S43=7,250,IF(S43=8,240,IF(S43=9,200,IF(S43=10,200,IF(S43=11,200,IF(S43=12,200,IF(S43=13,200,IF(S43=14,200,IF(S43=15,200,IF(S43=16,200,IF(S43>16,"","")))))))))))))))))) | X43: =IF(S43="","",IF($V$5="NÃO","",IF(S43=1,400,IF(S43=2,340,IF(S43=3,300,IF(S43=4,280,IF(S43=5,270,IF(S43=6,260,IF(S43=7,250,IF(S43=8,240,IF(S43=9,200,IF(S43=10,200,IF(S43=11,200,IF(S43=12,200,IF(S43=13,200,IF(S43=14,200,IF(S43=15,200,IF(S43=16,200,IF(S43>16,"","")))))))))))))))))))
G44: =IF(G43="","",VLOOKUP(G43,LISTAS!$F$5:$G$204,2,0))
...

Sheet 11M
B5: SUB 12 MASCULINO | S5: SUB 12 MASCULINO | U5: PONTUAÇÃO ESCOLA: | V5: SIM
B6: S É R I E O U R O | S6: S É R I E O U R O
S7: CLASSIFICAÇÃO | U7: NOMES | V7: ESCOLA | W7: PONTUAÇÃO ALUNO | X7: PONTUAÇÃO ESCOLA
B8: 1 | D8: 0 | E8: =IF(D8<>"",D8,"") -> 0 | F8: =IF(D8<>"",IF(C8="","",C8),"") | G8: =IF(E8<>"",IF(E10<>"",SMALL(E8:F10,1),""),"") -> 0 | S8: =IF(U8<>"",1,"") -> 1 | T8: =IF(S8<>"","LUGAR","") -> LUGAR | U8: =IF(P36<>"",IF(P38<>"",IF(P36=P38,"",IF(P36>P38,O36,O38)),""),"") -> CRISTIANO, VITOR, JOÃO, LORENZO | V8: =IF(U8="","",VLOOKUP(U8,LISTAS!$F$5:$G$204,2,0)) -> LICEU JARDIM | W8: =IF(S8="","",IF(S8=1,400,IF(S8=2,340,IF(S8=3,300,IF(S8=4,280,IF(S8=5,270,IF(S8=6,260,IF(S8=7,250,IF(S8=8,240,IF(S8=9,200,IF(S8=10,200,IF(S8=11,200,IF(S8=12,200,IF(S8=13,200,IF(S8=14,200,IF(S8=15,200,IF(S8=16,200,IF(S8>16,"","")))))))))))))))))) -> 400 | X8: =IF(S8="","",IF($V$5="NÃO","",IF(S8=1,400,IF(S8=2,340,IF(S8=3,300,IF(S8=4,280,IF(S8=5,270,IF(S8=6,260,IF(S8=7,250,IF(S8=8,240,IF(S8=9,200,IF(S8=10,200,IF(S8=11,200,IF(S8=12,200,IF(S8=13,200,IF(S8=14,200,IF(S8=15,200,IF(S8=16,200,IF(S8>16,"",""))))))))))))))))))) -> 400
C9: =IF(C8="","",VLOOKUP(C8,LISTAS!$F$5:$G$204,2,0)) | S9: =IF(U9<>"",1+COUNTIF(S8,"1"),"") -> 2 | T9: =IF(S9<>"","LUGAR","") -> LUGAR | U9: =IF(P36<>"",IF(P38<>"",IF(P36=P38,"",IF(P36<P38,O36,O38)),""),"") -> LORENZO, GAEL, RICARDO | V9: =IF(U9="","",VLOOKUP(U9,LISTAS!$F$5:$G$204,2,0)) -> ARBOS SCS | W9: =IF(S9="","",IF(S9=1,400,IF(S9=2,340,IF(S9=3,300,IF(S9=4,280,IF(S9=5,270,IF(S9=6,260,IF(S9=7,250,IF(S9=8,240,IF(S9=9,200,IF(S9=10,200,IF(S9=11,200,IF(S9=12,200,IF(S9=13,200,IF(S9=14,200,IF(S9=15,200,IF(S9=16,200,IF(S9>16,"","")))))))))))))))))) -> 340 | X9: =IF(S9="","",IF($V$5="NÃO","",IF(S9=1,400,IF(S9=2,340,IF(S9=3,300,IF(S9=4,280,IF(S9=5,270,IF(S9=6,260,IF(S9=7,250,IF(S9=8,240,IF(S9=9,200,IF(S9=10,200,IF(S9=11,200,IF(S9=12,200,IF(S9=13,200,IF(S9=14,200,IF(S9=15,200,IF(S9=16,200,IF(S9>16,"",""))))))))))))))))))) -> 340
B10: 16 | C10: HEITOR, LORENZO, MURILO | D10: 1 | E10: =IF(D10<>"",D10,"") -> 1 | F10: =IF(D10<>"",IF(C10="","",C10),"") -> HEITOR, LORENZO, MURILO | G10: =VLOOKUP(G8,E8:F10,2,0) | S10: =IF(U10<>"",1+COUNTIF(S8:S9,"1")+COUNTIF(S8:S9,"2"),"") -> 3 | T10: =IF(S10<>"","LUGAR","") -> LUGAR | U10: =IF(U8<>"",IF(K20=U8,K22,IF(K22=U8,K20,IF(K52=U8,K54,IF(K54=U8,K52)))),"") -> MIGUEL, ENZO, GABRIEL, RAFAEL | V10: =IF(U10="","",VLOOKUP(U10,LISTAS!$F$5:$G$204,2,0)) -> STAGIUM - DIAD | W10: =IF(S10="","",IF(S10=1,400,IF(S10=2,340,IF(S10=3,300,IF(S10=4,280,IF(S10=5,270,IF(S10=6,260,IF(S10=7,250,IF(S10=8,240,IF(S10=9,200,IF(S10=10,200,IF(S10=11,200,IF(S10=12,200,IF(S10=13,200,IF(S10=14,200,IF(S10=15,200,IF(S10=16,200,IF(S10>16,"","")))))))))))))))))) -> 300 | X10: =IF(S10="","",IF($V$5="NÃO","",IF(S10=1,400,IF(S10=2,340,IF(S10=3,300,IF(S10=4,280,IF(S10=5,270,IF(S10=6,260,IF(S10=7,250,IF(S10=8,240,IF(S10=9,200,IF(S10=10,200,IF(S10=11,200,IF(S10=12,200,IF(S10=13,200,IF(S10=14,200,IF(S10=15,200,IF(S10=16,200,IF(S10>16,"",""))))))))))))))))))) -> 300
C11: =IF(C10="","",VLOOKUP(C10,LISTAS!$F$5:$G$204,2,0)) -> ARBOS S.A | S11: =IF(U11<>"",1+COUNTIF(S8:S10,"1")+COUNTIF(S8:S10,"2")+COUNTIF(S8:S10,"3"),"") -> 4 | T11: =IF(S11<>"","LUGAR","") -> LUGAR | U11: =IF(U9<>"",IF(K20=U9,K22,IF(K22=U9,K20,IF(K52=U9,K54,IF(K54=U9,K52)))),"") -> GUILHERME, GUILHERME, MATHEUS | V11: =IF(U11="","",VLOOKUP(U11,LISTAS!$F$5:$G$204,2,0)) -> ARBOS S.A | W11: =IF(S11="","",IF(S11=1,400,IF(S11=2,340,IF(S11=3,300,IF(S11=4,280,IF(S11=5,270,IF(S11=6,260,IF(S11=7,250,IF(S11=8,240,IF(S11=9,200,IF(S11=10,200,IF(S11=11,200,IF(S11=12,200,IF(S11=13,200,IF(S11=14,200,IF(S11=15,200,IF(S11=16,200,IF(S11>16,"","")))))))))))))))))) -> 280 | X11: =IF(S11="","",IF($V$5="NÃO","",IF(S11=1,400,IF(S11=2,340,IF(S11=3,300,IF(S11=4,280,IF(S11=5,270,IF(S11=6,260,IF(S11=7,250,IF(S11=8,240,IF(S11=9,200,IF(S11=10,200,IF(S11=11,200,IF(S11=12,200,IF(S11=13,200,IF(S11=14,200,IF(S11=15,200,IF(S11=16,200,IF(S11>16,"",""))))))))))))))))))) -> 280
G12: =IF(D8<>"",IF(D10<>"",IF(D8=D10,"",IF(D8>D10,C8,C10)),""),"") -> HEITOR, LORENZO, MURILO | H12: 0 | I12: =IF(H12<>"",H12,"") -> 0 | J12: =IF(H12<>"",IF(G12="","",G12),"") -> HEITOR, LORENZO, MURILO | K12: =IF(I12<>"",IF(I14<>"",SMALL(I12:J14,1),""),"") -> 0 | S12: =IF(U12<>"",1+COUNTIF(S8:S11,"1")+COUNTIF(S8:S11,"2")+COUNTIF(S8:S11,"3")+COUNTIF(S8:S11,"4"),"") -> 5 | T12: =IF(S12<>"","LUGAR","") -> LUGAR | U12: =IF(U8<>"",IF(G12=U8,G14,IF(G14=U8,G12,IF(G28=U8,G30,IF(G30=U8,G28,IF(G44=U8,G46,IF(G46=U8,G44,IF(G60=U8,G62,IF(G62=U8,G60)))))))),"") -> HEITOR, LORENZO, MURILO | V12: =IF(U12="","",VLOOKUP(U12,LISTAS!$F$5:$G$204,2,0)) -> ARBOS S.A | W12: =IF(S12="","",IF(S12=1,400,IF(S12=2,340,IF(S12=3,300,IF(S12=4,280,IF(S12=5,270,IF(S12=6,260,IF(S12=7,250,IF(S12=8,240,IF(S12=9,200,IF(S12=10,200,IF(S12=11,200,IF(S12=12,200,IF(S12=13,200,IF(S12=14,200,IF(S12=15,200,IF(S12=16,200,IF(S12>16,"","")))))))))))))))))) -> 270 | X12: =IF(S12="","",IF($V$5="NÃO","",IF(S12=1,400,IF(S12=2,340,IF(S12=3,300,IF(S12=4,280,IF(S12=5,270,IF(S12=6,260,IF(S12=7,250,IF(S12=8,240,IF(S12=9,200,IF(S12=10,200,IF(S12=11,200,IF(S12=12,200,IF(S12=13,200,IF(S12=14,200,IF(S12=15,200,IF(S12=16,200,IF(S12>16,"",""))))))))))))))))))) -> 270
G13: =IF(G12="","",VLOOKUP(G12,LISTAS!$F$5:$G$204,2,0)) -> ARBOS S.A | S13: =IF(U13<>"",1+COUNTIF(S8:S12,"1")+COUNTIF(S8:S12,"2")+COUNTIF(S8:S12,"3")+COUNTIF(S8:S12,"4")+COUNTIF(S8:S12,"5"),"") | T13: =IF(S13<>"","LUGAR","") | U13: =IF(U9<>"",IF(G12=U9,G14,IF(G14=U9,G12,IF(G28=U9,G30,IF(G30=U9,G28,IF(G44=U9,G46,IF(G46=U9,G44,IF(G60=U9,G62,IF(G62=U9,G60)))))))),"") | V13: =IF(U13="","",VLOOKUP(U13,LISTAS!$F$5:$G$204,2,0)) | W13: =IF(S13="","",IF(S13=1,400,IF(S13=2,340,IF(S13=3,300,IF(S13=4,280,IF(S13=5,270,IF(S13=6,260,IF(S13=7,250,IF(S13=8,240,IF(S13=9,200,IF(S13=10,200,IF(S13=11,200,IF(S13=12,200,IF(S13=13,200,IF(S13=14,200,IF(S13=15,200,IF(S13=16,200,IF(S13>16,"","")))))))))))))))))) | X13: =IF(S13="","",IF($V$5="NÃO","",IF(S13=1,400,IF(S13=2,340,IF(S13=3,300,IF(S13=4,280,IF(S13=5,270,IF(S13=6,260,IF(S13=7,250,IF(S13=8,240,IF(S13=9,200,IF(S13=10,200,IF(S13=11,200,IF(S13=12,200,IF(S13=13,200,IF(S13=14,200,IF(S13=15,200,IF(S13=16,200,IF(S13>16,"","")))))))))))))))))))
G14: =IF(D16<>"",IF(D18<>"",IF(D16=D18,"",IF(D16>D18,C16,C18)),""),"") -> CRISTIANO, VITOR, JOÃO, LORENZO | H14: 1 | I14: =IF(H14<>"",H14,"") -> 1 | J14: =IF(H14<>"",IF(G14="","",G14),"") -> CRISTIANO, VITOR, JOÃO, LORENZO | K14: =VLOOKUP(K12,I12:J14,2,0) -> HEITOR, LORENZO, MURILO | S14: =IF(U14<>"",1+COUNTIF(S8:S13,"1")+COUNTIF(S8:S13,"2")+COUNTIF(S8:S13,"3")+COUNTIF(S8:S13,"4")+COUNTIF(S8:S13,"5")+COUNTIF(S8:S13,"6"),"") -> 6 | T14: =IF(S14<>"","LUGAR","") -> LUGAR | U14: =IF(U10<>"",IF(G12=U10,G14,IF(G14=U10,G12,IF(G28=U10,G30,IF(G30=U10,G28,IF(G44=U10,G46,IF(G46=U10,G44,IF(G60=U10,G62,IF(G62=U10,G60)))))))),"") -> HENRIQUE, LORENZO, LUCAS, VINICIUS | V14: =IF(U14="","",VLOOKUP(U14,LISTAS!$F$5:$G$204,2,0)) -> LICEU JARDIM | W14: =IF(S14="","",IF(S14=1,400,IF(S14=2,340,IF(S14=3,300,IF(S14=4,280,IF(S14=5,270,IF(S14=6,260,IF(S14=7,250,IF(S14=8,240,IF(S14=9,200,IF(S14=10,200,IF(S14=11,200,IF(S14=12,200,IF(S14=13,200,IF(S14=14,200,IF(S14=15,200,IF(S14=16,200,IF(S14>16,"","")))))))))))))))))) -> 260 | X14: =IF(S14="","",IF($V$5="NÃO","",IF(S14=1,400,IF(S14=2,340,IF(S14=3,300,IF(S14=4,280,IF(S14=5,270,IF(S14=6,260,IF(S14=7,250,IF(S14=8,240,IF(S14=9,200,IF(S14=10,200,IF(S14=11,200,IF(S14=12,200,IF(S14=13,200,IF(S14=14,200,IF(S14=15,200,IF(S14=16,200,IF(S14>16,"",""))))))))))))))))))) -> 260
G15: =IF(G14="","",VLOOKUP(G14,LISTAS!$F$5:$G$204,2,0)) -> LICEU JARDIM | S15: =IF(U15<>"",1+COUNTIF(S8:S14,"1")+COUNTIF(S8:S14,"2")+COUNTIF(S8:S14,"3")+COUNTIF(S8:S14,"4")+COUNTIF(S8:S14,"5")+COUNTIF(S8:S14,"6")+COUNTIF(S8:S14,"7"),"") -> 7 | T15: =IF(S15<>"","LUGAR","") -> LUGAR | U15: =IF(U11<>"",IF(G12=U11,G14,IF(G14=U11,G12,IF(G28=U11,G30,IF(G30=U11,G28,IF(G44=U11,G46,IF(G46=U11,G44,IF(G60=U11,G62,IF(G62=U11,G60)))))))),"") -> LORENZO, RAFAEL, LEONARDO | V15: =IF(U15="","",VLOOKUP(U15,LISTAS!$F$5:$G$204,2,0)) -> VILLARE - SCS | W15: =IF(S15="","",IF(S15=1,400,IF(S15=2,340,IF(S15=3,300,IF(S15=4,280,IF(S15=5,270,IF(S15=6,260,IF(S15=7,250,IF(S15=8,240,IF(S15=9,200,IF(S15=10,200,IF(S15=11,200,IF(S15=12,200,IF(S15=13,200,IF(S15=14,200,IF(S15=15,200,IF(S15=16,200,IF(S15>16,"","")))))))))))))))))) -> 250 | X15: =IF(S15="","",IF($V$5="NÃO","",IF(S15=1,400,IF(S15=2,340,IF(S15=3,300,IF(S15=4,280,IF(S15=5,270,IF(S15=6,260,IF(S15=7,250,IF(S15=8,240,IF(S15=9,200,IF(S15=10,200,IF(S15=11,200,IF(S15=12,200,IF(S15=13,200,IF(S15=14,200,IF(S15=15,200,IF(S15=16,200,IF(S15>16,"",""))))))))))))))))))) -> 250
B16: 7 | C16: CRISTIANO, VITOR, JOÃO, LORENZO | D16: 1 | E16: =IF(D16<>"",D16,"") -> 1 | F16: =IF(D16<>"",IF(C16="","",C16),"") -> CRISTIANO, VITOR, JOÃO, LORENZO | G16: =IF(E16<>"",IF(E18<>"",SMALL(E16:F18,1),""),"") -> 0 | S16: =IF(U16<>"",1+COUNTIF(S8:S15,"1")+COUNTIF(S8:S15,"2")+COUNTIF(S8:S15,"3")+COUNTIF(S8:S15,"4")+COUNTIF(S8:S15,"5")+COUNTIF(S8:S15,"6")+COUNTIF(S8:S15,"7")+COUNTIF(S8:S15,"8"),"") | T16: =IF(S16<>"","LUGAR","") | U16: =IF(U8<>"",IF(C8=U8,G10,IF(C10=U8,G10,IF(C16=U8,G18,IF(C18=U8,G18,IF(C24=U8,G26,IF(C26=U8,G26,IF(C32=U8,G34,IF(C34=U8,G34,IF(C40=U8,G42,IF(C42=U8,G42,IF(C48=U8,G50,IF(C50=U8,G50,IF(C56=U8,G58,IF(C58=U8,G58,IF(C64=U8,G66,IF(C66=U8,G66)))))))))))))))),"") | V16: =IF(U16="","",VLOOKUP(U16,LISTAS!$F$5:$G$204,2,0)) | W16: =IF(S16="","",IF(S16=1,400,IF(S16=2,340,IF(S16=3,300,IF(S16=4,280,IF(S16=5,270,IF(S16=6,260,IF(S16=7,250,IF(S16=8,240,IF(S16=9,200,IF(S16=10,200,IF(S16=11,200,IF(S16=12,200,IF(S16=13,200,IF(S16=14,200,IF(S16=15,200,IF(S16=16,200,IF(S16>16,"","")))))))))))))))))) | X16: =IF(S16="","",IF($V$5="NÃO","",IF(S16=1,400,IF(S16=2,340,IF(S16=3,300,IF(S16=4,280,IF(S16=5,270,IF(S16=6,260,IF(S16=7,250,IF(S16=8,240,IF(S16=9,200,IF(S16=10,200,IF(S16=11,200,IF(S16=12,200,IF(S16=13,200,IF(S16=14,200,IF(S16=15,200,IF(S16=16,200,IF(S16>16,"","")))))))))))))))))))
C17: =IF(C16="","",VLOOKUP(C16,LISTAS!$F$5:$G$204,2,0)) -> LICEU JARDIM | S17: =IF(U17<>"",1+COUNTIF(S8:S16,"1")+COUNTIF(S8:S16,"2")+COUNTIF(S8:S16,"3")+COUNTIF(S8:S16,"4")+COUNTIF(S8:S16,"5")+COUNTIF(S8:S16,"6")+COUNTIF(S8:S16,"7")+COUNTIF(S8:S16,"8")+COUNTIF(S8:S16,"9"),"") | T17: =IF(S17<>"","LUGAR","") | U17: =IF(U9<>"",IF(C8=U9,G10,IF(C10=U9,G10,IF(C16=U9,G18,IF(C18=U9,G18,IF(C24=U9,G26,IF(C26=U9,G26,IF(C32=U9,G34,IF(C34=U9,G34,IF(C40=U9,G42,IF(C42=U9,G42,IF(C48=U9,G50,IF(C50=U9,G50,IF(C56=U9,G58,IF(C58=U9,G58,IF(C64=U9,G66,IF(C66=U9,G66)))))))))))))))),"") | V17: =IF(U17="","",VLOOKUP(U17,LISTAS!$F$5:$G$204,2,0)) | W17: =IF(S17="","",IF(S17=1,400,IF(S17=2,340,IF(S17=3,300,IF(S17=4,280,IF(S17=5,270,IF(S17=6,260,IF(S17=7,250,IF(S17=8,240,IF(S17=9,200,IF(S17=10,200,IF(S17=11,200,IF(S17=12,200,IF(S17=13,200,IF(S17=14,200,IF(S17=15,200,IF(S17=16,200,IF(S17>16,"","")))))))))))))))))) | X17: =IF(S17="","",IF($V$5="NÃO","",IF(S17=1,400,IF(S17=2,340,IF(S17=3,300,IF(S17=4,280,IF(S17=5,270,IF(S17=6,260,IF(S17=7,250,IF(S17=8,240,IF(S17=9,200,IF(S17=10,200,IF(S17=11,200,IF(S17=12,200,IF(S17=13,200,IF(S17=14,200,IF(S17=15,200,IF(S17=16,200,IF(S17>16,"","")))))))))))))))))))
B18: 9 | D18: 0 | E18: =IF(D18<>"",D18,"") -> 0 | F18: =IF(D18<>"",IF(C18="","",C18),"") | G18: =VLOOKUP(G16,E16:F18,2,0) | S18: =IF(U18<>"",1+COUNTIF(S8:S17,"1")+COUNTIF(S8:S17,"2")+COUNTIF(S8:S17,"3")+COUNTIF(S8:S17,"4")+COUNTIF(S8:S17,"5")+COUNTIF(S8:S17,"6")+COUNTIF(S8:S17,"7")+COUNTIF(S8:S17,"8")+COUNTIF(S8:S17,"9")+COUNTIF(S8:S17,"10"),"") | T18: =IF(S18<>"","LUGAR","") | U18: =IF(U10<>"",IF(C8=U10,G10,IF(C10=U10,G10,IF(C16=U10,G18,IF(C18=U10,G18,IF(C24=U10,G26,IF(C26=U10,G26,IF(C32=U10,G34,IF(C34=U10,G34,IF(C40=U10,G42,IF(C42=U10,G42,IF(C48=U10,G50,IF(C50=U10,G50,IF(C56=U10,G58,IF(C58=U10,G58,IF(C64=U10,G66,IF(C66=U10,G66)))))))))))))))),"") | V18: =IF(U18="","",VLOOKUP(U18,LISTAS!$F$5:$G$204,2,0)) | W18: =IF(S18="","",IF(S18=1,400,IF(S18=2,340,IF(S18=3,300,IF(S18=4,280,IF(S18=5,270,IF(S18=6,260,IF(S18=7,250,IF(S18=8,240,IF(S18=9,200,IF(S18=10,200,IF(S18=11,200,IF(S18=12,200,IF(S18=13,200,IF(S18=14,200,IF(S18=15,200,IF(S18=16,200,IF(S18>16,"","")))))))))))))))))) | X18: =IF(S18="","",IF($V$5="NÃO","",IF(S18=1,400,IF(S18=2,340,IF(S18=3,300,IF(S18=4,280,IF(S18=5,270,IF(S18=6,260,IF(S18=7,250,IF(S18=8,240,IF(S18=9,200,IF(S18=10,200,IF(S18=11,200,IF(S18=12,200,IF(S18=13,200,IF(S18=14,200,IF(S18=15,200,IF(S18=16,200,IF(S18>16,"","")))))))))))))))))))
C19: =IF(C18="","",VLOOKUP(C18,LISTAS!$F$5:$G$204,2,0)) | S19: =IF(U19<>"",1+COUNTIF(S8:S18,"1")+COUNTIF(S8:S18,"2")+COUNTIF(S8:S18,"3")+COUNTIF(S8:S18,"4")+COUNTIF(S8:S18,"5")+COUNTIF(S8:S18,"6")+COUNTIF(S8:S18,"7")+COUNTIF(S8:S18,"8")+COUNTIF(S8:S18,"9")+COUNTIF(S8:S18,"10")+COUNTIF(S8:S18,"11"),"") | T19: =IF(S19<>"","LUGAR","") | U19: =IF(U11<>"",IF(C8=U11,G10,IF(C10=U11,G10,IF(C16=U11,G18,IF(C18=U11,G18,IF(C24=U11,G26,IF(C26=U11,G26,IF(C32=U11,G34,IF(C34=U11,G34,IF(C40=U11,G42,IF(C42=U11,G42,IF(C48=U11,G50,IF(C50=U11,G50,IF(C56=U11,G58,IF(C58=U11,G58,IF(C64=U11,G66,IF(C66=U11,G66)))))))))))))))),"") | V19: =IF(U19="","",VLOOKUP(U19,LISTAS!$F$5:$G$204,2,0)) | W19: =IF(S19="","",IF(S19=1,400,IF(S19=2,340,IF(S19=3,300,IF(S19=4,280,IF(S19=5,270,IF(S19=6,260,IF(S19=7,250,IF(S19=8,240,IF(S19=9,200,IF(S19=10,200,IF(S19=11,200,IF(S19=12,200,IF(S19=13,200,IF(S19=14,200,IF(S19=15,200,IF(S19=16,200,IF(S19>16,"","")))))))))))))))))) | X19: =IF(S19="","",IF($V$5="NÃO","",IF(S19=1,400,IF(S19=2,340,IF(S19=3,300,IF(S19=4,280,IF(S19=5,270,IF(S19=6,260,IF(S19=7,250,IF(S19=8,240,IF(S19=9,200,IF(S19=10,200,IF(S19=11,200,IF(S19=12,200,IF(S19=13,200,IF(S19=14,200,IF(S19=15,200,IF(S19=16,200,IF(S19>16,"","")))))))))))))))))))
K20: =IF(H12<>"",IF(H14<>"",IF(H12=H14,"",IF(H12>H14,G12,G14)),""),"") -> CRISTIANO, VITOR, JOÃO, LORENZO | L20: 1 | M20: =IF(L20<>"",L20,"") -> 1 | N20: =IF(L20<>"",IF(K20="","",K20),"") -> CRISTIANO, VITOR, JOÃO, LORENZO | O20: =IF(M20<>"",IF(M22<>"",SMALL(M20:N22,1),""),"") -> 0 | S20: =IF(U20<>"",1+COUNTIF(S8:S19,"1")+COUNTIF(S8:S19,"2")+COUNTIF(S8:S19,"3")+COUNTIF(S8:S19,"4")+COUNTIF(S8:S19,"5")+COUNTIF(S8:S19,"6")+COUNTIF(S8:S19,"7")+COUNTIF(S8:S19,"8")+COUNTIF(S8:S19,"9")+COUNTIF(S8:S19,"10")+COUNTIF(S8:S19,"11")+COUNTIF(S8:S19,"12"),"") | T20: =IF(S20<>"","LUGAR","") | U20: =IF(U12<>"",IF(C8=U12,G10,IF(C10=U12,G10,IF(C16=U12,G18,IF(C18=U12,G18,IF(C24=U12,G26,IF(C26=U12,G26,IF(C32=U12,G34,IF(C34=U12,G34,IF(C40=U12,G42,IF(C42=U12,G42,IF(C48=U12,G50,IF(C50=U12,G50,IF(C56=U12,G58,IF(C58=U12,G58,IF(C64=U12,G66,IF(C66=U12,G66)))))))))))))))),"") | V20: =IF(U20="","",VLOOKUP(U20,LISTAS!$F$5:$G$204,2,0)) | W20: =IF(S20="","",IF(S20=1,400,IF(S20=2,340,IF(S20=3,300,IF(S20=4,280,IF(S20=5,270,IF(S20=6,260,IF(S20=7,250,IF(S20=8,240,IF(S20=9,200,IF(S20=10,200,IF(S20=11,200,IF(S20=12,200,IF(S20=13,200,IF(S20=14,200,IF(S20=15,200,IF(S20=16,200,IF(S20>16,"","")))))))))))))))))) | X20: =IF(S20="","",IF($V$5="NÃO","",IF(S20=1,400,IF(S20=2,340,IF(S20=3,300,IF(S20=4,280,IF(S20=5,270,IF(S20=6,260,IF(S20=7,250,IF(S20=8,240,IF(S20=9,200,IF(S20=10,200,IF(S20=11,200,IF(S20=12,200,IF(S20=13,200,IF(S20=14,200,IF(S20=15,200,IF(S20=16,200,IF(S20>16,"","")))))))))))))))))))
K21: =IF(K20="","",VLOOKUP(K20,LISTAS!$F$5:$G$204,2,0)) -> LICEU JARDIM | S21: =IF(U21<>"",1+COUNTIF(S8:S20,"1")+COUNTIF(S8:S20,"2")+COUNTIF(S8:S20,"3")+COUNTIF(S8:S20,"4")+COUNTIF(S8:S20,"5")+COUNTIF(S8:S20,"6")+COUNTIF(S8:S20,"7")+COUNTIF(S8:S20,"8")+COUNTIF(S8:S20,"9")+COUNTIF(S8:S20,"10")+COUNTIF(S8:S20,"11")+COUNTIF(S8:S20,"12")+COUNTIF(S8:S20,"13"),"") | T21: =IF(S21<>"","LUGAR","") | U21: =IF(U13<>"",IF(C8=U13,G10,IF(C10=U13,G10,IF(C16=U13,G18,IF(C18=U13,G18,IF(C24=U13,G26,IF(C26=U13,G26,IF(C32=U13,G34,IF(C34=U13,G34,IF(C40=U13,G42,IF(C42=U13,G42,IF(C48=U13,G50,IF(C50=U13,G50,IF(C56=U13,G58,IF(C58=U13,G58,IF(C64=U13,G66,IF(C66=U13,G66)))))))))))))))),"") | V21: =IF(U21="","",VLOOKUP(U21,LISTAS!$F$5:$G$204,2,0)) | W21: =IF(S21="","",IF(S21=1,400,IF(S21=2,340,IF(S21=3,300,IF(S21=4,280,IF(S21=5,270,IF(S21=6,260,IF(S21=7,250,IF(S21=8,240,IF(S21=9,200,IF(S21=10,200,IF(S21=11,200,IF(S21=12,200,IF(S21=13,200,IF(S21=14,200,IF(S21=15,200,IF(S21=16,200,IF(S21>16,"","")))))))))))))))))) | X21: =IF(S21="","",IF($V$5="NÃO","",IF(S21=1,400,IF(S21=2,340,IF(S21=3,300,IF(S21=4,280,IF(S21=5,270,IF(S21=6,260,IF(S21=7,250,IF(S21=8,240,IF(S21=9,200,IF(S21=10,200,IF(S21=11,200,IF(S21=12,200,IF(S21=13,200,IF(S21=14,200,IF(S21=15,200,IF(S21=16,200,IF(S21>16,"","")))))))))))))))))))
K22: =IF(H28<>"",IF(H30<>"",IF(H28=H30,"",IF(H28>H30,G28,G30)),""),"") -> MIGUEL, ENZO, GABRIEL, RAFAEL | L22: 0 | M22: =IF(L22<>"",L22,"") -> 0 | N22: =IF(L22<>"",IF(K22="","",K22),"") -> MIGUEL, ENZO, GABRIEL, RAFAEL | O22: =VLOOKUP(O20,M20:N22,2,0) -> MIGUEL, ENZO, GABRIEL, RAFAEL | S22: =IF(U22<>"",1+COUNTIF(S8:S21,"1")+COUNTIF(S8:S21,"2")+COUNTIF(S8:S21,"3")+COUNTIF(S8:S21,"4")+COUNTIF(S8:S21,"5")+COUNTIF(S8:S21,"6")+COUNTIF(S8:S21,"7")+COUNTIF(S8:S21,"8")+COUNTIF(S8:S21,"9")+COUNTIF(S8:S21,"10")+COUNTIF(S8:S21,"11")+COUNTIF(S8:S21,"12")+COUNTIF(S8:S21,"13")+COUNTIF(S8:S21,"14"),"") | T22: =IF(S22<>"","LUGAR","") | U22: =IF(U14<>"",IF(C8=U14,G10,IF(C10=U14,G10,IF(C16=U14,G18,IF(C18=U14,G18,IF(C24=U14,G26,IF(C26=U14,G26,IF(C32=U14,G34,IF(C34=U14,G34,IF(C40=U14,G42,IF(C42=U14,G42,IF(C48=U14,G50,IF(C50=U14,G50,IF(C56=U14,G58,IF(C58=U14,G58,IF(C64=U14,G66,IF(C66=U14,G66)))))))))))))))),"") | V22: =IF(U22="","",VLOOKUP(U22,LISTAS!$F$5:$G$204,2,0)) | W22: =IF(S22="","",IF(S22=1,400,IF(S22=2,340,IF(S22=3,300,IF(S22=4,280,IF(S22=5,270,IF(S22=6,260,IF(S22=7,250,IF(S22=8,240,IF(S22=9,200,IF(S22=10,200,IF(S22=11,200,IF(S22=12,200,IF(S22=13,200,IF(S22=14,200,IF(S22=15,200,IF(S22=16,200,IF(S22>16,"","")))))))))))))))))) | X22: =IF(S22="","",IF($V$5="NÃO","",IF(S22=1,400,IF(S22=2,340,IF(S22=3,300,IF(S22=4,280,IF(S22=5,270,IF(S22=6,260,IF(S22=7,250,IF(S22=8,240,IF(S22=9,200,IF(S22=10,200,IF(S22=11,200,IF(S22=12,200,IF(S22=13,200,IF(S22=14,200,IF(S22=15,200,IF(S22=16,200,IF(S22>16,"","")))))))))))))))))))
K23: =IF(K22="","",VLOOKUP(K22,LISTAS!$F$5:$G$204,2,0)) -> STAGIUM - DIAD | S23: =IF(U23<>"",1+COUNTIF(S8:S22,"1")+COUNTIF(S8:S22,"2")+COUNTIF(S8:S22,"3")+COUNTIF(S8:S22,"4")+COUNTIF(S8:S22,"5")+COUNTIF(S8:S22,"6")+COUNTIF(S8:S22,"7")+COUNTIF(S8:S22,"8")+COUNTIF(S8:S22,"9")+COUNTIF(S8:S22,"10")+COUNTIF(S8:S22,"11")+COUNTIF(S8:S22,"12")+COUNTIF(S8:S22,"13")+COUNTIF(S8:S22,"14")+COUNTIF(S8:S22,"15"),"") | T23: =IF(S23<>"","LUGAR","") | U23: =IF(U15<>"",IF(C8=U15,G10,IF(C10=U15,G10,IF(C16=U15,G18,IF(C18=U15,G18,IF(C24=U15,G26,IF(C26=U15,G26,IF(C32=U15,G34,IF(C34=U15,G34,IF(C40=U15,G42,IF(C42=U15,G42,IF(C48=U15,G50,IF(C50=U15,G50,IF(C56=U15,G58,IF(C58=U15,G58,IF(C64=U15,G66,IF(C66=U15,G66)))))))))))))))),"") | V23: =IF(U23="","",VLOOKUP(U23,LISTAS!$F$5:$G$204,2,0)) | W23: =IF(S23="","",IF(S23=1,400,IF(S23=2,340,IF(S23=3,300,IF(S23=4,280,IF(S23=5,270,IF(S23=6,260,IF(S23=7,250,IF(S23=8,240,IF(S23=9,200,IF(S23=10,200,IF(S23=11,200,IF(S23=12,200,IF(S23=13,200,IF(S23=14,200,IF(S23=15,200,IF(S23=16,200,IF(S23>16,"","")))))))))))))))))) | X23: =IF(S23="","",IF($V$5="NÃO","",IF(S23=1,400,IF(S23=2,340,IF(S23=3,300,IF(S23=4,280,IF(S23=5,270,IF(S23=6,260,IF(S23=7,250,IF(S23=8,240,IF(S23=9,200,IF(S23=10,200,IF(S23=11,200,IF(S23=12,200,IF(S23=13,200,IF(S23=14,200,IF(S23=15,200,IF(S23=16,200,IF(S23>16,"","")))))))))))))))))))
B24: 6 | C24: HENRIQUE, LORENZO, LUCAS, VINICIUS | D24: 1 | E24: =IF(D24<>"",D24,"") -> 1 | F24: =IF(D24<>"",IF(C24="","",C24),"") -> HENRIQUE, LORENZO, LUCAS, VINICIUS | G24: =IF(E24<>"",IF(E26<>"",SMALL(E24:F26,1),""),"") -> 0
C25: =IF(C24="","",VLOOKUP(C24,LISTAS!$F$5:$G$204,2,0)) -> LICEU JARDIM
B26: 11 | D26: 0 | E26: =IF(D26<>"",D26,"") -> 0 | F26: =IF(D26<>"",IF(C26="","",C26),"") | G26: =VLOOKUP(G24,E24:F26,2,0)
C27: =IF(C26="","",VLOOKUP(C26,LISTAS!$F$5:$G$204,2,0))
G28: =IF(D24<>"",IF(D26<>"",IF(D24=D26,"",IF(D24>D26,C24,C26)),""),"") -> HENRIQUE, LORENZO, LUCAS, VINICIUS | H28: 0 | I28: =IF(H28<>"",H28,"") -> 0 | J28: =IF(H28<>"",IF(G28="","",G28),"") -> HENRIQUE, LORENZO, LUCAS, VINICIUS | K28: =IF(I28<>"",IF(I30<>"",SMALL(I28:J30,1),""),"") -> 0
G29: =IF(G28="","",VLOOKUP(G28,LISTAS!$F$5:$G$204,2,0)) -> LICEU JARDIM
G30: =IF(D32<>"",IF(D34<>"",IF(D32=D34,"",IF(D32>D34,C32,C34)),""),"") -> MIGUEL, ENZO, GABRIEL, RAFAEL | H30: 1 | I30: =IF(H30<>"",H30,"") -> 1 | J30: =IF(H30<>"",IF(G30="","",G30),"") -> MIGUEL, ENZO, GABRIEL, RAFAEL | K30: =VLOOKUP(K28,I28:J30,2,0) -> HENRIQUE, LORENZO, LUCAS, VINICIUS
G31: =IF(G30="","",VLOOKUP(G30,LISTAS!$F$5:$G$204,2,0)) -> STAGIUM - DIAD
B32: 4 | C32: MIGUEL, ENZO, GABRIEL, RAFAEL | D32: 1 | E32: =IF(D32<>"",D32,"") -> 1 | F32: =IF(D32<>"",IF(C32="","",C32),"") -> MIGUEL, ENZO, GABRIEL, RAFAEL | G32: =IF(E32<>"",IF(E34<>"",SMALL(E32:F34,1),""),"") -> 0
C33: =IF(C32="","",VLOOKUP(C32,LISTAS!$F$5:$G$204,2,0)) -> STAGIUM - DIAD
B34: 13 | D34: 0 | E34: =IF(D34<>"",D34,"") -> 0 | F34: =IF(D34<>"",IF(C34="","",C34),"") | G34: =VLOOKUP(G32,E32:F34,2,0)
C35: =IF(C34="","",VLOOKUP(C34,LISTAS!$F$5:$G$204,2,0))
O36: =IF(L20<>"",IF(L22<>"",IF(L20=L22,"",IF(L20>L22,K20,K22)),""),"") -> CRISTIANO, VITOR, JOÃO, LORENZO | P36: 1
O37: =IF(O36="","",VLOOKUP(O36,LISTAS!$F$5:$G$204,2,0)) -> LICEU JARDIM
O38: =IF(L52<>"",IF(L54<>"",IF(L52=L54,"",IF(L52>L54,K52,K54)),""),"") -> LORENZO, GAEL, RICARDO | P38: 0
O39: =IF(O38="","",VLOOKUP(O38,LISTAS!$F$5:$G$204,2,0)) -> ARBOS SCS
B40: 3 | D40: 0 | E40: =IF(D40<>"",D40,"") -> 0 | F40: =IF(D40<>"",IF(C40="","",C40),"") | G40: =IF(E40<>"",IF(E42<>"",SMALL(E40:F42,1),""),"") -> 0 | V40: =IF(U40="","",VLOOKUP(U40,LISTAS!$F$5:$G$204,2,0)) | W40: =IF(S40="","",IF(S40=1,400,IF(S40=2,340,IF(S40=3,300,IF(S40=4,280,IF(S40=5,270,IF(S40=6,260,IF(S40=7,250,IF(S40=8,240,IF(S40=9,200,IF(S40=10,200,IF(S40=11,200,IF(S40=12,200,IF(S40=13,200,IF(S40=14,200,IF(S40=15,200,IF(S40=16,200,IF(S40>16,"","")))))))))))))))))) | X40: =IF(S40="","",IF($V$5="NÃO","",IF(S40=1,400,IF(S40=2,340,IF(S40=3,300,IF(S40=4,280,IF(S40=5,270,IF(S40=6,260,IF(S40=7,250,IF(S40=8,240,IF(S40=9,200,IF(S40=10,200,IF(S40=11,200,IF(S40=12,200,IF(S40=13,200,IF(S40=14,200,IF(S40=15,200,IF(S40=16,200,IF(S40>16,"","")))))))))))))))))))
C41: =IF(C40="","",VLOOKUP(C40,LISTAS!$F$5:$G$204,2,0))
B42: 14 | C42: GUILHERME, GUILHERME, MATHEUS | D42: 1 | E42: =IF(D42<>"",D42,"") -> 1 | F42: =IF(D42<>"",IF(C42="","",C42),"") -> GUILHERME, GUILHERME, MATHEUS | G42: =VLOOKUP(G40,E40:F42,2,0) | V42: =IF(U42="","",VLOOKUP(U42,LISTAS!$F$5:$G$204,2,0)) | W42: =IF(S42="","",IF(S42=1,400,IF(S42=2,340,IF(S42=3,300,IF(S42=4,280,IF(S42=5,270,IF(S42=6,260,IF(S42=7,250,IF(S42=8,240,IF(S42=9,200,IF(S42=10,200,IF(S42=11,200,IF(S42=12,200,IF(S42=13,200,IF(S42=14,200,IF(S42=15,200,IF(S42=16,200,IF(S42>16,"","")))))))))))))))))) | X42: =IF(S42="","",IF($V$5="NÃO","",IF(S42=1,400,IF(S42=2,340,IF(S42=3,300,IF(S42=4,280,IF(S42=5,270,IF(S42=6,260,IF(S42=7,250,IF(S42=8,240,IF(S42=9,200,IF(S42=10,200,IF(S42=11,200,IF(S42=12,200,IF(S42=13,200,IF(S42=14,200,IF(S42=15,200,IF(S42=16,200,IF(S42>16,"","")))))))))))))))))))
C43: =IF(C42="","",VLOOKUP(C42,LISTAS!$F$5:$G$204,2,0)) -> ARBOS S.A
G44: =IF(D40<>"",IF(D42<>"",IF(D40=D42,"",IF(D40>D42,C40,C42)),""),"") -> GUILHERME, GUILHERME, MATHEUS | H44: 1 | I44: =IF(H44<>"",H44,"") -> 1 | J44: =IF(H44<>"",IF(G44="","",G44),"") -> GUILHERME, GUILHERME, MATHEUS | K44: =IF(I44<>"",IF(I46<>"",SMALL(I44:J46,1),""),"") -> 0 | V44: =IF(U44="","",VLOOKUP(U44,LISTAS!$F$5:$G$204,2,0)) | W44: =IF(S44="","",IF(S44=1,400,IF(S44=2,340,IF(S44=3,300,IF(S44=4,280,IF(S44=5,270,IF(S44=6,260,IF(S44=7,250,IF(S44=8,240,IF(S44=9,200,IF(S44=10,200,IF(S44=11,200,IF(S44=12,200,IF(S44=13,200,IF(S44=14,200,IF(S44=15,200,IF(S44=16,200,IF(S44>16,"","")))))))))))))))))) | X44: =IF(S44="","",IF($V$5="NÃO","",IF(S44=1,400,IF(S44=2,340,IF(S44=3,300,IF(S44=4,280,IF(S44=5,270,IF(S44=6,260,IF(S44=7,250,IF(S44=8,240,IF(S44=9,200,IF(S44=10,200,IF(S44=11,200,IF(S44=12,200,IF(S44=13,200,IF(S44=14,200,IF(S44=15,200,IF(S44=16,200,IF(S44>16,"","")))))))))))))))))))
...

Sheet 13F
B5: SUB 14 FEMININO | S5: SUB 14 FEMININO | U5: PONTUAÇÃO ESCOLA: | V5: SIM
B6: S É R I E O U R O | S6: S É R I E O U R O
S7: CLASSIFICAÇÃO | U7: NOMES | V7: ESCOLA | W7: PONTUAÇÃO ALUNO | X7: PONTUAÇÃO ESCOLA
B8: 1 | C8: RAYANE, ISADORA, BIANCA | D8: 1 | E8: =IF(D8<>"",D8,"") -> 1 | F8: =IF(D8<>"",IF(C8="","",C8),"") -> RAYANE, ISADORA, BIANCA | G8: =IF(E8<>"",IF(E10<>"",SMALL(E8:F10,1),""),"") -> 0 | S8: =IF(U8<>"",1,"") -> 1 | T8: =IF(S8<>"","LUGAR","") -> LUGAR | U8: =IF(P35<>"",IF(P37<>"",IF(P35=P37,"",IF(P35>P37,O35,O37)),""),"") -> RAYANE, ISADORA, BIANCA | V8: =IF(U8="","",VLOOKUP(U8,LISTAS!$F$5:$G$204,2,0)) -> SÃO JOSÉ - S.A | W8: =IF(S8="","",IF(S8=1,400,IF(S8=2,340,IF(S8=3,300,IF(S8=4,280,IF(S8=5,270,IF(S8=6,260,IF(S8=7,250,IF(S8=8,240,IF(S8=9,200,IF(S8=10,200,IF(S8=11,200,IF(S8=12,200,IF(S8=13,200,IF(S8=14,200,IF(S8=15,200,IF(S8=16,200,IF(S8>16,"","")))))))))))))))))) -> 400 | X8: =IF(S8="","",IF($V$5="NÃO","",IF(S8=1,400,IF(S8=2,340,IF(S8=3,300,IF(S8=4,280,IF(S8=5,270,IF(S8=6,260,IF(S8=7,250,IF(S8=8,240,IF(S8=9,200,IF(S8=10,200,IF(S8=11,200,IF(S8=12,200,IF(S8=13,200,IF(S8=14,200,IF(S8=15,200,IF(S8=16,200,IF(S8>16,"",""))))))))))))))))))) -> 400
C9: =IF(C8="","",VLOOKUP(C8,LISTAS!$F$5:$G$204,2,0)) -> SÃO JOSÉ - S.A | S9: =IF(U9<>"",1+COUNTIF(S8,"1"),"") -> 2 | T9: =IF(S9<>"","LUGAR","") -> LUGAR | U9: =IF(P35<>"",IF(P37<>"",IF(P35=P37,"",IF(P35<P37,O35,O37)),""),"") -> LORENA, BARBARA, FERNANDA, MANUELA | V9: =IF(U9="","",VLOOKUP(U9,LISTAS!$F$5:$G$204,2,0)) -> SÃO JOSÉ - S.A | W9: =IF(S9="","",IF(S9=1,400,IF(S9=2,340,IF(S9=3,300,IF(S9=4,280,IF(S9=5,270,IF(S9=6,260,IF(S9=7,250,IF(S9=8,240,IF(S9=9,200,IF(S9=10,200,IF(S9=11,200,IF(S9=12,200,IF(S9=13,200,IF(S9=14,200,IF(S9=15,200,IF(S9=16,200,IF(S9>16,"","")))))))))))))))))) -> 340 | X9: =IF(S9="","",IF($V$5="NÃO","",IF(S9=1,400,IF(S9=2,340,IF(S9=3,300,IF(S9=4,280,IF(S9=5,270,IF(S9=6,260,IF(S9=7,250,IF(S9=8,240,IF(S9=9,200,IF(S9=10,200,IF(S9=11,200,IF(S9=12,200,IF(S9=13,200,IF(S9=14,200,IF(S9=15,200,IF(S9=16,200,IF(S9>16,"",""))))))))))))))))))) -> 340
B10: 16 | D10: 0 | E10: =IF(D10<>"",D10,"") -> 0 | F10: =IF(D10<>"",IF(C10="","",C10),"") | G10: =VLOOKUP(G8,E8:F10,2,0) | S10: =IF(U10<>"",1+COUNTIF(S8:S9,"1")+COUNTIF(S8:S9,"2"),"") | T10: =IF(S10<>"","LUGAR","") | U10: =IF(U8<>"",IF(K20=U8,K22,IF(K22=U8,K20,IF(K51=U8,K53,IF(K53=U8,K51)))),"") | V10: =IF(U10="","",VLOOKUP(U10,LISTAS!$F$5:$G$204,2,0)) | W10: =IF(S10="","",IF(S10=1,400,IF(S10=2,340,IF(S10=3,300,IF(S10=4,280,IF(S10=5,270,IF(S10=6,260,IF(S10=7,250,IF(S10=8,240,IF(S10=9,200,IF(S10=10,200,IF(S10=11,200,IF(S10=12,200,IF(S10=13,200,IF(S10=14,200,IF(S10=15,200,IF(S10=16,200,IF(S10>16,"","")))))))))))))))))) | X10: =IF(S10="","",IF($V$5="NÃO","",IF(S10=1,400,IF(S10=2,340,IF(S10=3,300,IF(S10=4,280,IF(S10=5,270,IF(S10=6,260,IF(S10=7,250,IF(S10=8,240,IF(S10=9,200,IF(S10=10,200,IF(S10=11,200,IF(S10=12,200,IF(S10=13,200,IF(S10=14,200,IF(S10=15,200,IF(S10=16,200,IF(S10>16,"","")))))))))))))))))))
C11: =IF(C10="","",VLOOKUP(C10,LISTAS!$F$5:$G$204,2,0)) | S11: =IF(U11<>"",1+COUNTIF(S8:S10,"1")+COUNTIF(S8:S10,"2")+COUNTIF(S8:S10,"3"),"") -> 3 | T11: =IF(S11<>"","LUGAR","") -> LUGAR | U11: =IF(U9<>"",IF(K20=U9,K22,IF(K22=U9,K20,IF(K51=U9,K53,IF(K53=U9,K51)))),"") -> ANA, BEATRIZ, MANUELA, MARIA | V11: =IF(U11="","",VLOOKUP(U11,LISTAS!$F$5:$G$204,2,0)) -> VILLARE - SCS | W11: =IF(S11="","",IF(S11=1,400,IF(S11=2,340,IF(S11=3,300,IF(S11=4,280,IF(S11=5,270,IF(S11=6,260,IF(S11=7,250,IF(S11=8,240,IF(S11=9,200,IF(S11=10,200,IF(S11=11,200,IF(S11=12,200,IF(S11=13,200,IF(S11=14,200,IF(S11=15,200,IF(S11=16,200,IF(S11>16,"","")))))))))))))))))) -> 300 | X11: =IF(S11="","",IF($V$5="NÃO","",IF(S11=1,400,IF(S11=2,340,IF(S11=3,300,IF(S11=4,280,IF(S11=5,270,IF(S11=6,260,IF(S11=7,250,IF(S11=8,240,IF(S11=9,200,IF(S11=10,200,IF(S11=11,200,IF(S11=12,200,IF(S11=13,200,IF(S11=14,200,IF(S11=15,200,IF(S11=16,200,IF(S11>16,"",""))))))))))))))))))) -> 300
G12: =IF(D8<>"",IF(D10<>"",IF(D8=D10,"",IF(D8>D10,C8,C10)),""),"") -> RAYANE, ISADORA, BIANCA | H12: 1 | I12: =IF(H12<>"",H12,"") -> 1 | J12: =IF(H12<>"",IF(G12="","",G12),"") -> RAYANE, ISADORA, BIANCA | K12: =IF(I12<>"",IF(I14<>"",SMALL(I12:J14,1),""),"") -> 0 | S12: =IF(U12<>"",1+COUNTIF(S8:S11,"1")+COUNTIF(S8:S11,"2")+COUNTIF(S8:S11,"3")+COUNTIF(S8:S11,"4"),"") | T12: =IF(S12<>"","LUGAR","") | U12: =IF(U8<>"",IF(G12=U8,G14,IF(G14=U8,G12,IF(G27=U8,G29,IF(G29=U8,G27,IF(G43=U8,G45,IF(G45=U8,G43,IF(G59=U8,G61,IF(G61=U8,G59)))))))),"") | V12: =IF(U12="","",VLOOKUP(U12,LISTAS!$F$5:$G$204,2,0)) | W12: =IF(S12="","",IF(S12=1,400,IF(S12=2,340,IF(S12=3,300,IF(S12=4,280,IF(S12=5,270,IF(S12=6,260,IF(S12=7,250,IF(S12=8,240,IF(S12=9,200,IF(S12=10,200,IF(S12=11,200,IF(S12=12,200,IF(S12=13,200,IF(S12=14,200,IF(S12=15,200,IF(S12=16,200,IF(S12>16,"","")))))))))))))))))) | X12: =IF(S12="","",IF($V$5="NÃO","",IF(S12=1,400,IF(S12=2,340,IF(S12=3,300,IF(S12=4,280,IF(S12=5,270,IF(S12=6,260,IF(S12=7,250,IF(S12=8,240,IF(S12=9,200,IF(S12=10,200,IF(S12=11,200,IF(S12=12,200,IF(S12=13,200,IF(S12=14,200,IF(S12=15,200,IF(S12=16,200,IF(S12>16,"","")))))))))))))))))))
G13: =IF(G12="","",VLOOKUP(G12,LISTAS!$F$5:$G$204,2,0)) -> SÃO JOSÉ - S.A | S13: =IF(U13<>"",1+COUNTIF(S8:S12,"1")+COUNTIF(S8:S12,"2")+COUNTIF(S8:S12,"3")+COUNTIF(S8:S12,"4")+COUNTIF(S8:S12,"5"),"") | T13: =IF(S13<>"","LUGAR","") | U13: =IF(U9<>"",IF(G12=U9,G14,IF(G14=U9,G12,IF(G27=U9,G29,IF(G29=U9,G27,IF(G43=U9,G45,IF(G45=U9,G43,IF(G59=U9,G61,IF(G61=U9,G59)))))))),"") | V13: =IF(U13="","",VLOOKUP(U13,LISTAS!$F$5:$G$204,2,0)) | W13: =IF(S13="","",IF(S13=1,400,IF(S13=2,340,IF(S13=3,300,IF(S13=4,280,IF(S13=5,270,IF(S13=6,260,IF(S13=7,250,IF(S13=8,240,IF(S13=9,200,IF(S13=10,200,IF(S13=11,200,IF(S13=12,200,IF(S13=13,200,IF(S13=14,200,IF(S13=15,200,IF(S13=16,200,IF(S13>16,"","")))))))))))))))))) | X13: =IF(S13="","",IF($V$5="NÃO","",IF(S13=1,400,IF(S13=2,340,IF(S13=3,300,IF(S13=4,280,IF(S13=5,270,IF(S13=6,260,IF(S13=7,250,IF(S13=8,240,IF(S13=9,200,IF(S13=10,200,IF(S13=11,200,IF(S13=12,200,IF(S13=13,200,IF(S13=14,200,IF(S13=15,200,IF(S13=16,200,IF(S13>16,"","")))))))))))))))))))
G14: =IF(D16<>"",IF(D18<>"",IF(D16=D18,"",IF(D16>D18,C16,C18)),""),"") | H14: 0 | I14: =IF(H14<>"",H14,"") -> 0 | J14: =IF(H14<>"",IF(G14="","",G14),"") | K14: =VLOOKUP(K12,I12:J14,2,0) | S14: =IF(U14<>"",1+COUNTIF(S8:S13,"1")+COUNTIF(S8:S13,"2")+COUNTIF(S8:S13,"3")+COUNTIF(S8:S13,"4")+COUNTIF(S8:S13,"5")+COUNTIF(S8:S13,"6"),"") | T14: =IF(S14<>"","LUGAR","") | U14: =IF(U10<>"",IF(G12=U10,G14,IF(G14=U10,G12,IF(G27=U10,G29,IF(G29=U10,G27,IF(G43=U10,G45,IF(G45=U10,G43,IF(G59=U10,G61,IF(G61=U10,G59)))))))),"") | V14: =IF(U14="","",VLOOKUP(U14,LISTAS!$F$5:$G$204,2,0)) | W14: =IF(S14="","",IF(S14=1,400,IF(S14=2,340,IF(S14=3,300,IF(S14=4,280,IF(S14=5,270,IF(S14=6,260,IF(S14=7,250,IF(S14=8,240,IF(S14=9,200,IF(S14=10,200,IF(S14=11,200,IF(S14=12,200,IF(S14=13,200,IF(S14=14,200,IF(S14=15,200,IF(S14=16,200,IF(S14>16,"","")))))))))))))))))) | X14: =IF(S14="","",IF($V$5="NÃO","",IF(S14=1,400,IF(S14=2,340,IF(S14=3,300,IF(S14=4,280,IF(S14=5,270,IF(S14=6,260,IF(S14=7,250,IF(S14=8,240,IF(S14=9,200,IF(S14=10,200,IF(S14=11,200,IF(S14=12,200,IF(S14=13,200,IF(S14=14,200,IF(S14=15,200,IF(S14=16,200,IF(S14>16,"","")))))))))))))))))))
G15: =IF(G14="","",VLOOKUP(G14,LISTAS!$F$5:$G$204,2,0)) | S15: =IF(U15<>"",1+COUNTIF(S8:S14,"1")+COUNTIF(S8:S14,"2")+COUNTIF(S8:S14,"3")+COUNTIF(S8:S14,"4")+COUNTIF(S8:S14,"5")+COUNTIF(S8:S14,"6")+COUNTIF(S8:S14,"7"),"") | T15: =IF(S15<>"","LUGAR","") | U15: =IF(U11<>"",IF(G12=U11,G14,IF(G14=U11,G12,IF(G27=U11,G29,IF(G29=U11,G27,IF(G43=U11,G45,IF(G45=U11,G43,IF(G59=U11,G61,IF(G61=U11,G59)))))))),"") | V15: =IF(U15="","",VLOOKUP(U15,LISTAS!$F$5:$G$204,2,0)) | W15: =IF(S15="","",IF(S15=1,400,IF(S15=2,340,IF(S15=3,300,IF(S15=4,280,IF(S15=5,270,IF(S15=6,260,IF(S15=7,250,IF(S15=8,240,IF(S15=9,200,IF(S15=10,200,IF(S15=11,200,IF(S15=12,200,IF(S15=13,200,IF(S15=14,200,IF(S15=15,200,IF(S15=16,200,IF(S15>16,"","")))))))))))))))))) | X15: =IF(S15="","",IF($V$5="NÃO","",IF(S15=1,400,IF(S15=2,340,IF(S15=3,300,IF(S15=4,280,IF(S15=5,270,IF(S15=6,260,IF(S15=7,250,IF(S15=8,240,IF(S15=9,200,IF(S15=10,200,IF(S15=11,200,IF(S15=12,200,IF(S15=13,200,IF(S15=14,200,IF(S15=15,200,IF(S15=16,200,IF(S15>16,"","")))))))))))))))))))
B16: 7 | D16: 0 | E16: =IF(D16<>"",D16,"") -> 0 | F16: =IF(D16<>"",IF(C16="","",C16),"") | G16: =IF(E16<>"",IF(E18<>"",SMALL(E16:F18,1),""),"") -> 0 | S16: =IF(U16<>"",1+COUNTIF(S8:S15,"1")+COUNTIF(S8:S15,"2")+COUNTIF(S8:S15,"3")+COUNTIF(S8:S15,"4")+COUNTIF(S8:S15,"5")+COUNTIF(S8:S15,"6")+COUNTIF(S8:S15,"7")+COUNTIF(S8:S15,"8"),"") | T16: =IF(S16<>"","LUGAR","") | U16: =IF(U8<>"",IF(C8=U8,G10,IF(C10=U8,G10,IF(C16=U8,G18,IF(C18=U8,G18,IF(C23=U8,G25,IF(C25=U8,G25,IF(C31=U8,G33,IF(C33=U8,G33,IF(C39=U8,G41,IF(C41=U8,G41,IF(C47=U8,G49,IF(C49=U8,G49,IF(C55=U8,G57,IF(C57=U8,G57,IF(C63=U8,G65,IF(C65=U8,G65)))))))))))))))),"") | V16: =IF(U16="","",VLOOKUP(U16,LISTAS!$F$5:$G$204,2,0)) | W16: =IF(S16="","",IF(S16=1,400,IF(S16=2,340,IF(S16=3,300,IF(S16=4,280,IF(S16=5,270,IF(S16=6,260,IF(S16=7,250,IF(S16=8,240,IF(S16=9,200,IF(S16=10,200,IF(S16=11,200,IF(S16=12,200,IF(S16=13,200,IF(S16=14,200,IF(S16=15,200,IF(S16=16,200,IF(S16>16,"","")))))))))))))))))) | X16: =IF(S16="","",IF($V$5="NÃO","",IF(S16=1,400,IF(S16=2,340,IF(S16=3,300,IF(S16=4,280,IF(S16=5,270,IF(S16=6,260,IF(S16=7,250,IF(S16=8,240,IF(S16=9,200,IF(S16=10,200,IF(S16=11,200,IF(S16=12,200,IF(S16=13,200,IF(S16=14,200,IF(S16=15,200,IF(S16=16,200,IF(S16>16,"","")))))))))))))))))))
C17: =IF(C16="","",VLOOKUP(C16,LISTAS!$F$5:$G$204,2,0)) | S17: =IF(U17<>"",1+COUNTIF(S8:S16,"1")+COUNTIF(S8:S16,"2")+COUNTIF(S8:S16,"3")+COUNTIF(S8:S16,"4")+COUNTIF(S8:S16,"5")+COUNTIF(S8:S16,"6")+COUNTIF(S8:S16,"7")+COUNTIF(S8:S16,"8")+COUNTIF(S8:S16,"9"),"") | T17: =IF(S17<>"","LUGAR","") | U17: =IF(U9<>"",IF(C8=U9,G10,IF(C10=U9,G10,IF(C16=U9,G18,IF(C18=U9,G18,IF(C23=U9,G25,IF(C25=U9,G25,IF(C31=U9,G33,IF(C33=U9,G33,IF(C39=U9,G41,IF(C41=U9,G41,IF(C47=U9,G49,IF(C49=U9,G49,IF(C55=U9,G57,IF(C57=U9,G57,IF(C63=U9,G65,IF(C65=U9,G65)))))))))))))))),"") | V17: =IF(U17="","",VLOOKUP(U17,LISTAS!$F$5:$G$204,2,0)) | W17: =IF(S17="","",IF(S17=1,400,IF(S17=2,340,IF(S17=3,300,IF(S17=4,280,IF(S17=5,270,IF(S17=6,260,IF(S17=7,250,IF(S17=8,240,IF(S17=9,200,IF(S17=10,200,IF(S17=11,200,IF(S17=12,200,IF(S17=13,200,IF(S17=14,200,IF(S17=15,200,IF(S17=16,200,IF(S17>16,"","")))))))))))))))))) | X17: =IF(S17="","",IF($V$5="NÃO","",IF(S17=1,400,IF(S17=2,340,IF(S17=3,300,IF(S17=4,280,IF(S17=5,270,IF(S17=6,260,IF(S17=7,250,IF(S17=8,240,IF(S17=9,200,IF(S17=10,200,IF(S17=11,200,IF(S17=12,200,IF(S17=13,200,IF(S17=14,200,IF(S17=15,200,IF(S17=16,200,IF(S17>16,"","")))))))))))))))))))
B18: 9 | D18: 0 | E18: =IF(D18<>"",D18,"") -> 0 | F18: =IF(D18<>"",IF(C18="","",C18),"") | G18: =VLOOKUP(G16,E16:F18,2,0) | S18: =IF(U18<>"",1+COUNTIF(S8:S17,"1")+COUNTIF(S8:S17,"2")+COUNTIF(S8:S17,"3")+COUNTIF(S8:S17,"4")+COUNTIF(S8:S17,"5")+COUNTIF(S8:S17,"6")+COUNTIF(S8:S17,"7")+COUNTIF(S8:S17,"8")+COUNTIF(S8:S17,"9")+COUNTIF(S8:S17,"10"),"") | T18: =IF(S18<>"","LUGAR","") | U18: =IF(U10<>"",IF(C8=U10,G10,IF(C10=U10,G10,IF(C16=U10,G18,IF(C18=U10,G18,IF(C23=U10,G25,IF(C25=U10,G25,IF(C31=U10,G33,IF(C33=U10,G33,IF(C39=U10,G41,IF(C41=U10,G41,IF(C47=U10,G49,IF(C49=U10,G49,IF(C55=U10,G57,IF(C57=U10,G57,IF(C63=U10,G65,IF(C65=U10,G65)))))))))))))))),"") | V18: =IF(U18="","",VLOOKUP(U18,LISTAS!$F$5:$G$204,2,0)) | W18: =IF(S18="","",IF(S18=1,400,IF(S18=2,340,IF(S18=3,300,IF(S18=4,280,IF(S18=5,270,IF(S18=6,260,IF(S18=7,250,IF(S18=8,240,IF(S18=9,200,IF(S18=10,200,IF(S18=11,200,IF(S18=12,200,IF(S18=13,200,IF(S18=14,200,IF(S18=15,200,IF(S18=16,200,IF(S18>16,"","")))))))))))))))))) | X18: =IF(S18="","",IF($V$5="NÃO","",IF(S18=1,400,IF(S18=2,340,IF(S18=3,300,IF(S18=4,280,IF(S18=5,270,IF(S18=6,260,IF(S18=7,250,IF(S18=8,240,IF(S18=9,200,IF(S18=10,200,IF(S18=11,200,IF(S18=12,200,IF(S18=13,200,IF(S18=14,200,IF(S18=15,200,IF(S18=16,200,IF(S18>16,"","")))))))))))))))))))
